Workbook

Sheet Bepalingen
B2: Bepalingen voor gebruik
B4: Het model is generiek van opzet, dat als voorbeeld kan dienen voor de financiële planning van organisaties en ondernemingen. Het model is niet zondermeer standaard toepasbaar in uw organisatie en/of uw situatie. Mogelijk moeten aanpassingen gedaan worden om het model te laten aansluiten op uw specifieke omstandigheden, eisen en wensen. Voldoende kennis van excel en financieel modelleren is noodzakelijk voor het aanpassen van het model, het geschikt maken voor een specifieke bedrijfssituatie en het gebruik van het model. Vraag advies van KYF over de geschiktheid, de benodigde aanpassingen en het gebruik van het model.
B5: Het model kan vrij gebruikt worden als aanzet voor eigen gebruik en ten behoeve van ontwikkeling van de eigen kennis.
B6: Het model kan gebruikt voor onderwijskundige doeleinden in klassikale onderwijsvormen en voor praktijkgerichte case studies na toestemming van KYF en onder de voorwaarde dat copyright en intellectuele eigendom van het model worden gerespecteerd.
B7: KnowYourFinance en/of de auteur kunnen niet verantwoordelijk worden gehouden voor een juiste werking van het model in uw specifieke organisatie/onderneming. Ook kunnen KnowYourFinance en/of de auteur niet aansprakelijk worden gesteld voor onjuistheden in het model. KnowYourFinance hecht veel waarde aan kwaliteit en een zinvol gebruik van het model. In het geval van gesignaleerde onjuistheden of onvolkomenheden, zal KnowYourFinance deze zo spoedig mogelijk oplossen, in afstemming met de gebruiker(s) van het model.
B8: KnowYourFinance en de auteur zijn niet verantwoordelijk voor besluitvorming (of achterwege blijven hiervan) op basis van het model, zowel niet in de oorspronkelijke vorm als in aangepaste vorm.
B9: KnowYourFinance is intellectueel eigenaar van het model. Het is niet toegestaan in welke vorm dan ook het model of gedeelten ervan (in oorspronkelijke of aangepaste vorm) te verspreiden of te delen met derden (tegen een vergoeding noch kosteloos), met uitzondering van deling van het model ten behoeve van gebruik en kennisdeling binnen de eigen organisatie/onderneming.

Sheet Modeltoelichting
B2: Toelichtingen bij model
B4: KnowYourFinance
B6: KnowYourFinance heeft als doel organisaties te ondersteunen bij de financiële planning, analyse en besluitvorming en de kennis over financiële analyse, planning en modelleren praktisch beschikbaar te stellen.
B7: U kunt contact opnemen met KnowYourFinance bij vragen over het model, of indien u klant-specifieke wensen en toepassingen heeft. We waarderen uw feedback over het model en het delen van uw gebruikservaringen. Wij nodigen u uit een email te sturen of onze webstite te bezoeken via onderstaande links.
B8: info@knowyourfinance.nl
B9: https://knowyourfinance.nl
B11: Model kenmerken en toepasbaarheid
B13: Model type: Meerjarenplanning resultatenrekening met brutoresultaat, balans en kasstroomoverzicht.
B14: Toepassing: Het model dient als voorbeeld voor de financiële meerjarenplanning van oa handelsorganisaties, met opbrengsten, inkoopwaarde omzet en voorraad (eind)product.
B15: Minder geschikt voor: Voor organisaties die niet sturen en rapporteren op inkoopwaarde omzet en brutoresultaat. KnowYourFinance beschikt over een standaard model die beter aansluit op de financiële sturing zonder brutoresultaat. Raadpleeg de download pagina of vraag na bij KYF.
B17: Relevante modelparameters: aantal verkopen, gemiddelde verkoopprijs, inkoopwaarde omzet, brutoresultaat en operationele kosten.
B18: De opbrengsten worden bepaald volgens de p * q methode: gemiddelde verkoopprijs (p) * verkoopaantallen (q)
... B62: - Pas de assen van de grafieken aan en de overige "vaste" teksten voor zover nodig

Sheet Afkortingen
B2: Afkortingen
B4: BS | C4: Balans
B5: EBIT | C5: Earnings Before Interest & Tax = Bedrijfsresultaat
B6: EBITDA | C6: Earnings before Interest Depreciation & Amortizion = Bedrijfsresultaat exclusief afschrijvingen
B7: EUR | C7: Euro
B8: EV | C8: Eigen vermogen
B9: FTE | C9: Full Time Equivalent = opgetelde dienstverbanden uitgedrukt in aantal volledige dienstverbanden
B10: KSO | C10: Kasstroomoverzicht
B11: LLS | C11: Langlopende schulden
B12: MJP | C12: Meerjarenplanning
B13: MVA | C13: Materiële vaste activa
B14: P | C14: Prognose
B15: p | C15: Kleine letter p = prijs
... B19: TV | C19: Totale vermogen

Sheet OUTPUT->

Sheet ErrorChecks
B2: Error checks
B4: Model checks | D4: Sheet | E4: Check
B5: =SUM(B6:B25) -> 0 | D5: ErrorChecks | E5: Master check
B8: =SUM('1. Realisatie RR en BS'!66:66) -> 0 | D8: 1. Realisatie RR en BS | E8: Balans historische activa en passiva sluiten niet aan
B9: =SUM('1. Realisatie RR en BS'!72:72) -> 0 | D9: 1. Realisatie RR en BS | E9: Historische EV mutatie sluit niet aan bij nettoresultaat en dividend uitkering
B11: =SUM('2. Prognose RR'!76:76) -> 0 | D11: 2. Prognose RR | E11: Resultaat rapport RR en 2. Prognose RR sluiten niet aan
B12: =SUM('2. Prognose RR'!80:80) -> 0 | D12: 2. Prognose RR | E12: Historisch resultaat in 1. Realisatie RR en BS en in 2. Prognose RR sluiten niet aan
B13: =SUM('2. Prognose RR'!86:86) -> 0 | D13: 2. Prognose RR | E13: Afschrijvingen 3. Prognose BS zijn ongelijk aan afschrijvingslasten 3. Prognose RR
B15: =SUM('3. Prognose BS'!64:64) -> 0 | D15: 3. Prognose BS | E15: Beginstand voorzieningen in laatste realisatiejaar is ongelijk aan Eindstand vorig jaar
B16: =SUM('3. Prognose BS'!74:74) -> 0 | D16: 3. Prognose BS | E16: Beginstand langlopende schuld in laatste realisatiejaar is ongelijk aan Eindstand vorig jaar
B18: =SUM('3. Prognose BS'!132:132) -> 0 | D18: 3. Prognose BS | E18: Activa en passiva zijn ongelijk
B19: =SUM('3. Prognose BS'!136:136) -> 0 | D19: 3. Prognose BS | E19: Activa en passiva in 3. Prognose BS zijn ongelijk aan rapport Balans
B21: =SUM(Balans!33:33) -> 0 | D21: Balans | E21: Activa en passiva sluiten niet aan
B23: =SUM(Kasstroomoverzicht!44:44) -> 0 | D23: Kasstroomoverzicht | E23: Eindstand liquide middelen KSO sluit niet aan met Balans

Sheet Dashboard
B2: Dashboard | T2: KnowYourFinance© | W2: Master check | Y2: =ErrorChecks!B5 -> 0 | AB2: Brondata-> | AF2: Brondata
B3: Balans en Resultatenrekening EUR bedragen x 1.000 | AI3: ="R "&RIGHT(RR!E5,2) -> R 24 | AJ3: ="R "&VALUE(RIGHT(AI3,2))+1 -> R 25 | AK3: ="P "&VALUE(RIGHT(AJ3,2))+1 -> P 26 | AL3: ="P "&VALUE(RIGHT(AK3,2))+1 -> P 27 | AM3: ="P "&VALUE(RIGHT(AL3,2))+1 -> P 28 | AN3: ="P "&VALUE(RIGHT(AM3,2))+1 -> P 29 | AO3: ="P "&VALUE(RIGHT(AN3,2))+1 -> P 30
B4: Operationeel
AF5: Aantal producten | AI5: =Ratios!E8 -> 1200 | AJ5: =Ratios!F8 -> 1200 | AK5: =Ratios!G8 -> 1200 | AL5: =Ratios!H8 -> 1300 | AM5: =Ratios!I8 -> 1400 | AN5: =Ratios!J8 -> 1500 | AO5: =Ratios!K8 -> 1500
AF6: Gem verkoopprijs | AI6: =Ratios!E9 -> 416.66667 | AJ6: =Ratios!F9 -> 380 | AK6: =Ratios!G9 -> 387.6 | AL6: =Ratios!H9 -> 395.352 | AM6: =Ratios!I9 -> 403.25904 | AN6: =Ratios!J9 -> 411.32422 | AO6: =Ratios!K9 -> 419.55071
AF8: Productgroep | AI8: ='2. Prognose RR'!E11 -> 500 | AJ8: ='2. Prognose RR'!F11 -> 456 | AK8: ='2. Prognose RR'!G11 -> 465.12 | AL8: ='2. Prognose RR'!H11 -> 513.9576 | AM8: ='2. Prognose RR'!I11 -> 564.56266 | AN8: ='2. Prognose RR'!J11 -> 616.98633 | AO8: ='2. Prognose RR'!K11 -> 629.32606
AF9: Overige | AI9: ='2. Prognose RR'!E17 -> 23 | AJ9: ='2. Prognose RR'!F17 -> 23 | AK9: ='2. Prognose RR'!G17 -> 53.46 | AL9: ='2. Prognose RR'!H17 -> 23.9292 | AM9: ='2. Prognose RR'!I17 -> 24.407784 | AN9: ='2. Prognose RR'!J17 -> 24.89594 | AO9: ='2. Prognose RR'!K17 -> 25.393858
AF11: Brutomarge | AI11: =RR!E9 -> 223 | AJ11: =RR!F9 -> 159 | AK11: =RR!G9 -> 239.508 | AL11: =RR!H9 -> 229.51224 | AM11: =RR!I9 -> 250.23285 | AN11: =RR!J9 -> 271.69047 | AO11: =RR!K9 -> 277.12428
AF12: Brutomarge% | AI12: =Ratios!E13 -> 0.42638623 | AJ12: =Ratios!F13 -> 0.33194154 | AK12: =Ratios!G13 -> 0.46185352 | AL12: =Ratios!H13 -> 0.42669246 | AM12: =Ratios!I13 -> 0.42486486 | AN12: =Ratios!J13 -> 0.4232715 | AO12: =Ratios!K13 -> 0.4232715
B14: Resultaat | AF14: Resultaat | AI14: =RR!E25 -> 55 | AJ14: =RR!F25 -> 6 | AK14: =RR!G25 -> 81.456454 | AL14: =RR!H25 -> 81.03606 | AM14: =RR!I25 -> 42.30764 | AN14: =RR!J25 -> 64.929058 | AO14: =RR!K25 -> 68.159639
AF15: Resultaat % | AI15: =Ratios!E17 -> 0.10516252 | AJ15: =Ratios!F17 -> 0.012526096 | AK15: =Ratios!G17 -> 0.15707597 | AL15: =Ratios!H17 -> 0.15065635 | AM15: =Ratios!I17 -> 0.071833214 | AN15: =Ratios!J17 -> 0.10115415 | AO15: =Ratios!K17 -> 0.10410503
AF16: Rentabiliteit EV | AJ16: =Ratios!F18 -> 0.013937282 | AK16: =Ratios!G18 -> 0.17452652 | AL16: =Ratios!H18 -> 0.15063179 | AM16: =Ratios!I18 -> 0.072056381 | AN16: =Ratios!J18 -> 0.10417574 | AO16: =Ratios!K18 -> 0.10175981
AF18: Solvabiliteit | AJ18: =Ratios!F28 -> 0.67795276 | AK18: =Ratios!G28 -> 0.71925166 | AL18: =Ratios!H28 -> 0.70335129 | AM18: =Ratios!I28 -> 0.69755987 | AN18: =Ratios!J28 -> 0.7525633 | AO18: =Ratios!K28 -> 0.80159032
AF19: Debt | AJ19: =1-AJ18 -> 0.32204724 | AK19: =1-AK18 -> 0.28074834 | AL19: =1-AL18 -> 0.29664871 | AM19: =1-AM18 -> 0.30244013 | AN19: =1-AN18 -> 0.2474367 | AO19: =1-AO18 -> 0.19840968
AF21: Kasstroom | AJ21: =Kasstroomoverzicht!F37 -> -25 | AK21: =Kasstroomoverzicht!G37 -> 56.348159 | AL21: =Kasstroomoverzicht!H37 -> 174.24479 | AM21: =Kasstroomoverzicht!I37 -> -150.47608 | AN21: =Kasstroomoverzicht!J37 -> 0.15311547 | AO21: =Kasstroomoverzicht!K37 -> 8.2123789
AF22: Stand | AI22: =Balans!E13 -> 104 | AJ22: =Balans!F13 -> 79 | AK22: =Balans!G13 -> 135.34816 | AL22: =Balans!H13 -> 309.59295 | AM22: =Balans!I13 -> 159.11687 | AN22: =Balans!J13 -> 159.26999 | AO22: =Balans!K13 -> 167.48237
AF23: Current ratio | AI23: =Ratios!E23 -> 2.3095238 | AJ23: =Ratios!F23 -> 1.8571429 | AK23: =Ratios!G23 -> 2.6582897 | AL23: =Ratios!H23 -> 2.5156169 | AM23: =Ratios!I23 -> 1.8945013 | AN23: =Ratios!J23 -> 2.1198595 | AO23: =Ratios!K23 -> 2.4124371
B24: Liquiditeit / EV | AF24: ICR | AI24: =Ratios!E21 -> 4.52 | AJ24: =Ratios!F21 -> 1.1666667 | AK24: =Ratios!G21 -> 24.283379 | AL24: =Ratios!H21 -> 11.701122 | AM24: =Ratios!I21 -> 11.675843 | AN24: =Ratios!J21 -> 24.08358 | AO24: =Ratios!K21 -> 39.072289
AF25: DSCR | AJ25: =Ratios!F22 -> 0.875 | AK25: =Ratios!G22 -> 8.1910139 | AL25: =Ratios!H22 -> 3.0973559 | AM25: =Ratios!I22 -> 2.0213992 | AN25: =Ratios!J22 -> 3.4699594 | AO25: =Ratios!K22 -> 2.8732952

Sheet RR
K1: KnowYourFinance©
B2: Resultatenrekening | M2: Master check | O2: =ErrorChecks!B5 -> 0
B4: EUR bedragen x 1.000
E5: ='1. Realisatie RR en BS'!E9 -> R 2024 | F5: ='1. Realisatie RR en BS'!F9 -> R 2025 | G5: ='1. Realisatie RR en BS'!G9 -> P 2026 | H5: ='1. Realisatie RR en BS'!H9 -> P 2027 | I5: ='1. Realisatie RR en BS'!I9 -> P 2028 | J5: ='1. Realisatie RR en BS'!J9 -> P 2029 | K5: ='1. Realisatie RR en BS'!K9 -> P 2030
B7: Opbrengsten | E7: ='2. Prognose RR'!E11+'2. Prognose RR'!E17 -> 523 | F7: ='2. Prognose RR'!F11+'2. Prognose RR'!F17 -> 479 | G7: ='2. Prognose RR'!G11+'2. Prognose RR'!G17 -> 518.58 | H7: ='2. Prognose RR'!H11+'2. Prognose RR'!H17 -> 537.8868 | I7: ='2. Prognose RR'!I11+'2. Prognose RR'!I17 -> 588.97044 | J7: ='2. Prognose RR'!J11+'2. Prognose RR'!J17 -> 641.88227 | K7: ='2. Prognose RR'!K11+'2. Prognose RR'!K17 -> 654.71992
B8: Inkoopwaarde omzet | E8: ='2. Prognose RR'!E24 -> -300 | F8: ='2. Prognose RR'!F24 -> -320 | G8: ='2. Prognose RR'!G24 -> -279.072 | H8: ='2. Prognose RR'!H24 -> -308.37456 | I8: ='2. Prognose RR'!I24 -> -338.73759 | J8: ='2. Prognose RR'!J24 -> -370.1918 | K8: ='2. Prognose RR'!K24 -> -377.59563
B9: Brutoresultaat | E9: =SUM(E7:E8) -> 223 | F9: =SUM(F7:F8) -> 159 | G9: =SUM(G7:G8) -> 239.508 | H9: =SUM(H7:H8) -> 229.51224 | I9: =SUM(I7:I8) -> 250.23285 | J9: =SUM(J7:J8) -> 271.69047 | K9: =SUM(K7:K8) -> 277.12428
B11: Verkoopkosten | E11: ='2. Prognose RR'!E33 -> -75 | F11: ='2. Prognose RR'!F33 -> -78 | G11: ='2. Prognose RR'!G33 -> -74.4192 | H11: ='2. Prognose RR'!H33 -> -102.23322 | I11: ='2. Prognose RR'!I33 -> -90.330025 | J11: ='2. Prognose RR'!J33 -> -98.717813 | K11: ='2. Prognose RR'!K33 -> -100.69217
B12: Algemene beheerskosten | E12: ='2. Prognose RR'!E38 -> -35 | F12: ='2. Prognose RR'!F38 -> -46 | G12: ='2. Prognose RR'!G38 -> -41.4864 | H12: ='2. Prognose RR'!H38 -> -43.030944 | I12: ='2. Prognose RR'!I38 -> -62.117635 | J12: ='2. Prognose RR'!J38 -> -51.350582 | K12: ='2. Prognose RR'!K38 -> -52.377593
B13: EBITDA | E13: =SUM(E9:E12) -> 113 | F13: =SUM(F9:F12) -> 35 | G13: =SUM(G9:G12) -> 123.6024 | H13: =SUM(H9:H12) -> 84.24808 | I13: =SUM(I9:I12) -> 97.785186 | J13: =SUM(J9:J12) -> 121.62208 | K13: =SUM(K9:K12) -> 124.05452
B15: Afschrijvingskosten | E15: ='2. Prognose RR'!E42 -> -50 | F15: ='2. Prognose RR'!F42 -> -60 | G15: ='2. Prognose RR'!G42 -> -19.903794 | H15: ='2. Prognose RR'!H42 -> -23 | I15: ='2. Prognose RR'!I42 -> -37 | J15: ='2. Prognose RR'!J42 -> -40 | K15: ='2. Prognose RR'!K42 -> -40
B16: Bedrijfsresultaat (EBIT) | E16: =SUM(E13:E15) -> 63 | F16: =SUM(F13:F15) -> -25 | G16: =SUM(G13:G15) -> 103.69861 | H16: =SUM(H13:H15) -> 61.24808 | I16: =SUM(I13:I15) -> 60.785186 | J16: =SUM(J13:J15) -> 81.622077 | K16: =SUM(K13:K15) -> 84.054519
B18: Niet-operationele baten/lasten | E18: ='2. Prognose RR'!E48 -> 25 | F18: ='2. Prognose RR'!F48 -> 12 | G18: ='2. Prognose RR'!G48 -> 0 | H18: ='2. Prognose RR'!H48 -> 40 | I18: ='2. Prognose RR'!I48 -> 0 | J18: ='2. Prognose RR'!J48 -> 0 | K18: ='2. Prognose RR'!K48 -> 0
B19: Verkoopresultaat vaste activa | E19: ='2. Prognose RR'!E50 -> 0 | F19: ='2. Prognose RR'!F50 -> 40 | G19: ='2. Prognose RR'!G50 -> 0 | H19: ='2. Prognose RR'!H50 -> 4 | I19: ='2. Prognose RR'!I50 -> -6 | J19: ='2. Prognose RR'!J50 -> 0 | K19: ='2. Prognose RR'!K50 -> 0
B20: Financiële baten | E20: ='2. Prognose RR'!E52 -> 12 | F20: ='2. Prognose RR'!F52 -> 12 | G20: ='2. Prognose RR'!G52 -> 10 | H20: ='2. Prognose RR'!H52 -> 10 | I20: ='2. Prognose RR'!I52 -> 10 | J20: ='2. Prognose RR'!J52 -> 10 | K20: ='2. Prognose RR'!K52 -> 10
B21: Financiële lasten | E21: ='2. Prognose RR'!E56 -> -25 | F21: ='2. Prognose RR'!F56 -> -30 | G21: ='2. Prognose RR'!G56 -> -5.09 | H21: ='2. Prognose RR'!H56 -> -7.2 | I21: ='2. Prognose RR'!I56 -> -8.375 | J21: ='2. Prognose RR'!J56 -> -5.05 | K21: ='2. Prognose RR'!K56 -> -3.175
B22: Resultaat voor belastingen (EBT) | E22: =SUM(E16:E21) -> 75 | F22: =SUM(F16:F21) -> 9 | G22: =SUM(G16:G21) -> 108.60861 | H22: =SUM(H16:H21) -> 108.04808 | I22: =SUM(I16:I21) -> 56.410186 | J22: =SUM(J16:J21) -> 86.572077 | K22: =SUM(K16:K21) -> 90.879519
B24: Belastingen | E24: ='2. Prognose RR'!E62 -> -20 | F24: ='2. Prognose RR'!F62 -> -3 | G24: ='2. Prognose RR'!G62 -> -27.152151 | H24: ='2. Prognose RR'!H62 -> -27.01202 | I24: ='2. Prognose RR'!I62 -> -14.102547 | J24: ='2. Prognose RR'!J62 -> -21.643019 | K24: ='2. Prognose RR'!K62 -> -22.71988
B25: Netto resultaat | E25: =SUM(E22:E24) -> 55 | F25: =SUM(F22:F24) -> 6 | G25: =SUM(G22:G24) -> 81.456454 | H25: =SUM(H22:H24) -> 81.03606 | I25: =SUM(I22:I24) -> 42.30764 | J25: =SUM(J22:J24) -> 64.929058 | K25: =SUM(K22:K24) -> 68.159639
B27: Dividend uitkering | E27: =-'2. Prognose RR'!E67 -> 20 | F27: =-'2. Prognose RR'!F67 -> 5 | G27: =-'2. Prognose RR'!G67 -> 10 | H27: =-'2. Prognose RR'!H67 -> 10 | I27: =-'2. Prognose RR'!I67 -> 15 | J27: =-'2. Prognose RR'!J67 -> 20 | K27: =-'2. Prognose RR'!K67 -> 20
B29: Brutoresultaat % | E29: =E9/(E7) -> 0.42638623 | F29: =F9/(F7) -> 0.33194154 | G29: =G9/(G7) -> 0.46185352 | H29: =H9/(H7) -> 0.42669246 | I29: =I9/(I7) -> 0.42486486 | J29: =J9/(J7) -> 0.4232715 | K29: =K9/(K7) -> 0.4232715
B30: EBITDA % | E30: =E13/(E7) -> 0.21606119 | F30: =F13/(F7) -> 0.073068894 | G30: =G13/(G7) -> 0.2383478 | H30: =H13/(H7) -> 0.1566279 | I30: =I13/(I7) -> 0.16602732 | J30: =J13/(J7) -> 0.18947723 | K30: =K13/(K7) -> 0.18947723
B31: EBIT% | E31: =E16/(E7) -> 0.12045889 | F31: =F16/(F7) -> -0.052192067 | G31: =G16/(G7) -> 0.19996646 | H31: =H16/(H7) -> 0.11386797 | I31: =I16/(I7) -> 0.10320584 | J31: =J16/(J7) -> 0.12716051 | K31: =K16/(K7) -> 0.12838241
B32: Resultaat % | E32: =E25/(E7) -> 0.10516252 | F32: =F25/(F7) -> 0.012526096 | G32: =G25/(G7) -> 0.15707597 | H32: =H25/(H7) -> 0.15065635 | I32: =I25/(I7) -> 0.071833214 | J32: =J25/(J7) -> 0.10115415 | K32: =K25/(K7) -> 0.10410503

Sheet Balans
K1: KnowYourFinance©
B2: Balans | M2: Master check | O2: =ErrorChecks!B5 -> 0
B4: EUR bedragen x 1.000 | E4: =IF(E33=0,"OK","CHECK") -> OK | F4: =IF(F33=0,"OK","CHECK") -> OK | G4: =IF(G33=0,"OK","CHECK") -> OK | H4: =IF(H33=0,"OK","CHECK") -> OK | I4: =IF(I33=0,"OK","CHECK") -> OK | J4: =IF(J33=0,"OK","CHECK") -> OK | K4: =IF(K33=0,"OK","CHECK") -> OK
E5: =RR!E5 -> R 2024 | F5: =RR!F5 -> R 2025 | G5: =RR!G5 -> P 2026 | H5: =RR!H5 -> P 2027 | I5: =RR!I5 -> P 2028 | J5: =RR!J5 -> P 2029 | K5: =RR!K5 -> P 2030
B7: Materiële Vaste Activa | E7: ='3. Prognose BS'!E26 -> 450 | F7: ='3. Prognose BS'!F26 -> 470 | G7: ='3. Prognose BS'!G26 -> 490.09621 | H7: ='3. Prognose BS'!H26 -> 497.09621 | I7: ='3. Prognose BS'!I26 -> 610.09621 | J7: ='3. Prognose BS'!J26 -> 610.09621 | K7: ='3. Prognose BS'!K26 -> 610.09621
B8: Vaste Activa | E8: =SUM(E7:E7) -> 450 | F8: =SUM(F7:F7) -> 470 | G8: =SUM(G7:G7) -> 490.09621 | H8: =SUM(H7:H7) -> 497.09621 | I8: =SUM(I7:I7) -> 610.09621 | J8: =SUM(J7:J7) -> 610.09621 | K8: =SUM(K7:K7) -> 610.09621
B10: Voorraden | E10: ='3. Prognose BS'!E41 -> 25 | F10: ='3. Prognose BS'!F41 -> 10 | G10: ='3. Prognose BS'!G41 -> 5.3520658 | H10: ='3. Prognose BS'!H41 -> 5.9140327 | I10: ='3. Prognose BS'!I41 -> 6.4963374 | J10: ='3. Prognose BS'!J41 -> 7.0995687 | K10: ='3. Prognose BS'!K41 -> 7.2415601
B11: Debiteuren | E11: ='3. Prognose BS'!E44 -> 60 | F11: ='3. Prognose BS'!F44 -> 61 | G11: ='3. Prognose BS'!G44 -> 38.229041 | H11: ='3. Prognose BS'!H44 -> 42.24309 | I11: ='3. Prognose BS'!I44 -> 46.40241 | J11: ='3. Prognose BS'!J44 -> 50.711205 | K11: ='3. Prognose BS'!K44 -> 51.725429
B12: Overige kortlopende activa | E12: ='3. Prognose BS'!E47 -> 5 | F12: ='3. Prognose BS'!F47 -> 6 | G12: ='3. Prognose BS'!G47 -> 2.79072 | H12: ='3. Prognose BS'!H47 -> 3.0837456 | I12: ='3. Prognose BS'!I47 -> 3.3873759 | J12: ='3. Prognose BS'!J47 -> 3.701918 | K12: ='3. Prognose BS'!K47 -> 3.7759563
B13: Liquide Middelen | E13: ='3. Prognose BS'!E49 -> 104 | F13: ='3. Prognose BS'!F49 -> 79 | G13: ='3. Prognose BS'!G49 -> 135.34816 | H13: ='3. Prognose BS'!H49 -> 309.59295 | I13: ='3. Prognose BS'!I49 -> 159.11687 | J13: ='3. Prognose BS'!J49 -> 159.26999 | K13: ='3. Prognose BS'!K49 -> 167.48237
B14: Vlottende Activa | E14: =SUM(E10:E13) -> 194 | F14: =SUM(F10:F13) -> 156 | G14: =SUM(G10:G13) -> 181.71999 | H14: =SUM(H10:H13) -> 360.83382 | I14: =SUM(I10:I13) -> 215.403 | J14: =SUM(J10:J13) -> 220.78268 | K14: =SUM(K10:K13) -> 230.22531
B16: Activa Totaal | E16: =E8+E14 -> 644 | F16: =F8+F14 -> 626 | G16: =G8+G14 -> 671.81619 | H16: =H8+H14 -> 857.93002 | I16: =I8+I14 -> 825.4992 | J16: =J8+J14 -> 830.87889 | K16: =K8+K14 -> 840.32152
B18: Eigen Vermogen | E18: ='3. Prognose BS'!E55 -> 430 | F18: ='3. Prognose BS'!F55 -> 431 | G18: ='3. Prognose BS'!G55 -> 502.45645 | H18: ='3. Prognose BS'!H55 -> 573.49251 | I18: ='3. Prognose BS'!I55 -> 600.80015 | J18: ='3. Prognose BS'!J55 -> 645.72921 | K18: ='3. Prognose BS'!K55 -> 693.88885
B20: Voorzieningen | E20: ='3. Prognose BS'!E63 -> 60 | F20: ='3. Prognose BS'!F63 -> 10 | G20: ='3. Prognose BS'!G63 -> 30 | H20: ='3. Prognose BS'!H63 -> 10 | I20: ='3. Prognose BS'!I63 -> 10 | J20: ='3. Prognose BS'!J63 -> 10 | K20: ='3. Prognose BS'!K63 -> 10
B22: Langlopende Schulden (LLS) | E22: ='3. Prognose BS'!E98 -> 70 | F22: ='3. Prognose BS'!F98 -> 101 | G22: ='3. Prognose BS'!G98 -> 71 | H22: ='3. Prognose BS'!H98 -> 131 | I22: ='3. Prognose BS'!I98 -> 101 | J22: ='3. Prognose BS'!J98 -> 71 | K22: ='3. Prognose BS'!K98 -> 41
B24: Kortlopend deel LLS | E24: =-'3. Prognose BS'!E96 -> 10 | F24: =-'3. Prognose BS'!F96 -> 10 | G24: =-'3. Prognose BS'!G96 -> 20 | H24: =-'3. Prognose BS'!H96 -> 40 | I24: =-'3. Prognose BS'!I96 -> 30 | J24: =-'3. Prognose BS'!J96 -> 40 | K24: =-'3. Prognose BS'!K96 -> 30
B25: Kortlopende schulden rentedragend | E25: ='3. Prognose BS'!E112 -> 4 | F25: ='3. Prognose BS'!F112 -> 4 | G25: ='3. Prognose BS'!G112 -> 0 | H25: ='3. Prognose BS'!H112 -> 50 | I25: ='3. Prognose BS'!I112 -> 25 | J25: ='3. Prognose BS'!J112 -> 0 | K25: ='3. Prognose BS'!K112 -> 0
B26: Crediteuren | E26: ='3. Prognose BS'!E118 -> 40 | F26: ='3. Prognose BS'!F118 -> 45 | G26: ='3. Prognose BS'!G118 -> 34.406137 | H26: ='3. Prognose BS'!H118 -> 38.018781 | I26: ='3. Prognose BS'!I118 -> 41.762169 | J26: ='3. Prognose BS'!J118 -> 45.640085 | K26: ='3. Prognose BS'!K118 -> 46.552886
B27: Overige kortlopende passiva | E27: ='3. Prognose BS'!E122 -> 30 | F27: ='3. Prognose BS'!F122 -> 25 | G27: ='3. Prognose BS'!G122 -> 13.9536 | H27: ='3. Prognose BS'!H122 -> 15.418728 | I27: ='3. Prognose BS'!I122 -> 16.93688 | J27: ='3. Prognose BS'!J122 -> 18.50959 | K27: ='3. Prognose BS'!K122 -> 18.879782
B28: Vlottende Passiva | E28: =SUM(E24:E27) -> 84 | F28: =SUM(F24:F27) -> 84 | G28: =SUM(G24:G27) -> 68.359737 | H28: =SUM(H24:H27) -> 143.43751 | I28: =SUM(I24:I27) -> 113.69905 | J28: =SUM(J24:J27) -> 104.14967 | K28: =SUM(K24:K27) -> 95.432668
B30: Passiva Totaal | E30: =E18+E20+E22+E28 -> 644 | F30: =F18+F20+F22+F28 -> 626 | G30: =G18+G20+G22+G28 -> 671.81619 | H30: =H18+H20+H22+H28 -> 857.93002 | I30: =I18+I20+I22+I28 -> 825.4992 | J30: =J18+J20+J22+J28 -> 830.87889 | K30: =K18+K20+K22+K28 -> 840.32152
B33: Check | E33: =E16-E30 -> 0 | F33: =F16-F30 -> 0 | G33: =G16-G30 -> 0 | H33: =H16-H30 -> 0 | I33: =I16-I30 -> 0 | J33: =J16-J30 -> 0 | K33: =K16-K30 -> 0

Sheet Kasstroomoverzicht
K1: KnowYourFinance©
B2: Kasstroomoverzicht | M2: Master check | O2: =ErrorChecks!B5 -> 0
B4: EUR bedragen x 1.000 | F4: =IF(F44=0,"OK","NOT OK") -> OK | G4: =IF(G44=0,"OK","NOT OK") -> OK | H4: =IF(H44=0,"OK","NOT OK") -> OK | I4: =IF(I44=0,"OK","NOT OK") -> OK | J4: =IF(J44=0,"OK","NOT OK") -> OK | K4: =IF(K44=0,"OK","NOT OK") -> OK
B5: Kasstroomoverzicht | F5: =RR!F5 -> R 2025 | G5: =RR!G5 -> P 2026 | H5: =RR!H5 -> P 2027 | I5: =RR!I5 -> P 2028 | J5: =RR!J5 -> P 2029 | K5: =RR!K5 -> P 2030
B7: =RR!B25 -> Netto resultaat | F7: =RR!F25 -> 6 | G7: =RR!G25 -> 81.456454 | H7: =RR!H25 -> 81.03606 | I7: =RR!I25 -> 42.30764 | J7: =RR!J25 -> 64.929058 | K7: =RR!K25 -> 68.159639
B9: Correcties op resultaat:
B10: Afschrijvingen | F10: =-RR!F15 -> 60 | G10: =-RR!G15 -> 19.903794 | H10: =-RR!H15 -> 23 | I10: =-RR!I15 -> 37 | J10: =-RR!J15 -> 40 | K10: =-RR!K15 -> 40
B11: Dotatie voorzieningen | F11: ='3. Prognose BS'!F60 -> 10 | G11: ='3. Prognose BS'!G60 -> 30 | H11: ='3. Prognose BS'!H60 -> 0 | I11: ='3. Prognose BS'!I60 -> 0 | J11: ='3. Prognose BS'!J60 -> 0 | K11: ='3. Prognose BS'!K60 -> 0
B12: Vrijval voorzieningen | F12: ='3. Prognose BS'!F62 -> 0 | G12: ='3. Prognose BS'!G62 -> 0 | H12: ='3. Prognose BS'!H62 -> -20 | I12: ='3. Prognose BS'!I62 -> 0 | J12: ='3. Prognose BS'!J62 -> 0 | K12: ='3. Prognose BS'!K62 -> 0
B13: =RR!B19 -> Verkoopresultaat vaste activa | F13: =-RR!F19 -> -40 | G13: =-RR!G19 -> 0 | H13: =-RR!H19 -> -4 | I13: =-RR!I19 -> 6 | J13: =-RR!J19 -> 0 | K13: =-RR!K19 -> 0
B14: Subtotaal | F14: =SUM(F7:F13) -> 36 | G14: =SUM(G7:G13) -> 131.36025 | H14: =SUM(H7:H13) -> 80.03606 | I14: =SUM(I7:I13) -> 85.30764 | J14: =SUM(J7:J13) -> 104.92906 | K14: =SUM(K7:K13) -> 108.15964
B16: Mutaties in werkkapitaal:
B17: =Balans!B10 -> Voorraden | F17: =Balans!E10-Balans!F10 -> 15 | G17: =Balans!F10-Balans!G10 -> 4.6479342 | H17: =Balans!G10-Balans!H10 -> -0.5619669 | I17: =Balans!H10-Balans!I10 -> -0.58230475 | J17: =Balans!I10-Balans!J10 -> -0.60323133 | K17: =Balans!J10-Balans!K10 -> -0.14199137
B18: =Balans!B11 -> Debiteuren | F18: =Balans!E11-Balans!F11 -> -1 | G18: =Balans!F11-Balans!G11 -> 22.770959 | H18: =Balans!G11-Balans!H11 -> -4.0140493 | I18: =Balans!H11-Balans!I11 -> -4.1593197 | J18: =Balans!I11-Balans!J11 -> -4.3087952 | K18: =Balans!J11-Balans!K11 -> -1.0142241
B19: =Balans!B12 -> Overige kortlopende activa | F19: =Balans!E12-Balans!F12 -> -1 | G19: =Balans!F12-Balans!G12 -> 3.20928 | H19: =Balans!G12-Balans!H12 -> -0.2930256 | I19: =Balans!H12-Balans!I12 -> -0.30363034 | J19: =Balans!I12-Balans!J12 -> -0.31454205 | K19: =Balans!J12-Balans!K12 -> -0.07403836
B20: =Balans!B26 -> Crediteuren | F20: =Balans!F26-Balans!E26 -> 5 | G20: =Balans!G26-Balans!F26 -> -10.593863 | H20: =Balans!H26-Balans!G26 -> 3.6126444 | I20: =Balans!I26-Balans!H26 -> 3.7433877 | J20: =Balans!J26-Balans!I26 -> 3.8779157 | K20: =Balans!K26-Balans!J26 -> 0.9128017
B21: =Balans!B27 -> Overige kortlopende passiva | F21: =Balans!F27-Balans!E27 -> -5 | G21: =Balans!G27-Balans!F27 -> -11.0464 | H21: =Balans!H27-Balans!G27 -> 1.465128 | I21: =Balans!I27-Balans!H27 -> 1.5181517 | J21: =Balans!J27-Balans!I27 -> 1.5727103 | K21: =Balans!K27-Balans!J27 -> 0.3701918
B22: Mutatie in werkkapitaal | F22: =SUM(F17:F21) -> 13 | G22: =SUM(G17:G21) -> 8.9879101 | H22: =SUM(H17:H21) -> 0.20873056 | I22: =SUM(I17:I21) -> 0.21628462 | J22: =SUM(J17:J21) -> 0.22405735 | K22: =SUM(K17:K21) -> 0.052739654 | M22: Exclusief kortlopend deel langlopende schulden en kortlopende rentedragende schulden
B24: Onttrekking voorzieningen | F24: ='3. Prognose BS'!F61 -> -60 | G24: ='3. Prognose BS'!G61 -> -10 | H24: ='3. Prognose BS'!H61 -> 0 | I24: ='3. Prognose BS'!I61 -> 0 | J24: ='3. Prognose BS'!J61 -> 0 | K24: ='3. Prognose BS'!K61 -> 0
B25: Kasstroom uit operationele activiteiten | F25: =F14+F22+F24 -> -11 | G25: =G14+G22+G24 -> 130.34816 | H25: =H14+H22+H24 -> 80.244791 | I25: =I14+I22+I24 -> 85.523924 | J25: =J14+J22+J24 -> 105.15312 | K25: =K14+K22+K24 -> 108.21238
B27: Investeringen vaste activa | F27: =-'3. Prognose BS'!F23 -> -85 | G27: =-'3. Prognose BS'!G23 -> -40 | H27: =-'3. Prognose BS'!H23 -> -40 | I27: =-'3. Prognose BS'!I23 -> -200 | J27: =-'3. Prognose BS'!J23 -> -40 | K27: =-'3. Prognose BS'!K23 -> -40
B28: Verkoop vaste activa | F28: ='3. Prognose BS'!F30 -> 45 | G28: ='3. Prognose BS'!G30 -> 0 | H28: ='3. Prognose BS'!H30 -> 14 | I28: ='3. Prognose BS'!I30 -> 44 | J28: ='3. Prognose BS'!J30 -> 0 | K28: ='3. Prognose BS'!K30 -> 0
B29: Kasstroom uit investeringsactiviteiten | F29: =SUM(F27:F28) -> -40 | G29: =SUM(G27:G28) -> -40 | H29: =SUM(H27:H28) -> -26 | I29: =SUM(I27:I28) -> -156 | J29: =SUM(J27:J28) -> -40 | K29: =SUM(K27:K28) -> -40
B31: Aflossing leningen | F31: =-'3. Prognose BS'!F101 -> -10 | G31: =-'3. Prognose BS'!G101 -> -30 | H31: =-'3. Prognose BS'!H101 -> -20 | I31: =-'3. Prognose BS'!I101 -> -40 | J31: =-'3. Prognose BS'!J101 -> -40 | K31: =-'3. Prognose BS'!K101 -> -40
B32: Nieuwe/uitbreiding leningen | F32: ='3. Prognose BS'!F95 -> 41 | G32: ='3. Prognose BS'!G95 -> 10 | H32: ='3. Prognose BS'!H95 -> 100 | I32: ='3. Prognose BS'!I95 -> 0 | J32: ='3. Prognose BS'!J95 -> 20 | K32: ='3. Prognose BS'!K95 -> 0
B33: Mutatie kortlopende rentedragende schulden | F33: =Balans!F25-Balans!E25 -> 0 | G33: =Balans!G25-Balans!F25 -> -4 | H33: =Balans!H25-Balans!G25 -> 50 | I33: =Balans!I25-Balans!H25 -> -25 | J33: =Balans!J25-Balans!I25 -> -25 | K33: =Balans!K25-Balans!J25 -> 0
B34: =RR!B27 -> Dividend uitkering | F34: =-RR!F27 -> -5 | G34: =-RR!G27 -> -10 | H34: =-RR!H27 -> -10 | I34: =-RR!I27 -> -15 | J34: =-RR!J27 -> -20 | K34: =-RR!K27 -> -20
B35: Kasstroom uit financieringsactiviteiten | F35: =SUM(F31:F34) -> 26 | G35: =SUM(G31:G34) -> -34 | H35: =SUM(H31:H34) -> 120 | I35: =SUM(I31:I34) -> -80 | J35: =SUM(J31:J34) -> -65 | K35: =SUM(K31:K34) -> -60
B37: Totale kasstroom | F37: =F25+F29+F35 -> -25 | G37: =G25+G29+G35 -> 56.348159 | H37: =H25+H29+H35 -> 174.24479 | I37: =I25+I29+I35 -> -150.47608 | J37: =J25+J29+J35 -> 0.15311547 | K37: =K25+K29+K35 -> 8.2123789
B39: Beginstand liquide middelen | F39: =Balans!E13 -> 104 | G39: =Balans!F13 -> 79 | H39: =Balans!G13 -> 135.34816 | I39: =Balans!H13 -> 309.59295 | J39: =Balans!I13 -> 159.11687 | K39: =Balans!J13 -> 159.26999
B40: =B37 -> Totale kasstroom | F40: =F37 -> -25 | G40: =G37 -> 56.348159 | H40: =H37 -> 174.24479 | I40: =I37 -> -150.47608 | J40: =J37 -> 0.15311547 | K40: =K37 -> 8.2123789
B41: Eindstand liquide middelen | F41: =SUM(F39:F40) -> 79 | G41: =SUM(G39:G40) -> 135.34816 | H41: =SUM(H39:H40) -> 309.59295 | I41: =SUM(I39:I40) -> 159.11687 | J41: =SUM(J39:J40) -> 159.26999 | K41: =SUM(K39:K40) -> 167.48237
B43: Eindstand BS | F43: =Balans!F13 -> 79 | G43: =Balans!G13 -> 135.34816 | H43: =Balans!H13 -> 309.59295 | I43: =Balans!I13 -> 159.11687 | J43: =Balans!J13 -> 159.26999 | K43: =Balans!K13 -> 167.48237
B44: Check | F44: =ROUND(F41,4)-ROUND(F43,4) -> 0 | G44: =ROUND(G41,4)-ROUND(G43,4) -> 0 | H44: =ROUND(H41,4)-ROUND(H43,4) -> 0 | I44: =ROUND(I41,4)-ROUND(I43,4) -> 0 | J44: =ROUND(J41,4)-ROUND(J43,4) -> 0 | K44: =ROUND(K41,4)-ROUND(K43,4) -> 0

Sheet Ratios
K1: KnowYourFinance©
B2: Ratio's | M2: Master check | O2: =ErrorChecks!A5 -> 0
B4: Bedragen in EUR x 1.000, tenzijn anders vermeld
B5: Ratio's | E5: =RR!E5 -> R 2024 | F5: =RR!F5 -> R 2025 | G5: =RR!G5 -> P 2026 | H5: =RR!H5 -> P 2027 | I5: =RR!I5 -> P 2028 | J5: =RR!J5 -> P 2029 | K5: =RR!K5 -> P 2030
B7: Operationeel:
B8: Aantal producten (eenheden) | E8: ='2. Prognose RR'!E8 -> 1200 | F8: ='2. Prognose RR'!F8 -> 1200 | G8: ='2. Prognose RR'!G8 -> 1200 | H8: ='2. Prognose RR'!H8 -> 1300 | I8: ='2. Prognose RR'!I8 -> 1400 | J8: ='2. Prognose RR'!J8 -> 1500 | K8: ='2. Prognose RR'!K8 -> 1500
B9: Gemiddelde verkoopprijs (in €) | E9: ='2. Prognose RR'!E9 -> 416.66667 | F9: ='2. Prognose RR'!F9 -> 380 | G9: ='2. Prognose RR'!G9 -> 387.6 | H9: ='2. Prognose RR'!H9 -> 395.352 | I9: ='2. Prognose RR'!I9 -> 403.25904 | J9: ='2. Prognose RR'!J9 -> 411.32422 | K9: ='2. Prognose RR'!K9 -> 419.55071
B10: Groei% opbrengsten | F10: =(RR!F7)/(RR!E7)-100% -> -0.084130019 | G10: =(RR!G7)/(RR!F7)-100% -> 0.08263048 | H10: =(RR!H7)/(RR!G7)-100% -> 0.037230128 | I10: =(RR!I7)/(RR!H7)-100% -> 0.094970986 | J10: =(RR!J7)/(RR!I7)-100% -> 0.089837838 | K10: =(RR!K7)/(RR!J7)-100% -> 0.02
B12: Resultaat:
B13: Brutoresultaat % | E13: =RR!E9/RR!E7 -> 0.42638623 | F13: =RR!F9/RR!F7 -> 0.33194154 | G13: =RR!G9/RR!G7 -> 0.46185352 | H13: =RR!H9/RR!H7 -> 0.42669246 | I13: =RR!I9/RR!I7 -> 0.42486486 | J13: =RR!J9/RR!J7 -> 0.4232715 | K13: =RR!K9/RR!K7 -> 0.4232715
B14: EBITDA | E14: =RR!E13 -> 113 | F14: =RR!F13 -> 35 | G14: =RR!G13 -> 123.6024 | H14: =RR!H13 -> 84.24808 | I14: =RR!I13 -> 97.785186 | J14: =RR!J13 -> 121.62208 | K14: =RR!K13 -> 124.05452
B15: EBITDA % | E15: =RR!E13/(RR!E7) -> 0.21606119 | F15: =RR!F13/(RR!F7) -> 0.073068894 | G15: =RR!G13/(RR!G7) -> 0.2383478 | H15: =RR!H13/(RR!H7) -> 0.1566279 | I15: =RR!I13/(RR!I7) -> 0.16602732 | J15: =RR!J13/(RR!J7) -> 0.18947723 | K15: =RR!K13/(RR!K7) -> 0.18947723 | M15: = EBITDA / Opbrengsten
B16: EBIT % | E16: =RR!E16/(RR!E7) -> 0.12045889 | F16: =RR!F16/(RR!F7) -> -0.052192067 | G16: =RR!G16/(RR!G7) -> 0.19996646 | H16: =RR!H16/(RR!H7) -> 0.11386797 | I16: =RR!I16/(RR!I7) -> 0.10320584 | J16: =RR!J16/(RR!J7) -> 0.12716051 | K16: =RR!K16/(RR!K7) -> 0.12838241 | M16: = EBIT / Opbrengsten
B17: Resultaat % | E17: =RR!E25/(RR!E7) -> 0.10516252 | F17: =RR!F25/(RR!F7) -> 0.012526096 | G17: =RR!G25/(RR!G7) -> 0.15707597 | H17: =RR!H25/(RR!H7) -> 0.15065635 | I17: =RR!I25/(RR!I7) -> 0.071833214 | J17: =RR!J25/(RR!J7) -> 0.10115415 | K17: =RR!K25/(RR!K7) -> 0.10410503 | M17: = Resultaat / Opbrengsten
B18: Rentabiliteit EV | F18: =RR!F25/((Balans!E18+Balans!F18)/2) -> 0.013937282 | G18: =RR!G25/((Balans!F18+Balans!G18)/2) -> 0.17452652 | H18: =RR!H25/((Balans!G18+Balans!H18)/2) -> 0.15063179 | I18: =RR!I25/((Balans!H18+Balans!I18)/2) -> 0.072056381 | J18: =RR!J25/((Balans!I18+Balans!J18)/2) -> 0.10417574 | K18: =RR!K25/((Balans!J18+Balans!K18)/2) -> 0.10175981 | M18: = Resultaat / Gemiddeld Eigen Vermogen
B20: Liquiditeit:
B21: Interest coverage ratio | E21: =RR!E13/-RR!E21 -> 4.52 | F21: =RR!F13/-RR!F21 -> 1.1666667 | G21: =RR!G13/-RR!G21 -> 24.283379 | H21: =RR!H13/-RR!H21 -> 11.701122 | I21: =RR!I13/-RR!I21 -> 11.675843 | J21: =RR!J13/-RR!J21 -> 24.08358 | K21: =RR!K13/-RR!K21 -> 39.072289 | M21: = EBITDA / financiële lasten
B22: Debt service coverage ratio | F22: =RR!F13/(-RR!F21+'3. Prognose BS'!F102) -> 0.875 | G22: =RR!G13/(-RR!G21+'3. Prognose BS'!G102) -> 8.1910139 | H22: =RR!H13/(-RR!H21+'3. Prognose BS'!H102) -> 3.0973559 | I22: =RR!I13/(-RR!I21+'3. Prognose BS'!I102) -> 2.0213992 | J22: =RR!J13/(-RR!J21+'3. Prognose BS'!J102) -> 3.4699594 | K22: =RR!K13/(-RR!K21+'3. Prognose BS'!K102) -> 2.8732952 | M22: = EBITDA / (financiële lasten + reguliere aflossingen)
B23: Current ratio | E23: =Balans!E14/Balans!E28 -> 2.3095238 | F23: =Balans!F14/Balans!F28 -> 1.8571429 | G23: =Balans!G14/Balans!G28 -> 2.6582897 | H23: =Balans!H14/Balans!H28 -> 2.5156169 | I23: =Balans!I14/Balans!I28 -> 1.8945013 | J23: =Balans!J14/Balans!J28 -> 2.1198595 | K23: =Balans!K14/Balans!K28 -> 2.4124371 | M23: = Vlottende activa / Vlottende passiva
B24: Werkkapitaal | E24: =Balans!E14-Balans!E28 -> 110 | F24: =Balans!F14-Balans!F28 -> 72 | G24: =Balans!G14-Balans!G28 -> 113.36025 | H24: =Balans!H14-Balans!H28 -> 217.39631 | I24: =Balans!I14-Balans!I28 -> 101.70395 | J24: =Balans!J14-Balans!J28 -> 116.63301 | K24: =Balans!K14-Balans!K28 -> 134.79265 | M24: = Vlottende activa -/- Vlottende passiva
B25: Operationeel werkkapitaal | E25: =Balans!E14-Balans!E13-Balans!E28+Balans!E25+Balans!E24 -> 20 | F25: =Balans!F14-Balans!F13-Balans!F28+Balans!F25+Balans!F24 -> 7 | G25: =Balans!G14-Balans!G13-Balans!G28+Balans!G25+Balans!G24 -> -1.9879101 | H25: =Balans!H14-Balans!H13-Balans!H28+Balans!H25+Balans!H24 -> -2.1966407 | I25: =Balans!I14-Balans!I13-Balans!I28+Balans!I25+Balans!I24 -> -2.4129253 | J25: =Balans!J14-Balans!J13-Balans!J28+Balans!J25+Balans!J24 -> -2.6369827 | K25: =Balans!K14-Balans!K13-Balans!K28+Balans!K25+Balans!K24 -> -2.6897223 | M25: = (Vlottende activa -/- liquide middelen) -/- (Vlottende passiva -/- kortlopende rentedragende schulden)
B27: Financiële structuur:
B28: Solvabiliteit | F28: =((Balans!F18+Balans!E18)/2)/((Balans!F30+Balans!E30)/2) -> 0.67795276 | G28: =((Balans!G18+Balans!F18)/2)/((Balans!G30+Balans!F30)/2) -> 0.71925166 | H28: =((Balans!H18+Balans!G18)/2)/((Balans!H30+Balans!G30)/2) -> 0.70335129 | I28: =((Balans!I18+Balans!H18)/2)/((Balans!I30+Balans!H30)/2) -> 0.69755987 | J28: =((Balans!J18+Balans!I18)/2)/((Balans!J30+Balans!I30)/2) -> 0.7525633 | K28: =((Balans!K18+Balans!J18)/2)/((Balans!K30+Balans!J30)/2) -> 0.80159032 | M28: = Eigen Vermogen / Totale vermogen
B30: Common-size Resultatenrekening | E30: =E5 -> R 2024 | F30: =F5 -> R 2025 | G30: =G5 -> P 2026 | H30: =H5 -> P 2027 | I30: =I5 -> P 2028 | J30: =J5 -> P 2029 | K30: =K5 -> P 2030
B32: Opbrengsten p*q | E32: =RR!E7/RR!E$7 -> 1 | F32: =RR!F7/RR!F$7 -> 1 | G32: =RR!G7/RR!G$7 -> 1 | H32: =RR!H7/RR!H$7 -> 1 | I32: =RR!I7/RR!I$7 -> 1 | J32: =RR!J7/RR!J$7 -> 1 | K32: =RR!K7/RR!K$7 -> 1 | M32: Opbrengsten p*q = 100%
B33: inkoopwaarde verkopen | E33: =RR!E8/RR!E$7 -> -0.57361377 | F33: =RR!F8/RR!F$7 -> -0.66805846 | G33: =RR!G8/RR!G$7 -> -0.53814648 | H33: =RR!H8/RR!H$7 -> -0.57330754 | I33: =RR!I8/RR!I$7 -> -0.57513514 | J33: =RR!J8/RR!J$7 -> -0.5767285 | K33: =RR!K8/RR!K$7 -> -0.5767285
B34: Brutoresultaat | E34: =RR!E9/RR!E$7 -> 0.42638623 | F34: =RR!F9/RR!F$7 -> 0.33194154 | G34: =RR!G9/RR!G$7 -> 0.46185352 | H34: =RR!H9/RR!H$7 -> 0.42669246 | I34: =RR!I9/RR!I$7 -> 0.42486486 | J34: =RR!J9/RR!J$7 -> 0.4232715 | K34: =RR!K9/RR!K$7 -> 0.4232715
B36: Verkoopkosten | E36: =RR!E11/RR!E$7 -> -0.14340344 | F36: =RR!F11/RR!F$7 -> -0.16283925 | G36: =RR!G11/RR!G$7 -> -0.14350573 | H36: =RR!H11/RR!H$7 -> -0.19006456 | I36: =RR!I11/RR!I$7 -> -0.15336937 | J36: =RR!J11/RR!J$7 -> -0.15379427 | K36: =RR!K11/RR!K$7 -> -0.15379427
B37: Algemene beheerskosten | E37: =RR!E12/RR!E$7 -> -0.066921606 | F37: =RR!F12/RR!F$7 -> -0.096033403 | G37: =RR!G12/RR!G$7 -> -0.08 | H37: =RR!H12/RR!H$7 -> -0.08 | I37: =RR!I12/RR!I$7 -> -0.10546817 | J37: =RR!J12/RR!J$7 -> -0.08 | K37: =RR!K12/RR!K$7 -> -0.08
B38: EBITDA | E38: =RR!E13/RR!E$7 -> 0.21606119 | F38: =RR!F13/RR!F$7 -> 0.073068894 | G38: =RR!G13/RR!G$7 -> 0.2383478 | H38: =RR!H13/RR!H$7 -> 0.1566279 | I38: =RR!I13/RR!I$7 -> 0.16602732 | J38: =RR!J13/RR!J$7 -> 0.18947723 | K38: =RR!K13/RR!K$7 -> 0.18947723
B40: Afschrijvingskosten | E40: =RR!E15/RR!E$7 -> -0.095602294 | F40: =RR!F15/RR!F$7 -> -0.12526096 | G40: =RR!G15/RR!G$7 -> -0.038381338 | H40: =RR!H15/RR!H$7 -> -0.042759926 | I40: =RR!I15/RR!I$7 -> -0.062821489 | J40: =RR!J15/RR!J$7 -> -0.062316724 | K40: =RR!K15/RR!K$7 -> -0.061094827
B41: Bedrijfsresultaat (EBIT) | E41: =RR!E16/RR!E$7 -> 0.12045889 | F41: =RR!F16/RR!F$7 -> -0.052192067 | G41: =RR!G16/RR!G$7 -> 0.19996646 | H41: =RR!H16/RR!H$7 -> 0.11386797 | I41: =RR!I16/RR!I$7 -> 0.10320584 | J41: =RR!J16/RR!J$7 -> 0.12716051 | K41: =RR!K16/RR!K$7 -> 0.12838241
B43: Niet-operationele baten/lasten | E43: =RR!E18/RR!E$7 -> 0.047801147 | F43: =RR!F18/RR!F$7 -> 0.025052192 | G43: =RR!G18/RR!G$7 -> 0 | H43: =RR!H18/RR!H$7 -> 0.074365089 | I43: =RR!I18/RR!I$7 -> 0 | J43: =RR!J18/RR!J$7 -> 0 | K43: =RR!K18/RR!K$7 -> 0
B44: Verkoopresultaat vaste activa | E44: =RR!E19/RR!E$7 -> 0 | F44: =RR!F19/RR!F$7 -> 0.083507307 | G44: =RR!G19/RR!G$7 -> 0 | H44: =RR!H19/RR!H$7 -> 0.0074365089 | I44: =RR!I19/RR!I$7 -> -0.010187268 | J44: =RR!J19/RR!J$7 -> 0 | K44: =RR!K19/RR!K$7 -> 0
B45: Financiële baten | E45: =RR!E20/RR!E$7 -> 0.022944551 | F45: =RR!F20/RR!F$7 -> 0.025052192 | G45: =RR!G20/RR!G$7 -> 0.019283428 | H45: =RR!H20/RR!H$7 -> 0.018591272 | I45: =RR!I20/RR!I$7 -> 0.016978781 | J45: =RR!J20/RR!J$7 -> 0.015579181 | K45: =RR!K20/RR!K$7 -> 0.015273707
B46: Financiële lasten | E46: =RR!E21/RR!E$7 -> -0.047801147 | F46: =RR!F21/RR!F$7 -> -0.06263048 | G46: =RR!G21/RR!G$7 -> -0.0098152648 | H46: =RR!H21/RR!H$7 -> -0.013385716 | I46: =RR!I21/RR!I$7 -> -0.014219729 | J46: =RR!J21/RR!J$7 -> -0.0078674863 | K46: =RR!K21/RR!K$7 -> -0.0048494019
B47: Resultaat voor belastingen (EBT) | E47: =RR!E22/RR!E$7 -> 0.14340344 | F47: =RR!F22/RR!F$7 -> 0.018789144 | G47: =RR!G22/RR!G$7 -> 0.20943462 | H47: =RR!H22/RR!H$7 -> 0.20087513 | I47: =RR!I22/RR!I$7 -> 0.095777619 | J47: =RR!J22/RR!J$7 -> 0.13487221 | K47: =RR!K22/RR!K$7 -> 0.13880671
... B50: Netto resultaat | E50: =RR!E25/RR!E$7 -> 0.10516252 | F50: =RR!F25/RR!F$7 -> 0.012526096 | G50: =RR!G25/RR!G$7 -> 0.15707597 | H50: =RR!H25/RR!H$7 -> 0.15065635 | I50: =RR!I25/RR!I$7 -> 0.071833214 | J50: =RR!J25/RR!J$7 -> 0.10115415 | K50: =RR!K25/RR!K$7 -> 0.10410503
B53: Common-size Balans | E53: =E5 -> R 2024 | F53: =F5 -> R 2025 | G53: =G5 -> P 2026 | H53: =H5 -> P 2027 | I53: =I5 -> P 2028 | J53: =J5 -> P 2029 | K53: =K5 -> P 2030
B55: =Balans!B7 -> Materiële Vaste Activa | E55: =Balans!E7/Balans!E$16 -> 0.69875776 | F55: =Balans!F7/Balans!F$16 -> 0.75079872 | G55: =Balans!G7/Balans!G$16 -> 0.72950937 | H55: =Balans!H7/Balans!H$16 -> 0.57941346 | I55: =Balans!I7/Balans!I$16 -> 0.73906335 | J55: =Balans!J7/Balans!J$16 -> 0.73427814 | K55: =Balans!K7/Balans!K$16 -> 0.72602711 | M55: Als % van balanstotaal
...

Sheet INVOER->

Sheet 1. Realisatie RR en BS
K1: KnowYourFinance©
B2: 1. Realisatie RR en BS invoer | E2: Master check | G2: =ErrorChecks!B5 -> 0
B4: EUR bedragen x 1.000
B5: Startjaar
B7: Invoer eerste prognosejaar | E7: 2026 | M7: Het model gaat uit van 2 historische jaren
B9: Resultatenrekening realisatie | E9: ="R "&E7-2 -> R 2024 | F9: ="R "&RIGHT(E9,4)+1 -> R 2025 | G9: ="P "&RIGHT(F9,4)+1 -> P 2026 | H9: ="P "&RIGHT(G9,4)+1 -> P 2027 | I9: ="P "&RIGHT(H9,4)+1 -> P 2028 | J9: ="P "&RIGHT(I9,4)+1 -> P 2029 | K9: ="P "&RIGHT(J9,4)+1 -> P 2030 | M9: Vul in deze sectie de gerealiseerde resultaten in voor de 2 historische jaren
B11: Opbrengsten | E11: 500 | F11: 456
B12: Overige opbrengsten | E12: 23 | F12: 23
B13: Kostprijs verkopen | E13: -300 | F13: -320
B14: Bruto marge | E14: =SUM(E11:E13) -> 223 | F14: =SUM(F11:F13) -> 159
B16: Verkoopkosten | E16: -75 | F16: -78
B17: Algemene beheerskosten | E17: -35 | F17: -46
B18: EBITDA | E18: =SUM(E14:E17) -> 113 | F18: =SUM(F14:F17) -> 35
B20: Afschrijvingskosten | E20: -50 | F20: -60
B21: Bedrijfsresultaat (EBIT) | E21: =SUM(E18:E20) -> 63 | F21: =SUM(F18:F20) -> -25
B23: Niet-operationele baten/lasten | E23: 25 | F23: 12
B24: Verkoopresultaat vaste activa | E24: 0 | F24: 40
B25: Financiële baten | E25: 12 | F25: 12
B26: Financiële lasten langkopende schulden | E26: -20 | F26: -25
B27: Financiële lasten kortlopende schulden | E27: -5 | F27: -5
B28: Resultaat voor belastingen (EBT) | E28: =SUM(E21:E27) -> 75 | F28: =SUM(F21:F27) -> 9
B30: Belastingen | E30: -20 | F30: -3
B31: Netto resultaat | E31: =SUM(E28:E30) -> 55 | F31: =SUM(F28:F30) -> 6
B33: Dividend uitkering | E33: 20 | F33: 5
B35: Balans realisatie | E35: =E9 -> R 2024 | F35: =F9 -> R 2025 | G35: =G9 -> P 2026 | H35: =H9 -> P 2027 | I35: =I9 -> P 2028 | J35: =J9 -> P 2029 | K35: =K9 -> P 2030 | M35: Vul in deze sectie de gerealiseerde balansbedragen in voor de 2 historische jaren
E36: =IF(E74=0,"OK","CHECK") -> OK | F36: =IF(F74=0,"OK","CHECK") -> OK | M36: Indien "CHECK": activa en passiva sluiten mogelijk niet aan, of eigen vermogen mutatie sluit niet aan met resultaat en dividenduitkering
B38: =Balans!B7 -> Materiële Vaste Activa | E38: 450 | F38: 470
B39: =Balans!B8 -> Vaste Activa | E39: =SUM(E38:E38) -> 450 | F39: =SUM(F38:F38) -> 470
B41: =Balans!B10 -> Voorraden | E41: 25 | F41: 10
B42: =Balans!B11 -> Debiteuren | E42: 60 | F42: 61
B43: =Balans!B12 -> Overige kortlopende activa | E43: 5 | F43: 6
B44: =Balans!B13 -> Liquide Middelen | E44: 104 | F44: 79
B45: =Balans!B14 -> Vlottende Activa | E45: =SUM(E41:E44) -> 194 | F45: =SUM(F41:F44) -> 156
B47: =Balans!B16 -> Activa Totaal | E47: =E39+E45 -> 644 | F47: =F39+F45 -> 626
B49: =Balans!B18 -> Eigen Vermogen | E49: 430 | F49: 431 | M49: Mutatie in eigen vermogen moet gelijk zijn aan het gerealiseerde resultaat minus dividenduitkering (uitgezonderd voor overige eigen vermogen mutaties)
B51: =Balans!B20 -> Voorzieningen | E51: 60 | F51: 10
B53: =Balans!B22 -> Langlopende Schulden (LLS) | E53: 70 | F53: 101 | M53: Exclusief kortlopend deel van langlopende schulden
B55: =Balans!B24 -> Kortlopend deel LLS | E55: 10 | F55: 10
B56: =Balans!B25 -> Kortlopende schulden rentedragend | E56: 4 | F56: 4
B57: =Balans!B26 -> Crediteuren | E57: 40 | F57: 45
...

Sheet 2. Prognose RR
K1: KnowYourFinance©
B2: 2. Prognose Resultatenrekening (RR) invoer | E2: Master check | G2: =ErrorChecks!B5 -> 0
B4: EUR bedragen x 1.000 (tenzij anders vermeld) | E4: =IF(E82=0,"OK","CHECK") -> OK | F4: =IF(F82=0,"OK","CHECK") -> OK | G4: =IF(G82=0,"OK","CHECK") -> OK | H4: =IF(H82=0,"OK","CHECK") -> OK | I4: =IF(I82=0,"OK","CHECK") -> OK | J4: =IF(J82=0,"OK","CHECK") -> OK | K4: =IF(K82=0,"OK","CHECK") -> OK
B5: Opbrengsten | E5: =RR!E5 -> R 2024 | F5: =RR!F5 -> R 2025 | G5: =RR!G5 -> P 2026 | H5: =RR!H5 -> P 2027 | I5: =RR!I5 -> P 2028 | J5: =RR!J5 -> P 2029 | K5: =RR!K5 -> P 2030
B7: Opbrengsten (p*q) productgroep 1 | M7: Opbrengsten kan uitgebreid worden naar meerdere productgroepen
B8: Aantal producten/diensten (p) | E8: 1200 | F8: 1200 | G8: 1200 | H8: 1300 | I8: 1400 | J8: 1500 | K8: 1500 | M8: Invoer per jaar
B9: Gemiddelde prijs (q) (in €) | E9: =(E11*1000)/E8 -> 416.66667 | F9: =(F11*1000)/F8 -> 380 | G9: =F9*(1+G10) -> 387.6 | H9: =G9*(1+H10) -> 395.352 | I9: =H9*(1+I10) -> 403.25904 | J9: =I9*(1+J10) -> 411.32422 | K9: =J9*(1+K10) -> 419.55071 | M9: Gemiddelde prijs in euro (niet x 1.000)
B10: Gemiddelde prijsstijging | C10: 0.02 | F10: =(F9-E9)/E9 -> -0.088 | G10: =$C10 -> 0.02 | H10: =$C10 -> 0.02 | I10: =$C10 -> 0.02 | J10: =$C10 -> 0.02 | K10: =$C10 -> 0.02 | M10: Gemiddelde prijsstijging per prognosejaar; jaarlijkse % kan overschreven worden
B11: Opbrengsten (p*q) productgroep 1 | E11: ='1. Realisatie RR en BS'!E11 -> 500 | F11: ='1. Realisatie RR en BS'!F11 -> 456 | G11: =G8*G9/1000 -> 465.12 | H11: =H8*H9/1000 -> 513.9576 | I11: =I8*I9/1000 -> 564.56266 | J11: =J8*J9/1000 -> 616.98633 | K11: =K8*K9/1000 -> 629.32606 | M11: Naar RR
B13: Overige opbrengsten
B14: Jaarlijkse stijging overige opbrengsten | C14: 0.02 | F14: =(F15-E15)/E15 -> 0 | G14: =$C14 -> 0.02 | H14: =$C14 -> 0.02 | I14: =$C14 -> 0.02 | J14: =$C14 -> 0.02 | K14: =$C14 -> 0.02 | M14: Gemiddelde stijging structurele overige opbrengsten per prognosejaar
B15: Structurele/jaarlijkse overige opbrengsten | E15: =E17-E16 -> 23 | F15: =F17-F16 -> 23 | G15: =F15+(F15*G14) -> 23.46 | H15: =G15+(G15*H14) -> 23.9292 | I15: =H15+(H15*I14) -> 24.407784 | J15: =I15+(I15*J14) -> 24.89594 | K15: =J15+(J15*K14) -> 25.393858
B16: Incidentele overige opbrengsten | E16: 0 | F16: 0 | G16: 30 | H16: 0 | I16: 0 | J16: 0 | K16: 0 | M16: Invoer per jaar
B17: Overige opbrengsten | E17: ='1. Realisatie RR en BS'!E12 -> 23 | F17: ='1. Realisatie RR en BS'!F12 -> 23 | G17: =SUM(G15:G16) -> 53.46 | H17: =SUM(H15:H16) -> 23.9292 | I17: =SUM(I15:I16) -> 24.407784 | J17: =SUM(J15:J16) -> 24.89594 | K17: =SUM(K15:K16) -> 25.393858 | M17: Naar RR
B19: Totale opbrengsten | E19: =E11+E17 -> 523 | F19: =F11+F17 -> 479 | G19: =G11+G17 -> 518.58 | H19: =H11+H17 -> 537.8868 | I19: =I11+I17 -> 588.97044 | J19: =J11+J17 -> 641.88227 | K19: =K11+K17 -> 654.71992
B21: Inkoopwaarde omzet | E21: =E5 -> R 2024 | F21: =F5 -> R 2025 | G21: =G5 -> P 2026 | H21: =H5 -> P 2027 | I21: =I5 -> P 2028 | J21: =J5 -> P 2029 | K21: =K5 -> P 2030
B23: Inkoopwaarde omzet % | C23: -0.6 | E23: =E24/E11 -> -0.6 | F23: =F24/F11 -> -0.70175439 | G23: =$C23 -> -0.6 | H23: =$C23 -> -0.6 | I23: =$C23 -> -0.6 | J23: =$C23 -> -0.6 | K23: =$C23 -> -0.6 | M23: Jaarlijkse % kan overschreven worden
B24: Inkoopwaarde omzet | E24: ='1. Realisatie RR en BS'!E13 -> -300 | F24: ='1. Realisatie RR en BS'!F13 -> -320 | G24: =G23*G11 -> -279.072 | H24: =H23*H11 -> -308.37456 | I24: =I23*I11 -> -338.73759 | J24: =J23*J11 -> -370.1918 | K24: =K23*K11 -> -377.59563 | M24: Naar RR
B26: Brutoresultaat | E26: =E19+E24 -> 223 | F26: =F19+F24 -> 159 | G26: =G19+G24 -> 239.508 | H26: =H19+H24 -> 229.51224 | I26: =I19+I24 -> 250.23285 | J26: =J19+J24 -> 271.69047 | K26: =K19+K24 -> 277.12428
B28: Overige bedrijfskosten + afschrijvingen | E28: =E5 -> R 2024 | F28: =F5 -> R 2025 | G28: =G5 -> P 2026 | H28: =H5 -> P 2027 | I28: =I5 -> P 2028 | J28: =J5 -> P 2029 | K28: =K5 -> P 2030
B30: Verkoopkosten % van opbrengsten p*q | C30: -0.16 | E30: =E33/E11 -> -0.15 | F30: =F33/F11 -> -0.17105263 | G30: =$C30 -> -0.16 | H30: =$C30 -> -0.16 | I30: =$C30 -> -0.16 | J30: =$C30 -> -0.16 | K30: =$C30 -> -0.16 | M30: Als % van opbrengsten (p*q) productgroep 1 (voer 0% in voor volledige handmatige invoer); jaarlijkse % kan overschreven worden
B31: Verkoopkosten gerelateerd aan opbrengsten | E31: ='1. Realisatie RR en BS'!E16 -> -75 | F31: ='1. Realisatie RR en BS'!F16 -> -78 | G31: =G30*G11 -> -74.4192 | H31: =H30*H11 -> -82.233216 | I31: =I30*I11 -> -90.330025 | J31: =J30*J11 -> -98.717813 | K31: =K30*K11 -> -100.69217 | M31: Verkoopkosten gerelateerd aan opbrengsten p*q
B32: Verkoopkosten handmatige invoer | G32: 0 | H32: -20 | I32: 0 | J32: 0 | K32: 0 | M32: Handmatige invoer
B33: Verkoopkosten | E33: =SUM(E31:E32) -> -75 | F33: =SUM(F31:F32) -> -78 | G33: =SUM(G31:G32) -> -74.4192 | H33: =SUM(H31:H32) -> -102.23322 | I33: =SUM(I31:I32) -> -90.330025 | J33: =SUM(J31:J32) -> -98.717813 | K33: =SUM(K31:K32) -> -100.69217 | M33: Naar RR
B35: Beheerskosten % van totale opbrengsten | C35: -0.08 | E35: =E38/E19 -> -0.066921606 | F35: =F38/F19 -> -0.096033403 | G35: =$C35 -> -0.08 | H35: =$C35 -> -0.08 | I35: =$C35 -> -0.08 | J35: =$C35 -> -0.08 | K35: =$C35 -> -0.08 | M35: Als % van totale opbrengsten (p*q + overige opbrengsten) (voer 0% in voor volledig handmatige invoer); jaarlijkse % kan overschreven worden
B36: Beheerskosten gerelateerd aan opbrengsten | E36: ='1. Realisatie RR en BS'!E17 -> -35 | F36: ='1. Realisatie RR en BS'!F17 -> -46 | G36: =G35*G19 -> -41.4864 | H36: =H35*H19 -> -43.030944 | I36: =I35*I19 -> -47.117635 | J36: =J35*J19 -> -51.350582 | K36: =K35*K19 -> -52.377593 | M36: Beheerskosten gerelateerd aan totale opbrengsten
B37: Beheerskosten handmatige invoer | G37: 0 | H37: 0 | I37: -15 | J37: 0 | K37: 0 | M37: Handmatige invoer
B38: Algemene beheerskosten | E38: =SUM(E36:E37) -> -35 | F38: =SUM(F36:F37) -> -46 | G38: =SUM(G36:G37) -> -41.4864 | H38: =SUM(H36:H37) -> -43.030944 | I38: =SUM(I36:I37) -> -62.117635 | J38: =SUM(J36:J37) -> -51.350582 | K38: =SUM(K36:K37) -> -52.377593 | M38: Naar RR
B40: EBITDA | E40: =E26+E33+E38 -> 113 | F40: =F26+F33+F38 -> 35 | G40: =G26+G33+G38 -> 123.6024 | H40: =H26+H33+H38 -> 84.24808 | I40: =I26+I33+I38 -> 97.785186 | J40: =J26+J33+J38 -> 121.62208 | K40: =K26+K33+K38 -> 124.05452 | M40: Earnings before interest tax depreciation & amortization
B42: Afschrijvingslasten | E42: ='3. Prognose BS'!E25 -> -50 | F42: ='3. Prognose BS'!F25 -> -60 | G42: ='3. Prognose BS'!G25 -> -19.903794 | H42: ='3. Prognose BS'!H25 -> -23 | I42: ='3. Prognose BS'!I25 -> -37 | J42: ='3. Prognose BS'!J25 -> -40 | K42: ='3. Prognose BS'!K25 -> -40 | M42: Kopie uit 3. Prognose BS; Naar RR
B44: EBIT | E44: =SUM(E40:E43) -> 63 | F44: =SUM(F40:F43) -> -25 | G44: =SUM(G40:G43) -> 103.69861 | H44: =SUM(H40:H43) -> 61.24808 | I44: =SUM(I40:I43) -> 60.785186 | J44: =SUM(J40:J43) -> 81.622077 | K44: =SUM(K40:K43) -> 84.054519 | M44: Earnings before interest & tax
B46: Financieel + Niet-operationeel resultaat | E46: =E5 -> R 2024 | F46: =F5 -> R 2025 | G46: =G5 -> P 2026 | H46: =H5 -> P 2027 | I46: =I5 -> P 2028 | J46: =J5 -> P 2029 | K46: =K5 -> P 2030
B48: Niet-operationele baten/lasten | E48: ='1. Realisatie RR en BS'!E23 -> 25 | F48: ='1. Realisatie RR en BS'!F23 -> 12 | G48: 0 | H48: 40 | I48: 0 | J48: 0 | K48: 0 | M48: Indien van toepassing
B50: Verkoopresultaat vaste activa | E50: ='3. Prognose BS'!E32 -> 0 | F50: ='3. Prognose BS'!F32 -> 40 | G50: ='3. Prognose BS'!G32 -> 0 | H50: ='3. Prognose BS'!H32 -> 4 | I50: ='3. Prognose BS'!I32 -> -6 | J50: ='3. Prognose BS'!J32 -> 0 | K50: ='3. Prognose BS'!K32 -> 0 | M50: Kopie uit 3. Prognose BS; Naar RR
B52: Financiële baten | E52: ='1. Realisatie RR en BS'!E25 -> 12 | F52: ='1. Realisatie RR en BS'!F25 -> 12 | G52: 10 | H52: 10 | I52: 10 | J52: 10 | K52: 10 | M52: Naar RR
B54: Financiële lasten langkopende schulden | E54: ='3. Prognose BS'!E105 -> -20 | F54: ='3. Prognose BS'!F105 -> -25 | G54: ='3. Prognose BS'!G105 -> -4.95 | H54: ='3. Prognose BS'!H105 -> -5.45 | I54: ='3. Prognose BS'!I105 -> -5.75 | J54: ='3. Prognose BS'!J105 -> -4.175 | K54: ='3. Prognose BS'!K105 -> -3.175 | M54: Kopie uit 3. Prognose BS
B55: Financiële lasten kortlopende schulden | E55: ='3. Prognose BS'!E114 -> -5 | F55: ='3. Prognose BS'!F114 -> -5 | G55: ='3. Prognose BS'!G114 -> -0.14 | H55: ='3. Prognose BS'!H114 -> -1.75 | I55: ='3. Prognose BS'!I114 -> -2.625 | J55: ='3. Prognose BS'!J114 -> -0.875 | K55: ='3. Prognose BS'!K114 -> 0 | M55: Kopie uit 3. Prognose BS
B56: Financiële lasten | E56: =SUM(E54:E55) -> -25 | F56: =SUM(F54:F55) -> -30 | G56: =SUM(G54:G55) -> -5.09 | H56: =SUM(H54:H55) -> -7.2 | I56: =SUM(I54:I55) -> -8.375 | J56: =SUM(J54:J55) -> -5.05 | K56: =SUM(K54:K55) -> -3.175 | M56: Naar RR
B58: Belastingen | E58: =E5 -> R 2024 | F58: =F5 -> R 2025 | G58: =G5 -> P 2026 | H58: =H5 -> P 2027 | I58: =I5 -> P 2028 | J58: =J5 -> P 2029 | K58: =K5 -> P 2030
B60: Belastingtarief | C60: 0.25 | E60: =-E62/E61 -> 0.26666667 | F60: =-F62/F61 -> 0.33333333 | G60: =$C60 -> 0.25 | H60: =$C60 -> 0.25 | I60: =$C60 -> 0.25 | J60: =$C60 -> 0.25 | K60: =$C60 -> 0.25
...

Sheet 3. Prognose BS
K1: KnowYourFinance©
B2: 3. Prognose Balans (BS) invoer | E2: Master check | G2: =ErrorChecks!B5 -> 0
B4: EUR bedragen x 1.000 (tenzij anders vermeld) | E4: =IF(E137=0,"OK","CHECK") -> OK | F4: =IF(F137=0,"OK","CHECK") -> OK | G4: =IF(G137=0,"OK","CHECK") -> OK | H4: =IF(H137=0,"OK","CHECK") -> OK | I4: =IF(I137=0,"OK","CHECK") -> OK | J4: =IF(J137=0,"OK","CHECK") -> OK | K4: =IF(K137=0,"OK","CHECK") -> OK
B5: Materiële vaste activa | E5: =RR!E5 -> R 2024 | F5: =RR!F5 -> R 2025 | G5: =RR!G5 -> P 2026 | H5: =RR!H5 -> P 2027 | I5: =RR!I5 -> P 2028 | J5: =RR!J5 -> P 2029 | K5: =RR!K5 -> P 2030
B7: Bestaande MVA
B8: Beginwaarde bestaande MVA | E8: =E12-E11-E10-E9 -> 509 | F8: =E12 -> 450 | G8: =F12 -> 470 | H8: =G12 -> 454.09621 | I8: =H12 -> 429.09621 | J8: =I12 -> 364.09621 | K8: =J12 -> 349.09621
B9: Investeringen (+) | E9: 11 | F9: 85
B10: Boekwaarde verkoop/afstoot (-/-) | E10: -20 | F10: -5 | G10: 0 | H10: -10 | I10: -50 | J10: 0 | K10: 0 | M10: Invoer met minteken (-/-)
B11: Afschrijvingen (-/-) | E11: ='1. Realisatie RR en BS'!E20 -> -50 | F11: ='1. Realisatie RR en BS'!F20 -> -60 | G11: -15.903794 | H11: -15 | I11: -15 | J11: -15 | K11: -15 | M11: Invoer met minteken (-/-)
B12: Eindwaarde bestaande MVA | E12: ='1. Realisatie RR en BS'!E38 -> 450 | F12: =SUM(F8:F11) -> 470 | G12: =SUM(G8:G11) -> 454.09621 | H12: =SUM(H8:H11) -> 429.09621 | I12: =SUM(I8:I11) -> 364.09621 | J12: =SUM(J8:J11) -> 349.09621 | K12: =SUM(K8:K11) -> 334.09621
B14: Nieuwe MVA | M14: Specificatie nieuwe MVA kan vervangen worden door spec met individuele investeringen
B15: Beginwaarde nieuwe MVA | G15: =F19 -> 0 | H15: =G19 -> 36 | I15: =H19 -> 68 | J15: =I19 -> 246 | K15: =J19 -> 261
B16: Investeringen (+) | G16: 40 | H16: 40 | I16: 200 | J16: 40 | K16: 40
B17: Boekwaarde verkoop/afstoot (-/-) | G17: 0 | H17: 0 | I17: 0 | J17: 0 | K17: 0 | M17: Invoer met minteken (-/-)
B18: Afschrijvingen (-/-) | G18: -4 | H18: -8 | I18: -22 | J18: -25 | K18: -25 | M18: Invoer met minteken (-/-)
B19: Eindwaarde nieuwe MVA | G19: =SUM(G15:G18) -> 36 | H19: =SUM(H15:H18) -> 68 | I19: =SUM(I15:I18) -> 246 | J19: =SUM(J15:J18) -> 261 | K19: =SUM(K15:K18) -> 276
B21: Totale MVA
B22: Beginwaarde MVA | E22: =E8+E15 -> 509 | F22: =E26 -> 450 | G22: =F26 -> 470 | H22: =G26 -> 490.09621 | I22: =H26 -> 497.09621 | J22: =I26 -> 610.09621 | K22: =J26 -> 610.09621
B23: Investeringen (+) | E23: =E9+E16 -> 11 | F23: =F9+F16 -> 85 | G23: =G9+G16 -> 40 | H23: =H9+H16 -> 40 | I23: =I9+I16 -> 200 | J23: =J9+J16 -> 40 | K23: =K9+K16 -> 40 | M23: Naar KSO
B24: Boekwaarde verkoop/afstoot (-/-) | E24: =E10+E17 -> -20 | F24: =F10+F17 -> -5 | G24: =G10+G17 -> 0 | H24: =H10+H17 -> -10 | I24: =I10+I17 -> -50 | J24: =J10+J17 -> 0 | K24: =K10+K17 -> 0 | M24: Invoer met minteken (-/-)
B25: Afschrijvingen (-/-) | E25: =E11+E18 -> -50 | F25: =F11+F18 -> -60 | G25: =G11+G18 -> -19.903794 | H25: =H11+H18 -> -23 | I25: =I11+I18 -> -37 | J25: =J11+J18 -> -40 | K25: =K11+K18 -> -40 | M25: Naar 2. Prognose RR
B26: Eindwaarde MVA | E26: =SUM(E22:E25) -> 450 | F26: =SUM(F22:F25) -> 470 | G26: =SUM(G22:G25) -> 490.09621 | H26: =SUM(H22:H25) -> 497.09621 | I26: =SUM(I22:I25) -> 610.09621 | J26: =SUM(J22:J25) -> 610.09621 | K26: =SUM(K22:K25) -> 610.09621 | M26: Naar BS
B27: Check | E27: ='1. Realisatie RR en BS'!E38 -> 450 | F27: ='1. Realisatie RR en BS'!F38 -> 470 | M27: Indien check <> eindwaarde => controleer mutaties in jaar
B29: Verkoop-/afstoot specificatie MVA
B30: Verkoopprijs MVA | E30: =E32-E31 -> 20 | F30: =F32-F31 -> 45 | G30: 0 | H30: 14 | I30: 44 | J30: 0 | K30: 0 | M30: Naar KSO
B31: Boekwaarde afgestote/verkochte MVA | E31: =E24 -> -20 | F31: =F24 -> -5 | G31: =G24 -> 0 | H31: =H24 -> -10 | I31: =I24 -> -50 | J31: =J24 -> 0 | K31: =K24 -> 0 | M31: ="Kopie rij "&_xlfn.FORMULATEXT(K31) -> Kopie rij =K24
B32: Verkoopresultaat vaste activa | E32: ='1. Realisatie RR en BS'!E24 -> 0 | F32: ='1. Realisatie RR en BS'!F24 -> 40 | G32: =SUM(G30:G31) -> 0 | H32: =SUM(H30:H31) -> 4 | I32: =SUM(I30:I31) -> -6 | J32: =SUM(J30:J31) -> 0 | K32: =SUM(K30:K31) -> 0 | M32: Naar 2. Prognose RR
B34: Vlottende activa | E34: =E$5 -> R 2024 | F34: =F$5 -> R 2025 | G34: =G$5 -> P 2026 | H34: =H$5 -> P 2027 | I34: =I$5 -> P 2028 | J34: =J$5 -> P 2029 | K34: =K$5 -> P 2030
B36: Drivers:
B37: ='2. Prognose RR'!B11 -> Opbrengsten (p*q) productgroep 1 | E37: ='2. Prognose RR'!E11 -> 500 | F37: ='2. Prognose RR'!F11 -> 456 | G37: ='2. Prognose RR'!G11 -> 465.12 | H37: ='2. Prognose RR'!H11 -> 513.9576 | I37: ='2. Prognose RR'!I11 -> 564.56266 | J37: ='2. Prognose RR'!J11 -> 616.98633 | K37: ='2. Prognose RR'!K11 -> 629.32606 | M37: Kopie uit 2. Prognose RR
B38: ='2. Prognose RR'!B24 -> Inkoopwaarde omzet | E38: ='2. Prognose RR'!E24 -> -300 | F38: ='2. Prognose RR'!F24 -> -320 | G38: ='2. Prognose RR'!G24 -> -279.072 | H38: ='2. Prognose RR'!H24 -> -308.37456 | I38: ='2. Prognose RR'!I24 -> -338.73759 | J38: ='2. Prognose RR'!J24 -> -370.1918 | K38: ='2. Prognose RR'!K24 -> -377.59563 | M38: Kopie uit 2. Prognose RR
B40: Voorraad dagen (obv inkoopwaarde omzet) | C40: 7 | E40: =E41/(-E38/365) -> 30.416667 | F40: =F41/(-F38/365) -> 11.40625 | G40: =$C40 -> 7 | H40: =$C40 -> 7 | I40: =$C40 -> 7 | J40: =$C40 -> 7 | K40: =$C40 -> 7 | M40: Gemiddeld aantal dagen voorraden beschikbaar
B41: =Balans!B10 -> Voorraden | E41: ='1. Realisatie RR en BS'!E41 -> 25 | F41: ='1. Realisatie RR en BS'!F41 -> 10 | G41: =-G38/365*G40 -> 5.3520658 | H41: =-H38/365*H40 -> 5.9140327 | I41: =-I38/365*I40 -> 6.4963374 | J41: =-J38/365*J40 -> 7.0995687 | K41: =-K38/365*K40 -> 7.2415601 | M41: <=Inkoopwaarde omzet per dag * Voorraad dagen>
B43: Debiteuren dagen (obv opbrengsten) | C43: 30 | E43: =E44/(E37/365) -> 43.8 | F43: =F44/(F37/365) -> 48.826754 | G43: =$C43 -> 30 | H43: =$C43 -> 30 | I43: =$C43 -> 30 | J43: =$C43 -> 30 | K43: =$C43 -> 30 | M43: Gemiddeld aantal dagen openstaande debiteurenfacturen
B44: =Balans!B11 -> Debiteuren | E44: ='1. Realisatie RR en BS'!E42 -> 60 | F44: ='1. Realisatie RR en BS'!F42 -> 61 | G44: =G37/365*G43 -> 38.229041 | H44: =H37/365*H43 -> 42.24309 | I44: =I37/365*I43 -> 46.40241 | J44: =J37/365*J43 -> 50.711205 | K44: =K37/365*K43 -> 51.725429 | M44: <=Opbrengsten per dag * Debiteuren dagen>
B46: % Overige kortl activa van opbrengsten | C46: 0.006 | E46: =E47/E37 -> 0.01 | F46: =F47/F37 -> 0.013157895 | G46: =$C46 -> 0.006 | H46: =$C46 -> 0.006 | I46: =$C46 -> 0.006 | J46: =$C46 -> 0.006 | K46: =$C46 -> 0.006 | M46: Overige kortlopende activa als % van opbrengsten
B47: =Balans!B12 -> Overige kortlopende activa | E47: ='1. Realisatie RR en BS'!E43 -> 5 | F47: ='1. Realisatie RR en BS'!F43 -> 6 | G47: =G46*G37 -> 2.79072 | H47: =H46*H37 -> 3.0837456 | I47: =I46*I37 -> 3.3873759 | J47: =J46*J37 -> 3.701918 | K47: =K46*K37 -> 3.7759563 | M47: <=Opbrengsten * %>
B49: =Balans!B13 -> Liquide Middelen | E49: ='1. Realisatie RR en BS'!E44 -> 104 | F49: ='1. Realisatie RR en BS'!F44 -> 79 | G49: =G128 -> 135.34816 | H49: =H128 -> 309.59295 | I49: =I128 -> 159.11687 | J49: =J128 -> 159.26999 | K49: =K128 -> 167.48237 | M49: Sluitpost berekend onderaan sheet
B51: Eigen vermogen | E51: =E$5 -> R 2024 | F51: =F$5 -> R 2025 | G51: =G$5 -> P 2026 | H51: =H$5 -> P 2027 | I51: =I$5 -> P 2028 | J51: =J$5 -> P 2029 | K51: =K$5 -> P 2030
B53: Beginstand | E53: =E55-E54 -> 395 | F53: =E55 -> 430 | G53: =F55 -> 431 | H53: =G55 -> 502.45645 | I53: =H55 -> 573.49251 | J53: =I55 -> 600.80015 | K53: =J55 -> 645.72921
...
