Workbook

Sheet Bepalingen
B2: Bepalingen voor gebruik
B4: Het model is generiek van opzet, dat als voorbeeld kan dienen voor de financiële planning van organisaties en ondernemingen. Het model is niet zondermeer standaard toepasbaar in uw organisatie en/of uw situatie. Mogelijk moeten aanpassingen gedaan worden om het model te laten aansluiten op uw specifieke omstandigheden, eisen en wensen. Voldoende kennis van excel en financieel modelleren is noodzakelijk voor het aanpassen van het model, het geschikt maken voor een specifieke bedrijfssituatie en het gebruik van het model. Vraag advies van KYF over de geschiktheid, de benodigde aanpassingen en het gebruik van het model.
B5: Het model kan vrij gebruikt worden als aanzet voor eigen gebruik en ten behoeve van ontwikkeling van de eigen kennis.
B6: Het model kan gebruikt voor onderwijskundige doeleinden in klassikale onderwijsvormen en voor praktijkgerichte case studies na toestemming van KYF en onder de voorwaarde dat copyright en intellectuele eigendom van het model worden gerespecteerd.
B7: KnowYourFinance en/of de auteur kunnen niet verantwoordelijk worden gehouden voor een juiste werking van het model in uw specifieke organisatie/onderneming. Ook kunnen KnowYourFinance en/of de auteur niet aansprakelijk worden gesteld voor onjuistheden in het model. KnowYourFinance hecht veel waarde aan kwaliteit en een zinvol gebruik van het model. In het geval van gesignaleerde onjuistheden of onvolkomenheden, zal KnowYourFinance deze zo spoedig mogelijk oplossen, in afstemming met de gebruiker(s) van het model.
B8: KnowYourFinance en de auteur zijn niet verantwoordelijk voor besluitvorming (of achterwege blijven hiervan) op basis van het model, zowel niet in de oorspronkelijke vorm als in aangepaste vorm.

Sheet Modeltoelichting
B2: Toelichtingen bij model
B4: KnowYourFinance
B6: KnowYourFinance heeft als doel organisaties te ondersteunen bij de financiële planning, analyse en besluitvorming en de kennis over financiële analyse, planning en modelleren praktisch beschikbaar te stellen.
B7: U kunt contact opnemen met KnowYourFinance bij vragen over het model, of indien u klant-specifieke wensen en toepassingen heeft. We waarderen uw feedback over het model en het delen van uw gebruikservaringen. Wij nodigen u uit een email te sturen of onze webstite te bezoeken via onderstaande links.
B8: info@knowyourfinance.nl
B9: https://knowyourfinance.nl
B11: Model kenmerken en toepasbaarheid
B13: Model type: Investeringsplanning en -specificatie, inclusief verwerking in activa, kasstroomoverzicht en afschrijvingslasten in de winst & verliesrekening
B14: Toepassing: Het model dient als voorbeeld voor de financiële planning en specificatie van investeringen.
B15: Het model kan als afzonderlijk model gebruikt worden voor de MVA planning. Het kan tevens als onderdeel opgenomen worden in bestaande meerjarenplanningen, zoals deze ook beschikbaar zijn op de site van KnowYourFinance. De MVA specificatie van de MVA boekwaarde, investeringen, verkoop/afstoot en afschrijvingen sluit aan op de beschikbare MJP moddelen van KnowYourFinance.
B17: De specificaties van de bestaande MVA (beginwaarde, investeringen in historische jaren en afschrijvingen) worden bekend verondersteld. De financiële administratie en/of de jaarrekening dient als bron.
B18: De nieuwe investeringen worden afzonderlijk per regel gespecificeerd, of kunnen per type met gelijke specificaties gegroepeerd worden.
... B42: In de output sheets Dashboard en MVA Specificatie vindt geen invoer plaats.

Sheet Afkortingen
B2: Afkortingen
B4: BS | C4: Balans
B5: EUR | C5: Euro
B6: KSO | C6: Kasstroomoverzicht
B7: MVA | C7: Materiële vaste activa
B8: OHW | C8: Onderhanden werk
B9: P | C9: Prognose
B10: R | C10: Realisatie
B11: RR | C11: Resultatenrekening

Sheet OUTPUT->

Sheet Dashboard
B2: Dashboard Investeringsplanning | U2: KnowYourFinance © | X2: Master check: | Z2: =SUM('Invoer nieuwe MVA'!$E4:$E5) -> 0 | AC2: Brondata-> | AG2: Brondata
B3: Bedragen x € 1.000 | AJ3: ="R "&RIGHT('Invoer bestaande MVA'!E15,2) -> R 24 | AK3: ="R "&VALUE(RIGHT(AJ3,2))+1 -> R 25 | AL3: ="P "&VALUE(RIGHT(AK3,2))+1 -> P 26 | AM3: ="P "&VALUE(RIGHT(AL3,2))+1 -> P 27 | AN3: ="P "&VALUE(RIGHT(AM3,2))+1 -> P 28 | AO3: ="P "&VALUE(RIGHT(AN3,2))+1 -> P 29 | AP3: ="P "&VALUE(RIGHT(AO3,2))+1 -> P 30
B5: Materiële vaste activa | AG5: Investeringen | AJ5: ='MVA Specificatie'!E23 -> 250 | AK5: ='MVA Specificatie'!F23 -> 100 | AL5: ='MVA Specificatie'!G23 -> 750 | AM5: ='MVA Specificatie'!H23 -> 60 | AN5: ='MVA Specificatie'!I23 -> 0 | AO5: ='MVA Specificatie'!J23 -> 300 | AP5: ='MVA Specificatie'!K23 -> 150
AG6: Afboeking | AJ6: ='MVA Specificatie'!E24 -> -50 | AK6: ='MVA Specificatie'!F24 -> -300 | AL6: ='MVA Specificatie'!G24 -> 0 | AM6: ='MVA Specificatie'!H24 -> -100 | AN6: ='MVA Specificatie'!I24 -> -50 | AO6: ='MVA Specificatie'!J24 -> 0 | AP6: ='MVA Specificatie'!K24 -> -20
AG7: Afschrijvingen | AJ7: ='MVA Specificatie'!E25 -> -125 | AK7: ='MVA Specificatie'!F25 -> -140 | AL7: ='MVA Specificatie'!G25 -> -460.83333 | AM7: ='MVA Specificatie'!H25 -> -498.88889 | AN7: ='MVA Specificatie'!I25 -> -152.5 | AO7: ='MVA Specificatie'!J25 -> -134.33333 | AP7: ='MVA Specificatie'!K25 -> -141.19444
AG8: Mutatie MVA | AJ8: ='MVA Specificatie'!E28 -> 75 | AK8: ='MVA Specificatie'!F28 -> -340 | AL8: ='MVA Specificatie'!G28 -> 289.16667 | AM8: ='MVA Specificatie'!H28 -> -538.88889 | AN8: ='MVA Specificatie'!I28 -> -202.5 | AO8: ='MVA Specificatie'!J28 -> 165.66667 | AP8: ='MVA Specificatie'!K28 -> -11.194444
AG10: Totale MVA | AJ10: ='MVA Specificatie'!E26 -> 2000 | AK10: ='MVA Specificatie'!F26 -> 1660 | AL10: ='MVA Specificatie'!G26 -> 1949.1667 | AM10: ='MVA Specificatie'!H26 -> 1410.2778 | AN10: ='MVA Specificatie'!I26 -> 1207.7778 | AO10: ='MVA Specificatie'!J26 -> 1373.4444 | AP10: ='MVA Specificatie'!K26 -> 1362.25
AG13: Kasstromen
AG14: Investeringen | AJ14: =-AJ5 -> -250 | AK14: =-AK5 -> -100 | AL14: =-AL5 -> -750 | AM14: =-AM5 -> -60 | AN14: =-AN5 -> 0 | AO14: =-AO5 -> -300 | AP14: =-AP5 -> -150
AG15: Verkoop | AJ15: ='MVA Specificatie'!E33 -> 80 | AK15: ='MVA Specificatie'!F33 -> 150 | AL15: ='MVA Specificatie'!G33 -> 0 | AM15: ='MVA Specificatie'!H33 -> 80 | AN15: ='MVA Specificatie'!I33 -> 0 | AO15: ='MVA Specificatie'!J33 -> 0 | AP15: ='MVA Specificatie'!K33 -> 0
AG16: Totaal | AJ16: =SUM(AJ14:AJ15) -> -170 | AK16: =SUM(AK14:AK15) -> 50 | AL16: =SUM(AL14:AL15) -> -750 | AM16: =SUM(AM14:AM15) -> 20 | AN16: =SUM(AN14:AN15) -> 0 | AO16: =SUM(AO14:AO15) -> -300 | AP16: =SUM(AP14:AP15) -> -150
AG19: Resultaat
B20: Kasstroom en Resultaat | AG20: Afschrijvingslasten | AJ20: =AJ7 -> -125 | AK20: =AK7 -> -140 | AL20: =AL7 -> -460.83333 | AM20: =AM7 -> -498.88889 | AN20: =AN7 -> -152.5 | AO20: =AO7 -> -134.33333 | AP20: =AP7 -> -141.19444
AG21: Verkoopresultaat | AJ21: ='MVA Specificatie'!E45 -> 30 | AK21: ='MVA Specificatie'!F45 -> -150 | AL21: ='MVA Specificatie'!G45 -> 0 | AM21: ='MVA Specificatie'!H45 -> -20 | AN21: ='MVA Specificatie'!I45 -> -50 | AO21: ='MVA Specificatie'!J45 -> 0 | AP21: ='MVA Specificatie'!K45 -> -20
AG22: Totaal | AJ22: =SUM(AJ20:AJ21) -> -95 | AK22: =SUM(AK20:AK21) -> -290 | AL22: =SUM(AL20:AL21) -> -460.83333 | AM22: =SUM(AM20:AM21) -> -518.88889 | AN22: =SUM(AN20:AN21) -> -202.5 | AO22: =SUM(AO20:AO21) -> -134.33333 | AP22: =SUM(AP20:AP21) -> -161.19444

Sheet MVA Specificatie
N1: Master check: | P1: =SUM('Invoer nieuwe MVA'!$E3:$E4) -> 0 | Q1: Check Invoer nieuwe MVA indien <>0
B2: Investerings- en afschrijvingsspecificatie | K2: KnowYourFinance ©
B4: Bedragen in EUR x 1.000
B5: Investerings- en afschrijvingsspecificatie | E5: ='Invoer bestaande MVA'!E15 -> R 2024 | F5: ="R "&RIGHT(E5,4)+1 -> R 2025 | G5: ="P "&RIGHT(F5,4)+1 -> P 2026 | H5: ="P "&RIGHT(G5,4)+1 -> P 2027 | I5: ="P "&RIGHT(H5,4)+1 -> P 2028 | J5: ="P "&RIGHT(I5,4)+1 -> P 2029 | K5: ="P "&RIGHT(J5,4)+1 -> P 2030
B7: Bestaande MVA
B8: Beginwaarde bestaande MVA | E8: ='Invoer bestaande MVA'!E18 -> 1925 | F8: =E12 -> 2000 | G8: =F12 -> 1660 | H8: =G12 -> 1520 | I8: =H12 -> 1280 | J8: =I12 -> 1170 | K8: =J12 -> 1060
B9: Investeringen (+) | E9: ='Invoer bestaande MVA'!E19 -> 250 | F9: ='Invoer bestaande MVA'!F19 -> 100
B10: Boekwaarde verkoop/afstoot (-/-) | E10: ='Invoer bestaande MVA'!E20 -> -50 | F10: ='Invoer bestaande MVA'!F20 -> -300 | G10: ='Invoer bestaande MVA'!G20 -> 0 | H10: ='Invoer bestaande MVA'!H20 -> -100 | I10: ='Invoer bestaande MVA'!I20 -> 0 | J10: ='Invoer bestaande MVA'!J20 -> 0 | K10: ='Invoer bestaande MVA'!K20 -> 0
B11: Afschrijvingen (-/-) | E11: ='Invoer bestaande MVA'!E21 -> -125 | F11: ='Invoer bestaande MVA'!F21 -> -140 | G11: ='Invoer bestaande MVA'!G21 -> -140 | H11: ='Invoer bestaande MVA'!H21 -> -140 | I11: ='Invoer bestaande MVA'!I21 -> -110 | J11: ='Invoer bestaande MVA'!J21 -> -110 | K11: ='Invoer bestaande MVA'!K21 -> -100
B12: Eindwaarde bestaande MVA | E12: =SUM(E8:E11) -> 2000 | F12: =SUM(F8:F11) -> 1660 | G12: =SUM(G8:G11) -> 1520 | H12: =SUM(H8:H11) -> 1280 | I12: =SUM(I8:I11) -> 1170 | J12: =SUM(J8:J11) -> 1060 | K12: =SUM(K8:K11) -> 960
B14: Nieuwe MVA
B15: Beginwaarde nieuwe MVA | G15: =F19 -> 0 | H15: =G19 -> 429.16667 | I15: =H19 -> 130.27778 | J15: =I19 -> 37.777778 | K15: =J19 -> 313.44444 | M15: Materiële vaste activa inclusief onderhanden werk
B16: Investeringen inclusief OHW (+) | G16: ='Invoer nieuwe MVA'!W16 -> 750 | H16: ='Invoer nieuwe MVA'!X16 -> 60 | I16: ='Invoer nieuwe MVA'!Y16 -> 0 | J16: ='Invoer nieuwe MVA'!Z16 -> 300 | K16: ='Invoer nieuwe MVA'!AA16 -> 150 | M16: Investeringen inclusief onderhanden werk
B17: Afboeking restwaarde (-) | G17: =-'Invoer nieuwe MVA'!AM16 -> 0 | H17: =-'Invoer nieuwe MVA'!AN16 -> 0 | I17: =-'Invoer nieuwe MVA'!AO16 -> -50 | J17: =-'Invoer nieuwe MVA'!AP16 -> 0 | K17: =-'Invoer nieuwe MVA'!AQ16 -> -20 | M17: Aanname: volledige afschrijvingen gedurende looptijd actief obv investering -/- restwaarde; geen (tussentijdse) verkoop(resultaten) nieuwe MVA
B18: Afschrijvingen (-/-) | G18: =-'Invoer nieuwe MVA'!AE16 -> -320.83333 | H18: =-'Invoer nieuwe MVA'!AF16 -> -358.88889 | I18: =-'Invoer nieuwe MVA'!AG16 -> -42.5 | J18: =-'Invoer nieuwe MVA'!AH16 -> -24.333333 | K18: =-'Invoer nieuwe MVA'!AI16 -> -41.194444
B19: Eindwaarde nieuwe MVA | G19: =SUM(G15:G18) -> 429.16667 | H19: =SUM(H15:H18) -> 130.27778 | I19: =SUM(I15:I18) -> 37.777778 | J19: =SUM(J15:J18) -> 313.44444 | K19: =SUM(K15:K18) -> 402.25
B21: Totale MVA
B22: Beginwaarde MVA | E22: =E8+E15 -> 1925 | F22: =E26 -> 2000 | G22: =F26 -> 1660 | H22: =G26 -> 1949.1667 | I22: =H26 -> 1410.2778 | J22: =I26 -> 1207.7778 | K22: =J26 -> 1373.4444
B23: Investeringen (+) | E23: =E9+E16 -> 250 | F23: =F9+F16 -> 100 | G23: =G9+G16 -> 750 | H23: =H9+H16 -> 60 | I23: =I9+I16 -> 0 | J23: =J9+J16 -> 300 | K23: =K9+K16 -> 150 | M23: Naar KSO
B24: Boekwaarde verkoop/afstoot (-/-) | E24: =E10+E17 -> -50 | F24: =F10+F17 -> -300 | G24: =G10+G17 -> 0 | H24: =H10+H17 -> -100 | I24: =I10+I17 -> -50 | J24: =J10+J17 -> 0 | K24: =K10+K17 -> -20
B25: Afschrijvingen (-/-) | E25: =E11+E18 -> -125 | F25: =F11+F18 -> -140 | G25: =G11+G18 -> -460.83333 | H25: =H11+H18 -> -498.88889 | I25: =I11+I18 -> -152.5 | J25: =J11+J18 -> -134.33333 | K25: =K11+K18 -> -141.19444 | M25: Naar RR
B26: Eindwaarde MVA | E26: =SUM(E22:E25) -> 2000 | F26: =SUM(F22:F25) -> 1660 | G26: =SUM(G22:G25) -> 1949.1667 | H26: =SUM(H22:H25) -> 1410.2778 | I26: =SUM(I22:I25) -> 1207.7778 | J26: =SUM(J22:J25) -> 1373.4444 | K26: =SUM(K22:K25) -> 1362.25 | M26: Naar BS
B28: Mutatie eindwaarde MVA | E28: =E26-E22 -> 75 | F28: =F26-F22 -> -340 | G28: =G26-G22 -> 289.16667 | H28: =H26-H22 -> -538.88889 | I28: =I26-I22 -> -202.5 | J28: =J26-J22 -> 165.66667 | K28: =K26-K22 -> -11.194444
B30: Verkoop- en afstootspecificatie | E30: =E5 -> R 2024 | F30: ="R "&RIGHT(E30,4)+1 -> R 2025 | G30: ="P "&RIGHT(F30,4)+1 -> P 2026 | H30: ="P "&RIGHT(G30,4)+1 -> P 2027 | I30: ="P "&RIGHT(H30,4)+1 -> P 2028 | J30: ="P "&RIGHT(I30,4)+1 -> P 2029 | K30: ="P "&RIGHT(J30,4)+1 -> P 2030
B32: Verkoop-/afstoot bestaande MVA
B33: Verkoopprijs MVA | E33: ='Invoer bestaande MVA'!E25 -> 80 | F33: ='Invoer bestaande MVA'!F25 -> 150 | G33: ='Invoer bestaande MVA'!G25 -> 0 | H33: ='Invoer bestaande MVA'!H25 -> 80 | I33: ='Invoer bestaande MVA'!I25 -> 0 | J33: ='Invoer bestaande MVA'!J25 -> 0 | K33: ='Invoer bestaande MVA'!K25 -> 0
B34: Boekwaarde afgestote/verkochte MVA | E34: =E24 -> -50 | F34: =F24 -> -300 | G34: =G24 -> 0 | H34: =H24 -> -100 | I34: =I24 -> -50 | J34: =J24 -> 0 | K34: =K24 -> -20
B35: Verkoopresultaat vaste activa | E35: =SUM(E33:E34) -> 30 | F35: =SUM(F33:F34) -> -150 | G35: =SUM(G33:G34) -> 0 | H35: =SUM(H33:H34) -> -20 | I35: =SUM(I33:I34) -> -50 | J35: =SUM(J33:J34) -> 0 | K35: =SUM(K33:K34) -> -20
B37: Verkoop-/afstoot nieuwe MVA
B38: Restwaarde MVA | G38: ='Invoer nieuwe MVA'!AM16 -> 0 | H38: ='Invoer nieuwe MVA'!AN16 -> 0 | I38: ='Invoer nieuwe MVA'!AO16 -> 50 | J38: ='Invoer nieuwe MVA'!AP16 -> 0 | K38: ='Invoer nieuwe MVA'!AQ16 -> 20
B39: Boekwaarde afgestote/verkochte MVA | G39: =-G38 -> 0 | H39: =-H38 -> 0 | I39: =-I38 -> -50 | J39: =-J38 -> 0 | K39: =-K38 -> -20 | M39: Aanname: resterende boekwaarde nieuwe MVA = restwaarde bij einde looptijd
B40: Verkoopresultaat vaste activa | G40: =SUM(G38:G39) -> 0 | H40: =SUM(H38:H39) -> 0 | I40: =SUM(I38:I39) -> 0 | J40: =SUM(J38:J39) -> 0 | K40: =SUM(K38:K39) -> 0 | M40: Inclusief check of boekwaarde einde looptijd = restwaarde; indien ongelijk => Check boekwaarde in Invoer nieuwe MVA
B42: Verkoop-/afstoot totale MVA
B43: Verkoopprijs MVA | E43: =E33+E38 -> 80 | F43: =F33+F38 -> 150 | G43: =G33+G38 -> 0 | H43: =H33+H38 -> 80 | I43: =I33+I38 -> 50 | J43: =J33+J38 -> 0 | K43: =K33+K38 -> 20 | M43: Naar KSO
B44: Boekwaarde afgestote/verkochte MVA | E44: =E34+E39 -> -50 | F44: =F34+F39 -> -300 | G44: =G34+G39 -> 0 | H44: =H34+H39 -> -100 | I44: =I34+I39 -> -100 | J44: =J34+J39 -> 0 | K44: =K34+K39 -> -40
B45: Verkoopresultaat vaste activa | E45: =SUM(E43:E44) -> 30 | F45: =SUM(F43:F44) -> -150 | G45: =SUM(G43:G44) -> 0 | H45: =SUM(H43:H44) -> -20 | I45: =SUM(I43:I44) -> -50 | J45: =SUM(J43:J44) -> 0 | K45: =SUM(K43:K44) -> -20 | M45: Naar RR

Sheet INVOER->

Sheet Invoer bestaande MVA
K1: KnowYourFinance ©
B2: Invoer betaande MVA | E2: Master check: | G2: =SUM('Invoer nieuwe MVA'!$E4:$E5) -> 0
B4: Bedragen in EUR x 1.000
B5: Invoer startjaar
B7: Invoer eerste prognosejaar | E7: 2026
B9: Selectie jaren nieuwe investeringen: | E9: =E7 -> 2026 | M9: Ten behoeve van jaarselectie nieuwe investeringen in sheet Invoer nieuwe MVA
E10: =E9+1 -> 2027 | M10: Het model gaat standaard uit van een planningshorizon van 5 jaren
E11: =E10+1 -> 2028
E12: =E11+1 -> 2029
E13: =E12+1 -> 2030
B15: Invoer bestaande investeringen | E15: ="R "&E7-2 -> R 2024 | F15: ="R "&RIGHT(E15,4)+1 -> R 2025 | G15: ="P "&RIGHT(F15,4)+1 -> P 2026 | H15: ="P "&RIGHT(G15,4)+1 -> P 2027 | I15: ="P "&RIGHT(H15,4)+1 -> P 2028 | J15: ="P "&RIGHT(I15,4)+1 -> P 2029 | K15: ="P "&RIGHT(J15,4)+1 -> P 2030 | M15: Het model gaat uit van 2 historische jaren
B17: Bestaande MVA
B18: Beginwaarde bestaande MVA | E18: =E22-SUM(E19:E21) -> 1925 | F18: =E22 -> 2000 | G18: =F22 -> 1660 | H18: =G22 -> 1520 | I18: =H22 -> 1280 | J18: =I22 -> 1170 | K18: =J22 -> 1060
B19: Investeringen (+) | E19: 250 | F19: 100 | M19: Invoer alleen voor historische jaren; invoer nieuwe investeringen in volgende sheet
B20: Boekwaarde verkoop/afstoot (-/-) | E20: -50 | F20: -300 | H20: -100 | M20: Inclusief desinvesteringen
B21: Afschrijvingen (-/-) | E21: -125 | F21: -140 | G21: -140 | H21: -140 | I21: -110 | J21: -110 | K21: -100 | M21: Bron: resultatenrekening en activa administratie
B22: Eindwaarde bestaande MVA | E22: 2000 | F22: =SUM(F18:F21) -> 1660 | G22: =SUM(G18:G21) -> 1520 | H22: =SUM(H18:H21) -> 1280 | I22: =SUM(I18:I21) -> 1170 | J22: =SUM(J18:J21) -> 1060 | K22: =SUM(K18:K21) -> 960 | M22: Bron historische jaren: uit balans
B24: Verkoop-/afstoot specificatie MVA
B25: Verkoopprijs MVA | E25: =-E26+E27 -> 80 | F25: =-F26+F27 -> 150 | H25: 80
B26: Boekwaarde afgestote/verkochte MVA | E26: =E20 -> -50 | F26: =F20 -> -300 | G26: =G20 -> 0 | H26: =H20 -> -100 | I26: =I20 -> 0 | J26: =J20 -> 0 | K26: =K20 -> 0 | M26: ="Kopie regel "&ROW(M20) -> Kopie regel 20
B27: Verkoopresultaat vaste activa | E27: 30 | F27: -150 | G27: =SUM(G25:G26) -> 0 | H27: =SUM(H25:H26) -> -20 | I27: =SUM(I25:I26) -> 0 | J27: =SUM(J25:J26) -> 0 | K27: =SUM(K25:K26) -> 0 | M27: Bron historische jaren: uit Resultaten rekening

Sheet Invoer nieuwe MVA
S1: KnowYourFinance ©
B2: Invoer nieuwe MVA | E2: Checks:
B3: Bedragen in EUR x 1.000 | E3: =SUM(BA16:BG16) -> 0 | F3: Resterende boekwaarde is ongelijk aan restwaarde
E4: =SUM(BI16:BO16) -> 0 | F4: Investeringsuitgaven zijn ongelijk aan totale investering | R4: Hulpkolommen -> | U4: ='Invoer bestaande MVA'!E$15 -> R 2024 | V4: ='Invoer bestaande MVA'!F$15 -> R 2025 | W4: ='Invoer bestaande MVA'!G$15 -> P 2026 | X4: ='Invoer bestaande MVA'!H$15 -> P 2027 | Y4: ='Invoer bestaande MVA'!I$15 -> P 2028 | Z4: ='Invoer bestaande MVA'!J$15 -> P 2029 | AA4: ='Invoer bestaande MVA'!K$15 -> P 2030 | AC4: ='Invoer bestaande MVA'!E$15 -> R 2024 | AD4: ='Invoer bestaande MVA'!F$15 -> R 2025 | AE4: ='Invoer bestaande MVA'!G$15 -> P 2026 | AF4: ='Invoer bestaande MVA'!H$15 -> P 2027 | AG4: ='Invoer bestaande MVA'!I$15 -> P 2028 | AH4: ='Invoer bestaande MVA'!J$15 -> P 2029 | AI4: ='Invoer bestaande MVA'!K$15 -> P 2030 | AK4: ='Invoer bestaande MVA'!E$15 -> R 2024 | AL4: ='Invoer bestaande MVA'!F$15 -> R 2025 | AM4: ='Invoer bestaande MVA'!G$15 -> P 2026 | AN4: ='Invoer bestaande MVA'!H$15 -> P 2027 | AO4: ='Invoer bestaande MVA'!I$15 -> P 2028 | AP4: ='Invoer bestaande MVA'!J$15 -> P 2029 | AQ4: ='Invoer bestaande MVA'!K$15 -> P 2030 | AS4: ='Invoer bestaande MVA'!E$15 -> R 2024 | AT4: ='Invoer bestaande MVA'!F$15 -> R 2025 | AU4: ='Invoer bestaande MVA'!G$15 -> P 2026 | AV4: ='Invoer bestaande MVA'!H$15 -> P 2027 | AW4: ='Invoer bestaande MVA'!I$15 -> P 2028 | AX4: ='Invoer bestaande MVA'!J$15 -> P 2029 | AY4: ='Invoer bestaande MVA'!K$15 -> P 2030 | BA4: ='Invoer bestaande MVA'!E$15 -> R 2024 | BB4: ='Invoer bestaande MVA'!F$15 -> R 2025 | BC4: ='Invoer bestaande MVA'!G$15 -> P 2026 | BD4: ='Invoer bestaande MVA'!H$15 -> P 2027 | BE4: ='Invoer bestaande MVA'!I$15 -> P 2028 | BF4: ='Invoer bestaande MVA'!J$15 -> P 2029 | BG4: ='Invoer bestaande MVA'!K$15 -> P 2030 | BI4: ='Invoer bestaande MVA'!E$15 -> R 2024 | BJ4: ='Invoer bestaande MVA'!F$15 -> R 2025 | BK4: ='Invoer bestaande MVA'!G$15 -> P 2026 | BL4: ='Invoer bestaande MVA'!H$15 -> P 2027 | BM4: ='Invoer bestaande MVA'!I$15 -> P 2028 | BN4: ='Invoer bestaande MVA'!J$15 -> P 2029 | BO4: ='Invoer bestaande MVA'!K$15 -> P 2030
M5: Investeringsuitgaven zijn ongelijk aan totale investering | AK5: Resterende boekwaarde is ongelijk aan restwaarde
E6: Specificaties nieuwe investeringen | M6: Invoer investeringsuitgaven (indien ongelijk aan investeringsjaar) | U6: Investeringsuitgaven (default of overschreven) = activering (OHW) | AC6: Afschrijvingen | AK6: Restwaarde | AS6: Afschrijfpatroon hulp | BA6: Check boekwaarde nul na restwaarde | BI6: Check investeringsuitgaven compleet
B7: Omschrijving | E7: Investering | F7: Restwaarde | G7: Totale afschrijving | H7: Jaar investering | I7: Maand nummer | J7: # jaren afschr | K7: Afschr / jaar | M7: =VALUE(RIGHT('Invoer bestaande MVA'!E15,4)) -> 2024 | N7: =OFFSET(N7,0,-1)+1 -> 2025 | O7: =OFFSET(O7,0,-1)+1 -> 2026 | P7: =OFFSET(P7,0,-1)+1 -> 2027 | Q7: =OFFSET(Q7,0,-1)+1 -> 2028 | R7: =OFFSET(R7,0,-1)+1 -> 2029 | S7: =OFFSET(S7,0,-1)+1 -> 2030 | U7: =$M7 -> 2024 | V7: =OFFSET(V7,0,-1)+1 -> 2025 | W7: =OFFSET(W7,0,-1)+1 -> 2026 | X7: =OFFSET(X7,0,-1)+1 -> 2027 | Y7: =OFFSET(Y7,0,-1)+1 -> 2028 | Z7: =OFFSET(Z7,0,-1)+1 -> 2029 | AA7: =OFFSET(AA7,0,-1)+1 -> 2030 | AC7: =$M7 -> 2024 | AD7: =OFFSET(AD7,0,-1)+1 -> 2025 | AE7: =OFFSET(AE7,0,-1)+1 -> 2026 | AF7: =OFFSET(AF7,0,-1)+1 -> 2027 | AG7: =OFFSET(AG7,0,-1)+1 -> 2028 | AH7: =OFFSET(AH7,0,-1)+1 -> 2029 | AI7: =OFFSET(AI7,0,-1)+1 -> 2030 | AK7: =$M7 -> 2024 | AL7: =OFFSET(AL7,0,-1)+1 -> 2025 | AM7: =OFFSET(AM7,0,-1)+1 -> 2026 | AN7: =OFFSET(AN7,0,-1)+1 -> 2027 | AO7: =OFFSET(AO7,0,-1)+1 -> 2028 | AP7: =OFFSET(AP7,0,-1)+1 -> 2029 | AQ7: =OFFSET(AQ7,0,-1)+1 -> 2030 | AS7: =$M7 -> 2024 | AT7: =OFFSET(AT7,0,-1)+1 -> 2025 | AU7: =OFFSET(AU7,0,-1)+1 -> 2026 | AV7: =OFFSET(AV7,0,-1)+1 -> 2027 | AW7: =OFFSET(AW7,0,-1)+1 -> 2028 | AX7: =OFFSET(AX7,0,-1)+1 -> 2029 | AY7: =OFFSET(AY7,0,-1)+1 -> 2030 | BA7: =$M7 -> 2024 | BB7: =OFFSET(BB7,0,-1)+1 -> 2025 | BC7: =OFFSET(BC7,0,-1)+1 -> 2026 | BD7: =OFFSET(BD7,0,-1)+1 -> 2027 | BE7: =OFFSET(BE7,0,-1)+1 -> 2028 | BF7: =OFFSET(BF7,0,-1)+1 -> 2029 | BG7: =OFFSET(BG7,0,-1)+1 -> 2030 | BI7: =$M7 -> 2024 | BJ7: =OFFSET(BJ7,0,-1)+1 -> 2025 | BK7: =OFFSET(BK7,0,-1)+1 -> 2026 | BL7: =OFFSET(BL7,0,-1)+1 -> 2027 | BM7: =OFFSET(BM7,0,-1)+1 -> 2028 | BN7: =OFFSET(BN7,0,-1)+1 -> 2029 | BO7: =OFFSET(BO7,0,-1)+1 -> 2030
B9: Machine xyz | E9: 750 | F9: 50 | G9: =IF(E9<>"",E9-F9,"") -> 700 | H9: 2026 | I9: 1 | J9: 2 | K9: =IFERROR(G9/J9,"") -> 350 | O9: =IF($H9=O$7,$E9,"") -> 750 | P9: =IF($H9=P$7,$E9,"") | Q9: =IF($H9=Q$7,$E9,"") | R9: =IF($H9=R$7,$E9,"") | S9: =IF($H9=S$7,$E9,"") | W9: =IF(SUM($O9:$S9)>0,O9,IF($H9=W$7,$E9,"")) -> 750 | X9: =IF(SUM($O9:$S9)>0,P9,IF($H9=X$7,$E9,"")) | Y9: =IF(SUM($O9:$S9)>0,Q9,IF($H9=Y$7,$E9,"")) | Z9: =IF(SUM($O9:$S9)>0,R9,IF($H9=Z$7,$E9,"")) | AA9: =IF(SUM($O9:$S9)>0,S9,IF($H9=AA$7,$E9,"")) | AC9: =IF(AS9="start",$K9*(12-$I9)/12,IF(AS9="jaar",$K9,IF(AS9="eind",$K9*($I9/12),""))) | AD9: =IF(AT9="start",$K9*(12-$I9)/12,IF(AT9="jaar",$K9,IF(AT9="eind",$K9*($I9/12),""))) | AE9: =IF(AU9="start",$K9*(12-$I9)/12,IF(AU9="jaar",$K9,IF(AU9="eind",$K9*($I9/12),""))) -> 320.83333 | AF9: =IF(AV9="start",$K9*(12-$I9)/12,IF(AV9="jaar",$K9,IF(AV9="eind",$K9*($I9/12),""))) -> 350 | AG9: =IF(AW9="start",$K9*(12-$I9)/12,IF(AW9="jaar",$K9,IF(AW9="eind",$K9*($I9/12),""))) -> 29.166667 | AH9: =IF(AX9="start",$K9*(12-$I9)/12,IF(AX9="jaar",$K9,IF(AX9="eind",$K9*($I9/12),""))) | AI9: =IF(AY9="start",$K9*(12-$I9)/12,IF(AY9="jaar",$K9,IF(AY9="eind",$K9*($I9/12),""))) | AK9: =IF(BA9="start",$K9*(12-$I9)/12,IF(BA9="jaar",$K9,IF(BA9="eind",$K9*($I9/12),""))) | AL9: =IF(BB9="start",$K9*(12-$I9)/12,IF(BB9="jaar",$K9,IF(BB9="eind",$K9*($I9/12),""))) | AM9: =IF($F9<>0,IF($H9+$J9=AM$7,$F9,""),"") | AN9: =IF($F9<>0,IF($H9+$J9=AN$7,$F9,""),"") | AO9: =IF($F9<>0,IF($H9+$J9=AO$7,$F9,""),"") -> 50 | AP9: =IF($F9<>0,IF($H9+$J9=AP$7,$F9,""),"") | AQ9: =IF($F9<>0,IF($H9+$J9=AQ$7,$F9,""),"") | AS9: =IF(BI9="start",$K9*(12-$I9)/12,IF(BI9="jaar",$K9,IF(BI9="eind",$K9*($I9/12),""))) | AT9: =IF(BJ9="start",$K9*(12-$I9)/12,IF(BJ9="jaar",$K9,IF(BJ9="eind",$K9*($I9/12),""))) | AU9: =IF(LEFT(AU$4,1)="R","",IF(AND($H9<AU$7,($H9+$J9)>AU$7),"jaar",IF($H9=AU$7,"start",IF($H9+$J9=AU$7,"eind","")))) -> start | AV9: =IF(LEFT(AV$4,1)="R","",IF(AND($H9<AV$7,($H9+$J9)>AV$7),"jaar",IF($H9=AV$7,"start",IF($H9+$J9=AV$7,"eind","")))) -> jaar | AW9: =IF(LEFT(AW$4,1)="R","",IF(AND($H9<AW$7,($H9+$J9)>AW$7),"jaar",IF($H9=AW$7,"start",IF($H9+$J9=AW$7,"eind","")))) -> eind | AX9: =IF(LEFT(AX$4,1)="R","",IF(AND($H9<AX$7,($H9+$J9)>AX$7),"jaar",IF($H9=AX$7,"start",IF($H9+$J9=AX$7,"eind","")))) | AY9: =IF(LEFT(AY$4,1)="R","",IF(AND($H9<AY$7,($H9+$J9)>AY$7),"jaar",IF($H9=AY$7,"start",IF($H9+$J9=AY$7,"eind","")))) | BA9: =IF(BQ9="start",$K9*(12-$I9)/12,IF(BQ9="jaar",$K9,IF(BQ9="eind",$K9*($I9/12),""))) | BB9: =IF(BR9="start",$K9*(12-$I9)/12,IF(BR9="jaar",$K9,IF(BR9="eind",$K9*($I9/12),""))) | BC9: =IF(AM9<>"",$G9-SUM($AC9:$AI9),"") | BD9: =IF(AN9<>"",$G9-SUM($AC9:$AI9),"") | BE9: =IF(AO9<>"",$G9-SUM($AC9:$AI9),"") -> 1.1368684e-13 | BF9: =IF(AP9<>"",$G9-SUM($AC9:$AI9),"") | BG9: =IF(AQ9<>"",$G9-SUM($AC9:$AI9),"") | BI9: =IF(BY9="start",$K9*(12-$I9)/12,IF(BY9="jaar",$K9,IF(BY9="eind",$K9*($I9/12),""))) | BJ9: =IF(BZ9="start",$K9*(12-$I9)/12,IF(BZ9="jaar",$K9,IF(BZ9="eind",$K9*($I9/12),""))) | BK9: =IF(SUM($M9:$S9)<>0,$E9-SUM($M9:$S9),"") -> 0 | BL9: =IF(SUM($M9:$S9)<>0,$E9-SUM($M9:$S9),"") -> 0 | BM9: =IF(SUM($M9:$S9)<>0,$E9-SUM($M9:$S9),"") -> 0 | BN9: =IF(SUM($M9:$S9)<>0,$E9-SUM($M9:$S9),"") -> 0 | BO9: =IF(SUM($M9:$S9)<>0,$E9-SUM($M9:$S9),"") -> 0
B10: Auto | E10: 60 | F10: 20 | G10: =IF(E10<>"",E10-F10,"") -> 40 | H10: 2027 | I10: 4 | J10: 3 | K10: =IFERROR(G10/J10,"") -> 13.333333 | O10: =IF($H10=O$7,$E10,"") | P10: =IF($H10=P$7,$E10,"") -> 60 | Q10: =IF($H10=Q$7,$E10,"") | R10: =IF($H10=R$7,$E10,"") | S10: =IF($H10=S$7,$E10,"") | W10: =IF(SUM($O10:$S10)>0,O10,IF($H10=W$7,$E10,"")) | X10: =IF(SUM($O10:$S10)>0,P10,IF($H10=X$7,$E10,"")) -> 60 | Y10: =IF(SUM($O10:$S10)>0,Q10,IF($H10=Y$7,$E10,"")) | Z10: =IF(SUM($O10:$S10)>0,R10,IF($H10=Z$7,$E10,"")) | AA10: =IF(SUM($O10:$S10)>0,S10,IF($H10=AA$7,$E10,"")) | AC10: =IF(AS10="start",$K10*(12-$I10)/12,IF(AS10="jaar",$K10,IF(AS10="eind",$K10*($I10/12),""))) | AD10: =IF(AT10="start",$K10*(12-$I10)/12,IF(AT10="jaar",$K10,IF(AT10="eind",$K10*($I10/12),""))) | AE10: =IF(AU10="start",$K10*(12-$I10)/12,IF(AU10="jaar",$K10,IF(AU10="eind",$K10*($I10/12),""))) | AF10: =IF(AV10="start",$K10*(12-$I10)/12,IF(AV10="jaar",$K10,IF(AV10="eind",$K10*($I10/12),""))) -> 8.8888889 | AG10: =IF(AW10="start",$K10*(12-$I10)/12,IF(AW10="jaar",$K10,IF(AW10="eind",$K10*($I10/12),""))) -> 13.333333 | AH10: =IF(AX10="start",$K10*(12-$I10)/12,IF(AX10="jaar",$K10,IF(AX10="eind",$K10*($I10/12),""))) -> 13.333333 | AI10: =IF(AY10="start",$K10*(12-$I10)/12,IF(AY10="jaar",$K10,IF(AY10="eind",$K10*($I10/12),""))) -> 4.4444444 | AK10: =IF(BA10="start",$K10*(12-$I10)/12,IF(BA10="jaar",$K10,IF(BA10="eind",$K10*($I10/12),""))) | AL10: =IF(BB10="start",$K10*(12-$I10)/12,IF(BB10="jaar",$K10,IF(BB10="eind",$K10*($I10/12),""))) | AM10: =IF($F10<>0,IF($H10+$J10=AM$7,$F10,""),"") | AN10: =IF($F10<>0,IF($H10+$J10=AN$7,$F10,""),"") | AO10: =IF($F10<>0,IF($H10+$J10=AO$7,$F10,""),"") | AP10: =IF($F10<>0,IF($H10+$J10=AP$7,$F10,""),"") | AQ10: =IF($F10<>0,IF($H10+$J10=AQ$7,$F10,""),"") -> 20 | AS10: =IF(BI10="start",$K10*(12-$I10)/12,IF(BI10="jaar",$K10,IF(BI10="eind",$K10*($I10/12),""))) | AT10: =IF(BJ10="start",$K10*(12-$I10)/12,IF(BJ10="jaar",$K10,IF(BJ10="eind",$K10*($I10/12),""))) | AU10: =IF(LEFT(AU$4,1)="R","",IF(AND($H10<AU$7,($H10+$J10)>AU$7),"jaar",IF($H10=AU$7,"start",IF($H10+$J10=AU$7,"eind","")))) | AV10: =IF(LEFT(AV$4,1)="R","",IF(AND($H10<AV$7,($H10+$J10)>AV$7),"jaar",IF($H10=AV$7,"start",IF($H10+$J10=AV$7,"eind","")))) -> start | AW10: =IF(LEFT(AW$4,1)="R","",IF(AND($H10<AW$7,($H10+$J10)>AW$7),"jaar",IF($H10=AW$7,"start",IF($H10+$J10=AW$7,"eind","")))) -> jaar | AX10: =IF(LEFT(AX$4,1)="R","",IF(AND($H10<AX$7,($H10+$J10)>AX$7),"jaar",IF($H10=AX$7,"start",IF($H10+$J10=AX$7,"eind","")))) -> jaar | AY10: =IF(LEFT(AY$4,1)="R","",IF(AND($H10<AY$7,($H10+$J10)>AY$7),"jaar",IF($H10=AY$7,"start",IF($H10+$J10=AY$7,"eind","")))) -> eind | BA10: =IF(BQ10="start",$K10*(12-$I10)/12,IF(BQ10="jaar",$K10,IF(BQ10="eind",$K10*($I10/12),""))) | BB10: =IF(BR10="start",$K10*(12-$I10)/12,IF(BR10="jaar",$K10,IF(BR10="eind",$K10*($I10/12),""))) | BC10: =IF(AM10<>"",$G10-SUM($AC10:$AI10),"") | BD10: =IF(AN10<>"",$G10-SUM($AC10:$AI10),"") | BE10: =IF(AO10<>"",$G10-SUM($AC10:$AI10),"") | BF10: =IF(AP10<>"",$G10-SUM($AC10:$AI10),"") | BG10: =IF(AQ10<>"",$G10-SUM($AC10:$AI10),"") -> 0 | BI10: =IF(BY10="start",$K10*(12-$I10)/12,IF(BY10="jaar",$K10,IF(BY10="eind",$K10*($I10/12),""))) | BJ10: =IF(BZ10="start",$K10*(12-$I10)/12,IF(BZ10="jaar",$K10,IF(BZ10="eind",$K10*($I10/12),""))) | BK10: =IF(SUM($M10:$S10)<>0,$E10-SUM($M10:$S10),"") -> 0 | BL10: =IF(SUM($M10:$S10)<>0,$E10-SUM($M10:$S10),"") -> 0 | BM10: =IF(SUM($M10:$S10)<>0,$E10-SUM($M10:$S10),"") -> 0 | BN10: =IF(SUM($M10:$S10)<>0,$E10-SUM($M10:$S10),"") -> 0 | BO10: =IF(SUM($M10:$S10)<>0,$E10-SUM($M10:$S10),"") -> 0
B11: Gevel | E11: 150 | F11: 30 | G11: =IF(E11<>"",E11-F11,"") -> 120 | H11: 2029 | I11: 1 | J11: 10 | K11: =IFERROR(G11/J11,"") -> 12 | O11: =IF($H11=O$7,$E11,"") | P11: =IF($H11=P$7,$E11,"") | Q11: =IF($H11=Q$7,$E11,"") | R11: =IF($H11=R$7,$E11,"") -> 150 | S11: =IF($H11=S$7,$E11,"") | W11: =IF(SUM($O11:$S11)>0,O11,IF($H11=W$7,$E11,"")) | X11: =IF(SUM($O11:$S11)>0,P11,IF($H11=X$7,$E11,"")) | Y11: =IF(SUM($O11:$S11)>0,Q11,IF($H11=Y$7,$E11,"")) | Z11: =IF(SUM($O11:$S11)>0,R11,IF($H11=Z$7,$E11,"")) -> 150 | AA11: =IF(SUM($O11:$S11)>0,S11,IF($H11=AA$7,$E11,"")) | AC11: =IF(AS11="start",$K11*(12-$I11)/12,IF(AS11="jaar",$K11,IF(AS11="eind",$K11*($I11/12),""))) | AD11: =IF(AT11="start",$K11*(12-$I11)/12,IF(AT11="jaar",$K11,IF(AT11="eind",$K11*($I11/12),""))) | AE11: =IF(AU11="start",$K11*(12-$I11)/12,IF(AU11="jaar",$K11,IF(AU11="eind",$K11*($I11/12),""))) | AF11: =IF(AV11="start",$K11*(12-$I11)/12,IF(AV11="jaar",$K11,IF(AV11="eind",$K11*($I11/12),""))) | AG11: =IF(AW11="start",$K11*(12-$I11)/12,IF(AW11="jaar",$K11,IF(AW11="eind",$K11*($I11/12),""))) | AH11: =IF(AX11="start",$K11*(12-$I11)/12,IF(AX11="jaar",$K11,IF(AX11="eind",$K11*($I11/12),""))) -> 11 | AI11: =IF(AY11="start",$K11*(12-$I11)/12,IF(AY11="jaar",$K11,IF(AY11="eind",$K11*($I11/12),""))) -> 12 | AK11: =IF(BA11="start",$K11*(12-$I11)/12,IF(BA11="jaar",$K11,IF(BA11="eind",$K11*($I11/12),""))) | AL11: =IF(BB11="start",$K11*(12-$I11)/12,IF(BB11="jaar",$K11,IF(BB11="eind",$K11*($I11/12),""))) | AM11: =IF($F11<>0,IF($H11+$J11=AM$7,$F11,""),"") | AN11: =IF($F11<>0,IF($H11+$J11=AN$7,$F11,""),"") | AO11: =IF($F11<>0,IF($H11+$J11=AO$7,$F11,""),"") | AP11: =IF($F11<>0,IF($H11+$J11=AP$7,$F11,""),"") | AQ11: =IF($F11<>0,IF($H11+$J11=AQ$7,$F11,""),"") | AS11: =IF(BI11="start",$K11*(12-$I11)/12,IF(BI11="jaar",$K11,IF(BI11="eind",$K11*($I11/12),""))) | AT11: =IF(BJ11="start",$K11*(12-$I11)/12,IF(BJ11="jaar",$K11,IF(BJ11="eind",$K11*($I11/12),""))) | AU11: =IF(LEFT(AU$4,1)="R","",IF(AND($H11<AU$7,($H11+$J11)>AU$7),"jaar",IF($H11=AU$7,"start",IF($H11+$J11=AU$7,"eind","")))) | AV11: =IF(LEFT(AV$4,1)="R","",IF(AND($H11<AV$7,($H11+$J11)>AV$7),"jaar",IF($H11=AV$7,"start",IF($H11+$J11=AV$7,"eind","")))) | AW11: =IF(LEFT(AW$4,1)="R","",IF(AND($H11<AW$7,($H11+$J11)>AW$7),"jaar",IF($H11=AW$7,"start",IF($H11+$J11=AW$7,"eind","")))) | AX11: =IF(LEFT(AX$4,1)="R","",IF(AND($H11<AX$7,($H11+$J11)>AX$7),"jaar",IF($H11=AX$7,"start",IF($H11+$J11=AX$7,"eind","")))) -> start | AY11: =IF(LEFT(AY$4,1)="R","",IF(AND($H11<AY$7,($H11+$J11)>AY$7),"jaar",IF($H11=AY$7,"start",IF($H11+$J11=AY$7,"eind","")))) -> jaar | BA11: =IF(BQ11="start",$K11*(12-$I11)/12,IF(BQ11="jaar",$K11,IF(BQ11="eind",$K11*($I11/12),""))) | BB11: =IF(BR11="start",$K11*(12-$I11)/12,IF(BR11="jaar",$K11,IF(BR11="eind",$K11*($I11/12),""))) | BC11: =IF(AM11<>"",$G11-SUM($AC11:$AI11),"") | BD11: =IF(AN11<>"",$G11-SUM($AC11:$AI11),"") | BE11: =IF(AO11<>"",$G11-SUM($AC11:$AI11),"") | BF11: =IF(AP11<>"",$G11-SUM($AC11:$AI11),"") | BG11: =IF(AQ11<>"",$G11-SUM($AC11:$AI11),"") | BI11: =IF(BY11="start",$K11*(12-$I11)/12,IF(BY11="jaar",$K11,IF(BY11="eind",$K11*($I11/12),""))) | BJ11: =IF(BZ11="start",$K11*(12-$I11)/12,IF(BZ11="jaar",$K11,IF(BZ11="eind",$K11*($I11/12),""))) | BK11: =IF(SUM($M11:$S11)<>0,$E11-SUM($M11:$S11),"") -> 0 | BL11: =IF(SUM($M11:$S11)<>0,$E11-SUM($M11:$S11),"") -> 0 | BM11: =IF(SUM($M11:$S11)<>0,$E11-SUM($M11:$S11),"") -> 0 | BN11: =IF(SUM($M11:$S11)<>0,$E11-SUM($M11:$S11),"") -> 0 | BO11: =IF(SUM($M11:$S11)<>0,$E11-SUM($M11:$S11),"") -> 0
B12: Aanbouw | E12: 300 | F12: 30 | G12: =IF(E12<>"",E12-F12,"") -> 270 | H12: 2030 | I12: 1 | J12: 10 | K12: =IFERROR(G12/J12,"") -> 27 | O12: =IF($H12=O$7,$E12,"") | P12: =IF($H12=P$7,$E12,"") | Q12: =IF($H12=Q$7,$E12,"") | R12: 150 | S12: 150 | W12: =IF(SUM($O12:$S12)>0,O12,IF($H12=W$7,$E12,"")) | X12: =IF(SUM($O12:$S12)>0,P12,IF($H12=X$7,$E12,"")) | Y12: =IF(SUM($O12:$S12)>0,Q12,IF($H12=Y$7,$E12,"")) | Z12: =IF(SUM($O12:$S12)>0,R12,IF($H12=Z$7,$E12,"")) -> 150 | AA12: =IF(SUM($O12:$S12)>0,S12,IF($H12=AA$7,$E12,"")) -> 150 | AC12: =IF(AS12="start",$K12*(12-$I12)/12,IF(AS12="jaar",$K12,IF(AS12="eind",$K12*($I12/12),""))) | AD12: =IF(AT12="start",$K12*(12-$I12)/12,IF(AT12="jaar",$K12,IF(AT12="eind",$K12*($I12/12),""))) | AE12: =IF(AU12="start",$K12*(12-$I12)/12,IF(AU12="jaar",$K12,IF(AU12="eind",$K12*($I12/12),""))) | AF12: =IF(AV12="start",$K12*(12-$I12)/12,IF(AV12="jaar",$K12,IF(AV12="eind",$K12*($I12/12),""))) | AG12: =IF(AW12="start",$K12*(12-$I12)/12,IF(AW12="jaar",$K12,IF(AW12="eind",$K12*($I12/12),""))) | AH12: =IF(AX12="start",$K12*(12-$I12)/12,IF(AX12="jaar",$K12,IF(AX12="eind",$K12*($I12/12),""))) | AI12: =IF(AY12="start",$K12*(12-$I12)/12,IF(AY12="jaar",$K12,IF(AY12="eind",$K12*($I12/12),""))) -> 24.75 | AK12: =IF(BA12="start",$K12*(12-$I12)/12,IF(BA12="jaar",$K12,IF(BA12="eind",$K12*($I12/12),""))) | AL12: =IF(BB12="start",$K12*(12-$I12)/12,IF(BB12="jaar",$K12,IF(BB12="eind",$K12*($I12/12),""))) | AM12: =IF($F12<>0,IF($H12+$J12=AM$7,$F12,""),"") | AN12: =IF($F12<>0,IF($H12+$J12=AN$7,$F12,""),"") | AO12: =IF($F12<>0,IF($H12+$J12=AO$7,$F12,""),"") | AP12: =IF($F12<>0,IF($H12+$J12=AP$7,$F12,""),"") | AQ12: =IF($F12<>0,IF($H12+$J12=AQ$7,$F12,""),"") | AS12: =IF(BI12="start",$K12*(12-$I12)/12,IF(BI12="jaar",$K12,IF(BI12="eind",$K12*($I12/12),""))) | AT12: =IF(BJ12="start",$K12*(12-$I12)/12,IF(BJ12="jaar",$K12,IF(BJ12="eind",$K12*($I12/12),""))) | AU12: =IF(LEFT(AU$4,1)="R","",IF(AND($H12<AU$7,($H12+$J12)>AU$7),"jaar",IF($H12=AU$7,"start",IF($H12+$J12=AU$7,"eind","")))) | AV12: =IF(LEFT(AV$4,1)="R","",IF(AND($H12<AV$7,($H12+$J12)>AV$7),"jaar",IF($H12=AV$7,"start",IF($H12+$J12=AV$7,"eind","")))) | AW12: =IF(LEFT(AW$4,1)="R","",IF(AND($H12<AW$7,($H12+$J12)>AW$7),"jaar",IF($H12=AW$7,"start",IF($H12+$J12=AW$7,"eind","")))) | AX12: =IF(LEFT(AX$4,1)="R","",IF(AND($H12<AX$7,($H12+$J12)>AX$7),"jaar",IF($H12=AX$7,"start",IF($H12+$J12=AX$7,"eind","")))) | AY12: =IF(LEFT(AY$4,1)="R","",IF(AND($H12<AY$7,($H12+$J12)>AY$7),"jaar",IF($H12=AY$7,"start",IF($H12+$J12=AY$7,"eind","")))) -> start | BA12: =IF(BQ12="start",$K12*(12-$I12)/12,IF(BQ12="jaar",$K12,IF(BQ12="eind",$K12*($I12/12),""))) | BB12: =IF(BR12="start",$K12*(12-$I12)/12,IF(BR12="jaar",$K12,IF(BR12="eind",$K12*($I12/12),""))) | BC12: =IF(AM12<>"",$G12-SUM($AC12:$AI12),"") | BD12: =IF(AN12<>"",$G12-SUM($AC12:$AI12),"") | BE12: =IF(AO12<>"",$G12-SUM($AC12:$AI12),"") | BF12: =IF(AP12<>"",$G12-SUM($AC12:$AI12),"") | BG12: =IF(AQ12<>"",$G12-SUM($AC12:$AI12),"") | BI12: =IF(BY12="start",$K12*(12-$I12)/12,IF(BY12="jaar",$K12,IF(BY12="eind",$K12*($I12/12),""))) | BJ12: =IF(BZ12="start",$K12*(12-$I12)/12,IF(BZ12="jaar",$K12,IF(BZ12="eind",$K12*($I12/12),""))) | BK12: =IF(SUM($M12:$S12)<>0,$E12-SUM($M12:$S12),"") -> 0 | BL12: =IF(SUM($M12:$S12)<>0,$E12-SUM($M12:$S12),"") -> 0 | BM12: =IF(SUM($M12:$S12)<>0,$E12-SUM($M12:$S12),"") -> 0 | BN12: =IF(SUM($M12:$S12)<>0,$E12-SUM($M12:$S12),"") -> 0 | BO12: =IF(SUM($M12:$S12)<>0,$E12-SUM($M12:$S12),"") -> 0
G13: =IF(E13<>"",E13-F13,"") | K13: =IFERROR(G13/J13,"") | O13: =IF($H13=O$7,$E13,"") | P13: =IF($H13=P$7,$E13,"") | Q13: =IF($H13=Q$7,$E13,"") | R13: =IF($H13=R$7,$E13,"") | S13: =IF($H13=S$7,$E13,"") | W13: =IF(SUM($O13:$S13)>0,O13,IF($H13=W$7,$E13,"")) | X13: =IF(SUM($O13:$S13)>0,P13,IF($H13=X$7,$E13,"")) | Y13: =IF(SUM($O13:$S13)>0,Q13,IF($H13=Y$7,$E13,"")) | Z13: =IF(SUM($O13:$S13)>0,R13,IF($H13=Z$7,$E13,"")) | AA13: =IF(SUM($O13:$S13)>0,S13,IF($H13=AA$7,$E13,"")) | AC13: =IF(AS13="start",$K13*(12-$I13)/12,IF(AS13="jaar",$K13,IF(AS13="eind",$K13*($I13/12),""))) | AD13: =IF(AT13="start",$K13*(12-$I13)/12,IF(AT13="jaar",$K13,IF(AT13="eind",$K13*($I13/12),""))) | AE13: =IF(AU13="start",$K13*(12-$I13)/12,IF(AU13="jaar",$K13,IF(AU13="eind",$K13*($I13/12),""))) | AF13: =IF(AV13="start",$K13*(12-$I13)/12,IF(AV13="jaar",$K13,IF(AV13="eind",$K13*($I13/12),""))) | AG13: =IF(AW13="start",$K13*(12-$I13)/12,IF(AW13="jaar",$K13,IF(AW13="eind",$K13*($I13/12),""))) | AH13: =IF(AX13="start",$K13*(12-$I13)/12,IF(AX13="jaar",$K13,IF(AX13="eind",$K13*($I13/12),""))) | AI13: =IF(AY13="start",$K13*(12-$I13)/12,IF(AY13="jaar",$K13,IF(AY13="eind",$K13*($I13/12),""))) | AK13: =IF(BA13="start",$K13*(12-$I13)/12,IF(BA13="jaar",$K13,IF(BA13="eind",$K13*($I13/12),""))) | AL13: =IF(BB13="start",$K13*(12-$I13)/12,IF(BB13="jaar",$K13,IF(BB13="eind",$K13*($I13/12),""))) | AM13: =IF($F13<>0,IF($H13+$J13=AM$7,$F13,""),"") | AN13: =IF($F13<>0,IF($H13+$J13=AN$7,$F13,""),"") | AO13: =IF($F13<>0,IF($H13+$J13=AO$7,$F13,""),"") | AP13: =IF($F13<>0,IF($H13+$J13=AP$7,$F13,""),"") | AQ13: =IF($F13<>0,IF($H13+$J13=AQ$7,$F13,""),"") | AS13: =IF(BI13="start",$K13*(12-$I13)/12,IF(BI13="jaar",$K13,IF(BI13="eind",$K13*($I13/12),""))) | AT13: =IF(BJ13="start",$K13*(12-$I13)/12,IF(BJ13="jaar",$K13,IF(BJ13="eind",$K13*($I13/12),""))) | AU13: =IF(LEFT(AU$4,1)="R","",IF(AND($H13<AU$7,($H13+$J13)>AU$7),"jaar",IF($H13=AU$7,"start",IF($H13+$J13=AU$7,"eind","")))) | AV13: =IF(LEFT(AV$4,1)="R","",IF(AND($H13<AV$7,($H13+$J13)>AV$7),"jaar",IF($H13=AV$7,"start",IF($H13+$J13=AV$7,"eind","")))) | AW13: =IF(LEFT(AW$4,1)="R","",IF(AND($H13<AW$7,($H13+$J13)>AW$7),"jaar",IF($H13=AW$7,"start",IF($H13+$J13=AW$7,"eind","")))) | AX13: =IF(LEFT(AX$4,1)="R","",IF(AND($H13<AX$7,($H13+$J13)>AX$7),"jaar",IF($H13=AX$7,"start",IF($H13+$J13=AX$7,"eind","")))) | AY13: =IF(LEFT(AY$4,1)="R","",IF(AND($H13<AY$7,($H13+$J13)>AY$7),"jaar",IF($H13=AY$7,"start",IF($H13+$J13=AY$7,"eind","")))) | BA13: =IF(BQ13="start",$K13*(12-$I13)/12,IF(BQ13="jaar",$K13,IF(BQ13="eind",$K13*($I13/12),""))) | BB13: =IF(BR13="start",$K13*(12-$I13)/12,IF(BR13="jaar",$K13,IF(BR13="eind",$K13*($I13/12),""))) | BC13: =IF(AM13<>"",$G13-SUM($AC13:$AI13),"") | BD13: =IF(AN13<>"",$G13-SUM($AC13:$AI13),"") | BE13: =IF(AO13<>"",$G13-SUM($AC13:$AI13),"") | BF13: =IF(AP13<>"",$G13-SUM($AC13:$AI13),"") | BG13: =IF(AQ13<>"",$G13-SUM($AC13:$AI13),"") | BI13: =IF(BY13="start",$K13*(12-$I13)/12,IF(BY13="jaar",$K13,IF(BY13="eind",$K13*($I13/12),""))) | BJ13: =IF(BZ13="start",$K13*(12-$I13)/12,IF(BZ13="jaar",$K13,IF(BZ13="eind",$K13*($I13/12),""))) | BK13: =IF(SUM($M13:$S13)<>0,$E13-SUM($M13:$S13),"") | BL13: =IF(SUM($M13:$S13)<>0,$E13-SUM($M13:$S13),"") | BM13: =IF(SUM($M13:$S13)<>0,$E13-SUM($M13:$S13),"") | BN13: =IF(SUM($M13:$S13)<>0,$E13-SUM($M13:$S13),"") | BO13: =IF(SUM($M13:$S13)<>0,$E13-SUM($M13:$S13),"")
G14: =IF(E14<>"",E14-F14,"") | K14: =IFERROR(G14/J14,"") | O14: =IF($H14=O$7,$E14,"") | P14: =IF($H14=P$7,$E14,"") | Q14: =IF($H14=Q$7,$E14,"") | R14: =IF($H14=R$7,$E14,"") | S14: =IF($H14=S$7,$E14,"") | W14: =IF(SUM($O14:$S14)>0,O14,IF($H14=W$7,$E14,"")) | X14: =IF(SUM($O14:$S14)>0,P14,IF($H14=X$7,$E14,"")) | Y14: =IF(SUM($O14:$S14)>0,Q14,IF($H14=Y$7,$E14,"")) | Z14: =IF(SUM($O14:$S14)>0,R14,IF($H14=Z$7,$E14,"")) | AA14: =IF(SUM($O14:$S14)>0,S14,IF($H14=AA$7,$E14,"")) | AC14: =IF(AS14="start",$K14*(12-$I14)/12,IF(AS14="jaar",$K14,IF(AS14="eind",$K14*($I14/12),""))) | AD14: =IF(AT14="start",$K14*(12-$I14)/12,IF(AT14="jaar",$K14,IF(AT14="eind",$K14*($I14/12),""))) | AE14: =IF(AU14="start",$K14*(12-$I14)/12,IF(AU14="jaar",$K14,IF(AU14="eind",$K14*($I14/12),""))) | AF14: =IF(AV14="start",$K14*(12-$I14)/12,IF(AV14="jaar",$K14,IF(AV14="eind",$K14*($I14/12),""))) | AG14: =IF(AW14="start",$K14*(12-$I14)/12,IF(AW14="jaar",$K14,IF(AW14="eind",$K14*($I14/12),""))) | AH14: =IF(AX14="start",$K14*(12-$I14)/12,IF(AX14="jaar",$K14,IF(AX14="eind",$K14*($I14/12),""))) | AI14: =IF(AY14="start",$K14*(12-$I14)/12,IF(AY14="jaar",$K14,IF(AY14="eind",$K14*($I14/12),""))) | AK14: =IF(BA14="start",$K14*(12-$I14)/12,IF(BA14="jaar",$K14,IF(BA14="eind",$K14*($I14/12),""))) | AL14: =IF(BB14="start",$K14*(12-$I14)/12,IF(BB14="jaar",$K14,IF(BB14="eind",$K14*($I14/12),""))) | AM14: =IF($F14<>0,IF($H14+$J14=AM$7,$F14,""),"") | AN14: =IF($F14<>0,IF($H14+$J14=AN$7,$F14,""),"") | AO14: =IF($F14<>0,IF($H14+$J14=AO$7,$F14,""),"") | AP14: =IF($F14<>0,IF($H14+$J14=AP$7,$F14,""),"") | AQ14: =IF($F14<>0,IF($H14+$J14=AQ$7,$F14,""),"") | AS14: =IF(BI14="start",$K14*(12-$I14)/12,IF(BI14="jaar",$K14,IF(BI14="eind",$K14*($I14/12),""))) | AT14: =IF(BJ14="start",$K14*(12-$I14)/12,IF(BJ14="jaar",$K14,IF(BJ14="eind",$K14*($I14/12),""))) | AU14: =IF(LEFT(AU$4,1)="R","",IF(AND($H14<AU$7,($H14+$J14)>AU$7),"jaar",IF($H14=AU$7,"start",IF($H14+$J14=AU$7,"eind","")))) | AV14: =IF(LEFT(AV$4,1)="R","",IF(AND($H14<AV$7,($H14+$J14)>AV$7),"jaar",IF($H14=AV$7,"start",IF($H14+$J14=AV$7,"eind","")))) | AW14: =IF(LEFT(AW$4,1)="R","",IF(AND($H14<AW$7,($H14+$J14)>AW$7),"jaar",IF($H14=AW$7,"start",IF($H14+$J14=AW$7,"eind","")))) | AX14: =IF(LEFT(AX$4,1)="R","",IF(AND($H14<AX$7,($H14+$J14)>AX$7),"jaar",IF($H14=AX$7,"start",IF($H14+$J14=AX$7,"eind","")))) | AY14: =IF(LEFT(AY$4,1)="R","",IF(AND($H14<AY$7,($H14+$J14)>AY$7),"jaar",IF($H14=AY$7,"start",IF($H14+$J14=AY$7,"eind","")))) | BA14: =IF(BQ14="start",$K14*(12-$I14)/12,IF(BQ14="jaar",$K14,IF(BQ14="eind",$K14*($I14/12),""))) | BB14: =IF(BR14="start",$K14*(12-$I14)/12,IF(BR14="jaar",$K14,IF(BR14="eind",$K14*($I14/12),""))) | BC14: =IF(AM14<>"",$G14-SUM($AC14:$AI14),"") | BD14: =IF(AN14<>"",$G14-SUM($AC14:$AI14),"") | BE14: =IF(AO14<>"",$G14-SUM($AC14:$AI14),"") | BF14: =IF(AP14<>"",$G14-SUM($AC14:$AI14),"") | BG14: =IF(AQ14<>"",$G14-SUM($AC14:$AI14),"") | BI14: =IF(BY14="start",$K14*(12-$I14)/12,IF(BY14="jaar",$K14,IF(BY14="eind",$K14*($I14/12),""))) | BJ14: =IF(BZ14="start",$K14*(12-$I14)/12,IF(BZ14="jaar",$K14,IF(BZ14="eind",$K14*($I14/12),""))) | BK14: =IF(SUM($M14:$S14)<>0,$E14-SUM($M14:$S14),"") | BL14: =IF(SUM($M14:$S14)<>0,$E14-SUM($M14:$S14),"") | BM14: =IF(SUM($M14:$S14)<>0,$E14-SUM($M14:$S14),"") | BN14: =IF(SUM($M14:$S14)<>0,$E14-SUM($M14:$S14),"") | BO14: =IF(SUM($M14:$S14)<>0,$E14-SUM($M14:$S14),"")
G15: =IF(E15<>"",E15-F15,"") | K15: =IFERROR(G15/J15,"") | O15: =IF($H15=O$7,$E15,"") | P15: =IF($H15=P$7,$E15,"") | Q15: =IF($H15=Q$7,$E15,"") | R15: =IF($H15=R$7,$E15,"") | S15: =IF($H15=S$7,$E15,"") | W15: =IF(SUM($O15:$S15)>0,O15,IF($H15=W$7,$E15,"")) | X15: =IF(SUM($O15:$S15)>0,P15,IF($H15=X$7,$E15,"")) | Y15: =IF(SUM($O15:$S15)>0,Q15,IF($H15=Y$7,$E15,"")) | Z15: =IF(SUM($O15:$S15)>0,R15,IF($H15=Z$7,$E15,"")) | AA15: =IF(SUM($O15:$S15)>0,S15,IF($H15=AA$7,$E15,"")) | AC15: =IF(AS15="start",$K15*(12-$I15)/12,IF(AS15="jaar",$K15,IF(AS15="eind",$K15*($I15/12),""))) | AD15: =IF(AT15="start",$K15*(12-$I15)/12,IF(AT15="jaar",$K15,IF(AT15="eind",$K15*($I15/12),""))) | AE15: =IF(AU15="start",$K15*(12-$I15)/12,IF(AU15="jaar",$K15,IF(AU15="eind",$K15*($I15/12),""))) | AF15: =IF(AV15="start",$K15*(12-$I15)/12,IF(AV15="jaar",$K15,IF(AV15="eind",$K15*($I15/12),""))) | AG15: =IF(AW15="start",$K15*(12-$I15)/12,IF(AW15="jaar",$K15,IF(AW15="eind",$K15*($I15/12),""))) | AH15: =IF(AX15="start",$K15*(12-$I15)/12,IF(AX15="jaar",$K15,IF(AX15="eind",$K15*($I15/12),""))) | AI15: =IF(AY15="start",$K15*(12-$I15)/12,IF(AY15="jaar",$K15,IF(AY15="eind",$K15*($I15/12),""))) | AK15: =IF(BA15="start",$K15*(12-$I15)/12,IF(BA15="jaar",$K15,IF(BA15="eind",$K15*($I15/12),""))) | AL15: =IF(BB15="start",$K15*(12-$I15)/12,IF(BB15="jaar",$K15,IF(BB15="eind",$K15*($I15/12),""))) | AM15: =IF($F15<>0,IF($H15+$J15=AM$7,$F15,""),"") | AN15: =IF($F15<>0,IF($H15+$J15=AN$7,$F15,""),"") | AO15: =IF($F15<>0,IF($H15+$J15=AO$7,$F15,""),"") | AP15: =IF($F15<>0,IF($H15+$J15=AP$7,$F15,""),"") | AQ15: =IF($F15<>0,IF($H15+$J15=AQ$7,$F15,""),"") | AS15: =IF(BI15="start",$K15*(12-$I15)/12,IF(BI15="jaar",$K15,IF(BI15="eind",$K15*($I15/12),""))) | AT15: =IF(BJ15="start",$K15*(12-$I15)/12,IF(BJ15="jaar",$K15,IF(BJ15="eind",$K15*($I15/12),""))) | AU15: =IF(LEFT(AU$4,1)="R","",IF(AND($H15<AU$7,($H15+$J15)>AU$7),"jaar",IF($H15=AU$7,"start",IF($H15+$J15=AU$7,"eind","")))) | AV15: =IF(LEFT(AV$4,1)="R","",IF(AND($H15<AV$7,($H15+$J15)>AV$7),"jaar",IF($H15=AV$7,"start",IF($H15+$J15=AV$7,"eind","")))) | AW15: =IF(LEFT(AW$4,1)="R","",IF(AND($H15<AW$7,($H15+$J15)>AW$7),"jaar",IF($H15=AW$7,"start",IF($H15+$J15=AW$7,"eind","")))) | AX15: =IF(LEFT(AX$4,1)="R","",IF(AND($H15<AX$7,($H15+$J15)>AX$7),"jaar",IF($H15=AX$7,"start",IF($H15+$J15=AX$7,"eind","")))) | AY15: =IF(LEFT(AY$4,1)="R","",IF(AND($H15<AY$7,($H15+$J15)>AY$7),"jaar",IF($H15=AY$7,"start",IF($H15+$J15=AY$7,"eind","")))) | BA15: =IF(BQ15="start",$K15*(12-$I15)/12,IF(BQ15="jaar",$K15,IF(BQ15="eind",$K15*($I15/12),""))) | BB15: =IF(BR15="start",$K15*(12-$I15)/12,IF(BR15="jaar",$K15,IF(BR15="eind",$K15*($I15/12),""))) | BC15: =IF(AM15<>"",$G15-SUM($AC15:$AI15),"") | BD15: =IF(AN15<>"",$G15-SUM($AC15:$AI15),"") | BE15: =IF(AO15<>"",$G15-SUM($AC15:$AI15),"") | BF15: =IF(AP15<>"",$G15-SUM($AC15:$AI15),"") | BG15: =IF(AQ15<>"",$G15-SUM($AC15:$AI15),"") | BI15: =IF(BY15="start",$K15*(12-$I15)/12,IF(BY15="jaar",$K15,IF(BY15="eind",$K15*($I15/12),""))) | BJ15: =IF(BZ15="start",$K15*(12-$I15)/12,IF(BZ15="jaar",$K15,IF(BZ15="eind",$K15*($I15/12),""))) | BK15: =IF(SUM($M15:$S15)<>0,$E15-SUM($M15:$S15),"") | BL15: =IF(SUM($M15:$S15)<>0,$E15-SUM($M15:$S15),"") | BM15: =IF(SUM($M15:$S15)<>0,$E15-SUM($M15:$S15),"") | BN15: =IF(SUM($M15:$S15)<>0,$E15-SUM($M15:$S15),"") | BO15: =IF(SUM($M15:$S15)<>0,$E15-SUM($M15:$S15),"")
B16: Totaal nieuwe investeringen | E16: =SUM(E9:E15) -> 1260 | F16: =SUM(F9:F15) -> 130 | G16: =SUM(G9:G15) -> 1130 | K16: =SUM(K9:K15) -> 402.33333 | M16: =SUM(M9:M15) -> 0 | N16: =SUM(N9:N15) -> 0 | O16: =SUM(O9:O15) -> 750 | P16: =SUM(P9:P15) -> 60 | Q16: =SUM(Q9:Q15) -> 0 | R16: =SUM(R9:R15) -> 300 | S16: =SUM(S9:S15) -> 150 | U16: =SUM(U9:U15) -> 0 | V16: =SUM(V9:V15) -> 0 | W16: =SUM(W9:W15) -> 750 | X16: =SUM(X9:X15) -> 60 | Y16: =SUM(Y9:Y15) -> 0 | Z16: =SUM(Z9:Z15) -> 300 | AA16: =SUM(AA9:AA15) -> 150 | AC16: =SUM(AC9:AC15) -> 0 | AD16: =SUM(AD9:AD15) -> 0 | AE16: =SUM(AE9:AE15) -> 320.83333 | AF16: =SUM(AF9:AF15) -> 358.88889 | AG16: =SUM(AG9:AG15) -> 42.5 | AH16: =SUM(AH9:AH15) -> 24.333333 | AI16: =SUM(AI9:AI15) -> 41.194444 | AK16: =SUM(AK9:AK15) -> 0 | AL16: =SUM(AL9:AL15) -> 0 | AM16: =SUM(AM9:AM15) -> 0 | AN16: =SUM(AN9:AN15) -> 0 | AO16: =SUM(AO9:AO15) -> 50 | AP16: =SUM(AP9:AP15) -> 0 | AQ16: =SUM(AQ9:AQ15) -> 20 | BA16: =ROUND(SUM(BA9:BA15),0) -> 0 | BB16: =ROUND(SUM(BB9:BB15),0) -> 0 | BC16: =ROUND(SUM(BC9:BC15),0) -> 0 | BD16: =ROUND(SUM(BD9:BD15),0) -> 0 | BE16: =ROUND(SUM(BE9:BE15),0) -> 0 | BF16: =ROUND(SUM(BF9:BF15),0) -> 0 | BG16: =ROUND(SUM(BG9:BG15),0) -> 0 | BI16: =SUM(BI9:BI15) -> 0 | BJ16: =SUM(BJ9:BJ15) -> 0 | BK16: =SUM(BK9:BK15) -> 0 | BL16: =SUM(BL9:BL15) -> 0 | BM16: =SUM(BM9:BM15) -> 0 | BN16: =SUM(BN9:BN15) -> 0 | BO16: =SUM(BO9:BO15) -> 0
B20: Opmerkingen:
B21: Omschrijving betreft één specifieke investering of combinatie van investeringen met exact dezelfde specificaties (investeringsjaar, maandnummer, afschrijvingsjaren)
B22: Regels kunnen worden toegevoegd door een regel te kopiëren en de gekopieerde regel in te voegen
B23: Investering is investeringsbedrag inclusief alle bijkomende activeerbare uitgaven
B24: Restwaarde is verwachte opbrengst van actief na einde looptijd
B25: Totale afschrijving = Investering -/- restwaarde
B26: Jaar en maandnummer is moment van in gebruikneming van actief
B27: Afschrijvingen starten 1 maand na jaar/maand van investering
B28: # jaren afschrijving afhankelijk van economische levensduur actief en verslaggevingsregels
B29: Afschrijvingen per jaar bedragen afschrijvingen voor 12 maanden
B30: Invoer investeringsuitgaven: alleen invoer nodig indien jaar van uitgaven ongelijk is aan het investeringsjaar; uitgaven kunnen vooruitlopen op investeringsjaar; vooruitlopende uitgaven betreffen onderhanden werk MVA
B31: Let op bij handmatige invoer investeringsuitgaven: totale bedrag invoer over de jaren moeten gelijk zijn aan het totale investeringsbedrag (foutmelding wordt gegeven indien bedragen ongelijk zijn)
... B41: Check investeringsuitgaven compleet betreft controle of de handmatig ingevoerde investeringsuitgaven gelijk zijn aan de totale investering
