Workbook

Sheet Bepalingen
B2: Bepalingen voor gebruik
B4: Het model is generiek van opzet, dat als voorbeeld kan dienen voor de financiële planning van organisaties en ondernemingen. Het model is niet zondermeer standaard toepasbaar in uw organisatie en/of uw situatie. Mogelijk moeten aanpassingen gedaan worden om het model te laten aansluiten op uw specifieke omstandigheden, eisen en wensen. Voldoende kennis van excel en financieel modelleren is noodzakelijk voor het aanpassen van het model, het geschikt maken voor een specifieke bedrijfssituatie en het gebruik van het model. Vraag advies van KYF over de geschiktheid, de benodigde aanpassingen en het gebruik van het model.
B5: Het model kan vrij gebruikt worden als aanzet voor eigen gebruik en ten behoeve van ontwikkeling van de eigen kennis.
B6: Het model kan gebruikt voor onderwijskundige doeleinden in klassikale onderwijsvormen en voor praktijkgerichte case studies na toestemming van KYF en onder de voorwaarde dat copyright en intellectuele eigendom van het model worden gerespecteerd.
B7: KnowYourFinance en/of de auteur kunnen niet verantwoordelijk worden gehouden voor een juiste werking van het model in uw specifieke organisatie/onderneming. Ook kunnen KnowYourFinance en/of de auteur niet aansprakelijk worden gesteld voor onjuistheden in het model. KnowYourFinance hecht veel waarde aan kwaliteit en een zinvol gebruik van het model. In het geval van gesignaleerde onjuistheden of onvolkomenheden, zal KnowYourFinance deze zo spoedig mogelijk oplossen, in afstemming met de gebruiker(s) van het model.
B8: KnowYourFinance en de auteur zijn niet verantwoordelijk voor besluitvorming (of achterwege blijven hiervan) op basis van het model, zowel niet in de oorspronkelijke vorm als in aangepaste vorm.
B9: KnowYourFinance is intellectueel eigenaar van het model. Het is niet toegestaan in welke vorm dan ook het model of gedeelten ervan (in oorspronkelijke of aangepaste vorm) te verspreiden of te delen met derden (tegen een vergoeding noch kosteloos), met uitzondering van deling van het model ten behoeve van gebruik en kennisdeling binnen de eigen organisatie/onderneming. In alle gevallen worden de copyright en het intellectuele eigendom van het model gerespecteerd.

Sheet Modeltoelichting
B2: Toelichtingen bij model
B4: KnowYourFinance
B6: KnowYourFinance heeft als doel organisaties te ondersteunen bij de financiële planning, analyse en besluitvorming en de kennis over financiële analyse, planning en modelleren praktisch beschikbaar te stellen.
B7: U kunt contact opnemen met KnowYourFinance bij vragen over het model, of indien u klant-specifieke wensen en toepassingen heeft. We waarderen uw feedback over het model en het delen van uw gebruikservaringen. Wij nodigen u uit een email te sturen of onze webstite te bezoeken via onderstaande links.
B8: info@knowyourfinance.nl
B9: https://knowyourfinance.nl
B11: Model kenmerken en toepasbaarheid
B13: Model type: Meerjarenplanning resultatenrekening plus optionele consolidatie van organisatieonderdelen
B14: Toepassing: Het model dient als voorbeeld voor de financiële meerjarenplanning van resultaten van vele typen ondernemingen en organisaties, inclusief planning van gemiddelde fte aantallen
B15: Minder geschikt voor: Het model geeft in de huidige vorm geen brutomarge weer. Voor organisaties en ondernemingen die werken met een brutomarge dient het model aangepast te worden. U kunt dit zelf aanpassen of u kunt KnowYourFinance hiervoor vragen. Het model bevat alleen de resultatenrekening. Voor planning van de balans en kasstroomoverzicht verwijzen we naar het uitgebreidere model Meerjarenplanning compleet op de website
B17: Het model sluit aan bij de essentiële componenten in de financiële bedrijfsvoering: aantal verkopen, gemiddelde verkoopprijs, fte, gemiddelde personeelskosten en overige (variabele) kosten.
B18: De opbrengsten worden bepaald volgens de p * q methode: gemiddelde verkoopprijs (p) * verkoopaantallen (q)
... B65: - Pas de assen van de grafieken aan en de overige "vaste" teksten voor zover nodig

Sheet Afkortingen
B2: Afkortingen
B4: EBIT | C4: Earnings Before Interest & Tax = Bedrijfsresultaat
B5: EBITDA | C5: Earnings before Interest Depreciation & Amortizion = Bedrijfsresultaat exclusief afschrijvingen
B6: EUR | C6: Euro
B7: FTE | C7: Full Time Equivalent = opgetelde dienstverbanden uitgedrukt in aantal volledige dienstverbanden
B8: MJP | C8: Meerjarenplanning
B9: P | C9: Prognose
B10: p | C10: Kleine letter p = prijs
B11: q | C11: Kleine letter q = aantal
B12: R | C12: Realisatie
B13: RR | C13: Resultatenrekening

Sheet OUTPUT->

Sheet ErrorChecks
B2: Error checks
B4: Model checks | D4: Sheet | E4: Check
B5: =SUM(B6:B11) -> 0 | D5: ErrorChecks | E5: Master check
B8: =SUM('2. Prognose RR'!81:81) -> 0 | D8: 2. Prognose RR | E8: Resultaat rapport RR en 2. Prognose RR sluiten niet aan
B9: =SUM('2. Prognose RR'!85:85) -> 0 | D9: 2. Prognose RR | E9: Historisch resultaat in 1. Realisatie RR en BS en in 2. Prognose RR sluiten niet aan

Sheet Dashboard
B2: Dashboard | T2: KnowYourFinance© | W2: Master check | Y2: =ErrorChecks!$B$5 -> 0 | AB2: Brondata-> | AF2: Brondata
B3: Balans en Resultatenrekening bedragen x € 1.000 | AI3: ="R "&RIGHT(RR!E5,2) -> R 24 | AJ3: ="R "&VALUE(RIGHT(AI3,2))+1 -> R 25 | AK3: ="P "&VALUE(RIGHT(AJ3,2))+1 -> P 26 | AL3: ="P "&VALUE(RIGHT(AK3,2))+1 -> P 27 | AM3: ="P "&VALUE(RIGHT(AL3,2))+1 -> P 28 | AN3: ="P "&VALUE(RIGHT(AM3,2))+1 -> P 29 | AO3: ="P "&VALUE(RIGHT(AN3,2))+1 -> P 30
B4: Operationeel
AF5: Aantal producten | AI5: =Ratios!E9 -> 1200 | AJ5: =Ratios!F9 -> 1200 | AK5: =Ratios!G9 -> 1200 | AL5: =Ratios!H9 -> 1300 | AM5: =Ratios!I9 -> 1400 | AN5: =Ratios!J9 -> 1500 | AO5: =Ratios!K9 -> 1500
AF6: Gem verkoopprijs | AI6: =Ratios!E10 -> 416.66667 | AJ6: =Ratios!F10 -> 437.5 | AK6: =Ratios!G10 -> 446.25 | AL6: =Ratios!H10 -> 455.175 | AM6: =Ratios!I10 -> 464.2785 | AN6: =Ratios!J10 -> 473.56407 | AO6: =Ratios!K10 -> 483.03535
AF8: Productgroep | AI8: =RR!E7 -> 500 | AJ8: =RR!F7 -> 525 | AK8: =RR!G7 -> 535.5 | AL8: =RR!H7 -> 591.7275 | AM8: =RR!I7 -> 649.9899 | AN8: =RR!J7 -> 710.3461 | AO8: =RR!K7 -> 724.55303
AF9: Overige | AI9: =RR!E8 -> 50 | AJ9: =RR!F8 -> 55 | AK9: =RR!G8 -> 86.1 | AL9: =RR!H8 -> 57.222 | AM9: =RR!I8 -> 58.36644 | AN9: =RR!J8 -> 59.533769 | AO9: =RR!K8 -> 60.724444
AF11: Personeelskosten | AI11: =-RR!E11 -> 300 | AJ11: =-RR!F11 -> 315 | AK11: =-RR!G11 -> 371.08 | AL11: =-RR!H11 -> 375.3016 | AM11: =-RR!I11 -> 382.66763 | AN11: =-RR!J11 -> 390.18098 | AO11: =-RR!K11 -> 462.98537
AF12: Personeelskosten% | AI12: =-Ratios!E15 -> 0.54545455 | AJ12: =-Ratios!F15 -> 0.54310345 | AK12: =-Ratios!G15 -> 0.59697555 | AL12: =-Ratios!H15 -> 0.57832173 | AM12: =-Ratios!I15 -> 0.54021911 | AN12: =-Ratios!J15 -> 0.50680762 | AO12: =-Ratios!K15 -> 0.58958188
AF13: Resultaat | AI13: =RR!E26 -> 63 | AJ13: =RR!F26 -> 53 | AK13: =RR!G26 -> 41.05875 | AL13: =RR!H26 -> 32.251144 | AM13: =RR!I26 -> 36.75601 | AN13: =RR!J26 -> 70.36257 | AO13: =RR!K26 -> 37.839246
B14: Resultaat | AF14: Resultaat % | AI14: =Ratios!E21 -> 0.11454545 | AJ14: =Ratios!F21 -> 0.09137931 | AK14: =Ratios!G21 -> 0.06605333 | AL14: =Ratios!H21 -> 0.049697463 | AM14: =Ratios!I21 -> 0.051889152 | AN14: =Ratios!J21 -> 0.091394219 | AO14: =Ratios!K21 -> 0.048185829
AF16: ICR | AI16: =Ratios!E24 -> 17 | AJ16: =Ratios!F24 -> 14.833333 | AK16: =Ratios!G24 -> 7.0745 | AL16: =Ratios!H24 -> 1.1875477 | AM16: =Ratios!I24 -> 2.6252504 | AN16: =Ratios!J24 -> 3.9338412 | AO16: =Ratios!K24 -> 2.9797158

Sheet RR
K1: KnowYourFinance©
B2: Resultatenrekening | M2: Master check | O2: =ErrorChecks!$B$5 -> 0
B4: Bedragen in EUR x 1.000
E5: ='1. Realisatie RR'!E9 -> R 2024 | F5: ='1. Realisatie RR'!F9 -> R 2025 | G5: ='1. Realisatie RR'!G9 -> P 2026 | H5: ='1. Realisatie RR'!H9 -> P 2027 | I5: ='1. Realisatie RR'!I9 -> P 2028 | J5: ='1. Realisatie RR'!J9 -> P 2029 | K5: ='1. Realisatie RR'!K9 -> P 2030
B7: Opbrengsten p*q | E7: ='2. Prognose RR'!E11 -> 500 | F7: ='2. Prognose RR'!F11 -> 525 | G7: ='2. Prognose RR'!G11 -> 535.5 | H7: ='2. Prognose RR'!H11 -> 591.7275 | I7: ='2. Prognose RR'!I11 -> 649.9899 | J7: ='2. Prognose RR'!J11 -> 710.3461 | K7: ='2. Prognose RR'!K11 -> 724.55303
B8: Overige opbrengsten | E8: ='2. Prognose RR'!E17 -> 50 | F8: ='2. Prognose RR'!F17 -> 55 | G8: ='2. Prognose RR'!G17 -> 86.1 | H8: ='2. Prognose RR'!H17 -> 57.222 | I8: ='2. Prognose RR'!I17 -> 58.36644 | J8: ='2. Prognose RR'!J17 -> 59.533769 | K8: ='2. Prognose RR'!K17 -> 60.724444
B9: Totale opbrengsten | E9: =SUM(E7:E8) -> 550 | F9: =SUM(F7:F8) -> 580 | G9: =SUM(G7:G8) -> 621.6 | H9: =SUM(H7:H8) -> 648.9495 | I9: =SUM(I7:I8) -> 708.35634 | J9: =SUM(J7:J8) -> 769.87987 | K9: =SUM(K7:K8) -> 785.27747
B11: Personeelskosten | E11: ='2. Prognose RR'!E30 -> -300 | F11: ='2. Prognose RR'!F30 -> -315 | G11: ='2. Prognose RR'!G30 -> -371.08 | H11: ='2. Prognose RR'!H30 -> -375.3016 | I11: ='2. Prognose RR'!I30 -> -382.66763 | J11: ='2. Prognose RR'!J30 -> -390.18098 | K11: ='2. Prognose RR'!K30 -> -462.98537
B12: Afschrijvingen | E12: ='2. Prognose RR'!E34 -> -10 | F12: ='2. Prognose RR'!F34 -> -11 | G12: ='2. Prognose RR'!G34 -> -10 | H12: ='2. Prognose RR'!H34 -> -7 | I12: ='2. Prognose RR'!I34 -> -7 | J12: ='2. Prognose RR'!J34 -> -7 | K12: ='2. Prognose RR'!K34 -> -7
B13: Huisvestingslasten | E13: ='2. Prognose RR'!E39 -> -140 | F13: ='2. Prognose RR'!F39 -> -150 | G13: ='2. Prognose RR'!G39 -> -153 | H13: ='2. Prognose RR'!H39 -> -181.06 | I13: ='2. Prognose RR'!I39 -> -184.1812 | J13: ='2. Prognose RR'!J39 -> -188.36482 | K13: ='2. Prognose RR'!K39 -> -185.61212
B14: Overige kosten | E14: ='2. Prognose RR'!E44 -> -25 | F14: ='2. Prognose RR'!F44 -> -26 | G14: ='2. Prognose RR'!G44 -> -26.775 | H14: ='2. Prognose RR'!H44 -> -54.586375 | I14: ='2. Prognose RR'!I44 -> -57.499495 | J14: ='2. Prognose RR'!J44 -> -61.517305 | K14: ='2. Prognose RR'!K44 -> -56.227651
B15: Totale lasten | E15: =SUM(E11:E14) -> -475 | F15: =SUM(F11:F14) -> -502 | G15: =SUM(G11:G14) -> -560.855 | H15: =SUM(H11:H14) -> -617.94797 | I15: =SUM(I11:I14) -> -631.34833 | J15: =SUM(J11:J14) -> -647.06311 | K15: =SUM(K11:K14) -> -711.82514
B17: Operationeel resultaat (EBIT) | E17: =E9+E15 -> 75 | F17: =F9+F15 -> 78 | G17: =G9+G15 -> 60.745 | H17: =H9+H15 -> 31.001525 | I17: =I9+I15 -> 77.008013 | J17: =J9+J15 -> 122.81676 | K17: =K9+K15 -> 73.452328
B19: Niet-operationele baten/lasten | E19: ='2. Prognose RR'!E53 -> 0 | F19: ='2. Prognose RR'!F53 -> -10 | G19: ='2. Prognose RR'!G53 -> 0 | H19: ='2. Prognose RR'!H53 -> 40 | I19: ='2. Prognose RR'!I53 -> 0 | J19: ='2. Prognose RR'!J53 -> 0 | K19: ='2. Prognose RR'!K53 -> 0
B20: Verkoopresultaat vaste activa | E20: ='2. Prognose RR'!E55 -> 0 | F20: ='2. Prognose RR'!F55 -> 14 | G20: ='2. Prognose RR'!G55 -> 2 | H20: ='2. Prognose RR'!H55 -> 2 | I20: ='2. Prognose RR'!I55 -> 2 | J20: ='2. Prognose RR'!J55 -> 2 | K20: ='2. Prognose RR'!K55 -> 2
B21: Financiële baten | E21: ='2. Prognose RR'!E57 -> 1 | F21: ='2. Prognose RR'!F57 -> 2 | G21: ='2. Prognose RR'!G57 -> 2 | H21: ='2. Prognose RR'!H57 -> 2 | I21: ='2. Prognose RR'!I57 -> 2 | J21: ='2. Prognose RR'!J57 -> 2 | K21: ='2. Prognose RR'!K57 -> 2
B22: Financiële lasten | E22: ='2. Prognose RR'!E61 -> -5 | F22: ='2. Prognose RR'!F61 -> -6 | G22: ='2. Prognose RR'!G61 -> -10 | H22: ='2. Prognose RR'!H61 -> -32 | I22: ='2. Prognose RR'!I61 -> -32 | J22: ='2. Prognose RR'!J61 -> -33 | K22: ='2. Prognose RR'!K61 -> -27
B23: Resultaat voor belastingen | E23: =SUM(E17:E22) -> 71 | F23: =SUM(F17:F22) -> 78 | G23: =SUM(G17:G22) -> 54.745 | H23: =SUM(H17:H22) -> 43.001525 | I23: =SUM(I17:I22) -> 49.008013 | J23: =SUM(J17:J22) -> 93.81676 | K23: =SUM(K17:K22) -> 50.452328
B25: Belastingen | E25: ='2. Prognose RR'!E67 -> -8 | F25: ='2. Prognose RR'!F67 -> -25 | G25: ='2. Prognose RR'!G67 -> -13.68625 | H25: ='2. Prognose RR'!H67 -> -10.750381 | I25: ='2. Prognose RR'!I67 -> -12.252003 | J25: ='2. Prognose RR'!J67 -> -23.45419 | K25: ='2. Prognose RR'!K67 -> -12.613082
B26: Netto resultaat | E26: =SUM(E23:E25) -> 63 | F26: =SUM(F23:F25) -> 53 | G26: =SUM(G23:G25) -> 41.05875 | H26: =SUM(H23:H25) -> 32.251144 | I26: =SUM(I23:I25) -> 36.75601 | J26: =SUM(J23:J25) -> 70.36257 | K26: =SUM(K23:K25) -> 37.839246
B28: Dividend uitkering | E28: =-'2. Prognose RR'!E72 -> 10 | F28: =-'2. Prognose RR'!F72 -> 11 | G28: =-'2. Prognose RR'!G72 -> 10 | H28: =-'2. Prognose RR'!H72 -> 10 | I28: =-'2. Prognose RR'!I72 -> 15 | J28: =-'2. Prognose RR'!J72 -> 20 | K28: =-'2. Prognose RR'!K72 -> 20
B29: EBITDA | E29: =E17-E12 -> 85 | F29: =F17-F12 -> 89 | G29: =G17-G12 -> 70.745 | H29: =H17-H12 -> 38.001525 | I29: =I17-I12 -> 84.008013 | J29: =J17-J12 -> 129.81676 | K29: =K17-K12 -> 80.452328
B30: FTE | E30: ='2. Prognose RR'!E24 -> 5 | F30: ='2. Prognose RR'!F24 -> 5 | G30: ='2. Prognose RR'!G24 -> 6 | H30: ='2. Prognose RR'!H24 -> 6 | I30: ='2. Prognose RR'!I24 -> 6 | J30: ='2. Prognose RR'!J24 -> 6 | K30: ='2. Prognose RR'!K24 -> 7
B32: EBITDA % | E32: =E29/E9 -> 0.15454545 | F32: =F29/F9 -> 0.15344828 | G32: =G29/G9 -> 0.11381113 | H32: =H29/H9 -> 0.058558524 | I32: =I29/I9 -> 0.1185957 | J32: =J29/J9 -> 0.1686195 | K32: =K29/K9 -> 0.10245083
B33: EBIT% | E33: =E17/E9 -> 0.13636364 | F33: =F17/F9 -> 0.13448276 | G33: =G17/G9 -> 0.097723616 | H33: =H17/H9 -> 0.047771861 | I33: =I17/I9 -> 0.10871366 | J33: =J17/J9 -> 0.15952717 | K33: =K17/K9 -> 0.093536782
B34: Netto resultaat % | E34: =E26/E9 -> 0.11454545 | F34: =F26/F9 -> 0.09137931 | G34: =G26/G9 -> 0.06605333 | H34: =H26/H9 -> 0.049697463 | I34: =I26/I9 -> 0.051889152 | J34: =J26/J9 -> 0.091394219 | K34: =K26/K9 -> 0.048185829

Sheet Ratios
K1: KnowYourFinance©
B2: Ratio's | N2: Master check | P2: =ErrorChecks!$B$5 -> 0
B4: Bedragen in EUR x 1.000 tenzijn anders aangegeven
B5: Ratio's | E5: =RR!E5 -> R 2024 | F5: =RR!F5 -> R 2025 | G5: =RR!G5 -> P 2026 | H5: =RR!H5 -> P 2027 | I5: =RR!I5 -> P 2028 | J5: =RR!J5 -> P 2029 | K5: =RR!K5 -> P 2030
B7: Operationeel:
B8: Totale opbrengsten | E8: =RR!E9 -> 550 | F8: =RR!F9 -> 580 | G8: =RR!G9 -> 621.6 | H8: =RR!H9 -> 648.9495 | I8: =RR!I9 -> 708.35634 | J8: =RR!J9 -> 769.87987 | K8: =RR!K9 -> 785.27747
B9: Aantal producten (eenheden) | E9: ='2. Prognose RR'!E8 -> 1200 | F9: ='2. Prognose RR'!F8 -> 1200 | G9: ='2. Prognose RR'!G8 -> 1200 | H9: ='2. Prognose RR'!H8 -> 1300 | I9: ='2. Prognose RR'!I8 -> 1400 | J9: ='2. Prognose RR'!J8 -> 1500 | K9: ='2. Prognose RR'!K8 -> 1500
B10: Gemiddelde verkoopprijs in € | E10: ='2. Prognose RR'!E9 -> 416.66667 | F10: ='2. Prognose RR'!F9 -> 437.5 | G10: ='2. Prognose RR'!G9 -> 446.25 | H10: ='2. Prognose RR'!H9 -> 455.175 | I10: ='2. Prognose RR'!I9 -> 464.2785 | J10: ='2. Prognose RR'!J9 -> 473.56407 | K10: ='2. Prognose RR'!K9 -> 483.03535
B12: FTE | E12: ='2. Prognose RR'!E24 -> 5 | F12: ='2. Prognose RR'!F24 -> 5 | G12: ='2. Prognose RR'!G24 -> 6 | H12: ='2. Prognose RR'!H24 -> 6 | I12: ='2. Prognose RR'!I24 -> 6 | J12: ='2. Prognose RR'!J24 -> 6 | K12: ='2. Prognose RR'!K24 -> 7
B13: Gemiddelde opbrengsten per FTE | E13: =(RR!E9)/E12 -> 110 | F13: =(RR!F9)/F12 -> 116 | G13: =(RR!G9)/G12 -> 103.6 | H13: =(RR!H9)/H12 -> 108.15825 | I13: =(RR!I9)/I12 -> 118.05939 | J13: =(RR!J9)/J12 -> 128.31331 | K13: =(RR!K9)/K12 -> 112.1825 | M13: Op basis van totale opbrengsten
B14: Gemiddelde personeelskosten per FTE | E14: =(RR!E11)/E12 -> -60 | F14: =(RR!F11)/F12 -> -63 | G14: =(RR!G11)/G12 -> -61.846667 | H14: =(RR!H11)/H12 -> -62.550267 | I14: =(RR!I11)/I12 -> -63.777939 | J14: =(RR!J11)/J12 -> -65.030164 | K14: =(RR!K11)/K12 -> -66.140767
B15: Personeelskosten als % van opbrengsten | E15: =(RR!E11)/RR!E9 -> -0.54545455 | F15: =(RR!F11)/RR!F9 -> -0.54310345 | G15: =(RR!G11)/RR!G9 -> -0.59697555 | H15: =(RR!H11)/RR!H9 -> -0.57832173 | I15: =(RR!I11)/RR!I9 -> -0.54021911 | J15: =(RR!J11)/RR!J9 -> -0.50680762 | K15: =(RR!K11)/RR!K9 -> -0.58958188 | M15: Op basis van totale opbrengsten
B17: Resultaat:
B18: EBITDA | E18: =RR!E29 -> 85 | F18: =RR!F29 -> 89 | G18: =RR!G29 -> 70.745 | H18: =RR!H29 -> 38.001525 | I18: =RR!I29 -> 84.008013 | J18: =RR!J29 -> 129.81676 | K18: =RR!K29 -> 80.452328
B19: EBITDA % | E19: =RR!E32 -> 0.15454545 | F19: =RR!F32 -> 0.15344828 | G19: =RR!G32 -> 0.11381113 | H19: =RR!H32 -> 0.058558524 | I19: =RR!I32 -> 0.1185957 | J19: =RR!J32 -> 0.1686195 | K19: =RR!K32 -> 0.10245083 | M19: = EBITDA / Opbrengsten
B20: EBIT % | E20: =RR!E33 -> 0.13636364 | F20: =RR!F33 -> 0.13448276 | G20: =RR!G33 -> 0.097723616 | H20: =RR!H33 -> 0.047771861 | I20: =RR!I33 -> 0.10871366 | J20: =RR!J33 -> 0.15952717 | K20: =RR!K33 -> 0.093536782 | M20: = EBIT / Opbrengsten
B21: Netto Resultaat % | E21: =RR!E34 -> 0.11454545 | F21: =RR!F34 -> 0.09137931 | G21: =RR!G34 -> 0.06605333 | H21: =RR!H34 -> 0.049697463 | I21: =RR!I34 -> 0.051889152 | J21: =RR!J34 -> 0.091394219 | K21: =RR!K34 -> 0.048185829 | M21: = Resultaat / Opbrengsten
B23: Liquiditeit:
B24: Interest coverage ratio | E24: =RR!E29/-RR!E22 -> 17 | F24: =RR!F29/-RR!F22 -> 14.833333 | G24: =RR!G29/-RR!G22 -> 7.0745 | H24: =RR!H29/-RR!H22 -> 1.1875477 | I24: =RR!I29/-RR!I22 -> 2.6252504 | J24: =RR!J29/-RR!J22 -> 3.9338412 | K24: =RR!K29/-RR!K22 -> 2.9797158 | M24: = EBITDA / financiële lasten
B26: Common-size Resultatenrekening | E26: =E5 -> R 2024 | F26: =F5 -> R 2025 | G26: =G5 -> P 2026 | H26: =H5 -> P 2027 | I26: =I5 -> P 2028 | J26: =J5 -> P 2029 | K26: =K5 -> P 2030
B28: =RR!B7 -> Opbrengsten p*q | E28: =RR!E7/RR!E$9 -> 0.90909091 | F28: =RR!F7/RR!F$9 -> 0.90517241 | G28: =RR!G7/RR!G$9 -> 0.86148649 | H28: =RR!H7/RR!H$9 -> 0.91182365 | I28: =RR!I7/RR!I$9 -> 0.917603 | J28: =RR!J7/RR!J$9 -> 0.92267135 | K28: =RR!K7/RR!K$9 -> 0.92267135 | M28: Totale opbrengsten = 100%
B29: =RR!B8 -> Overige opbrengsten | E29: =RR!E8/RR!E$9 -> 0.090909091 | F29: =RR!F8/RR!F$9 -> 0.094827586 | G29: =RR!G8/RR!G$9 -> 0.13851351 | H29: =RR!H8/RR!H$9 -> 0.088176353 | I29: =RR!I8/RR!I$9 -> 0.082397004 | J29: =RR!J8/RR!J$9 -> 0.077328647 | K29: =RR!K8/RR!K$9 -> 0.077328647 | M29: Als % van total opbrengsten
B30: =RR!B9 -> Totale opbrengsten | E30: =RR!E9/RR!E$9 -> 1 | F30: =RR!F9/RR!F$9 -> 1 | G30: =RR!G9/RR!G$9 -> 1 | H30: =RR!H9/RR!H$9 -> 1 | I30: =RR!I9/RR!I$9 -> 1 | J30: =RR!J9/RR!J$9 -> 1 | K30: =RR!K9/RR!K$9 -> 1
B32: =RR!B11 -> Personeelskosten | E32: =RR!E11/RR!E$9 -> -0.54545455 | F32: =RR!F11/RR!F$9 -> -0.54310345 | G32: =RR!G11/RR!G$9 -> -0.59697555 | H32: =RR!H11/RR!H$9 -> -0.57832173 | I32: =RR!I11/RR!I$9 -> -0.54021911 | J32: =RR!J11/RR!J$9 -> -0.50680762 | K32: =RR!K11/RR!K$9 -> -0.58958188
B33: =RR!B12 -> Afschrijvingen | E33: =RR!E12/RR!E$9 -> -0.018181818 | F33: =RR!F12/RR!F$9 -> -0.018965517 | G33: =RR!G12/RR!G$9 -> -0.016087516 | H33: =RR!H12/RR!H$9 -> -0.010786664 | I33: =RR!I12/RR!I$9 -> -0.009882032 | J33: =RR!J12/RR!J$9 -> -0.0090923276 | K33: =RR!K12/RR!K$9 -> -0.0089140466
B34: =RR!B13 -> Huisvestingslasten | E34: =RR!E13/RR!E$9 -> -0.25454545 | F34: =RR!F13/RR!F$9 -> -0.25862069 | G34: =RR!G13/RR!G$9 -> -0.246139 | H34: =RR!H13/RR!H$9 -> -0.27900476 | I34: =RR!I13/RR!I$9 -> -0.26001207 | J34: =RR!J13/RR!J$9 -> -0.24466781 | K34: =RR!K13/RR!K$9 -> -0.23636501
B35: =RR!B14 -> Overige kosten | E35: =RR!E14/RR!E$9 -> -0.045454545 | F35: =RR!F14/RR!F$9 -> -0.044827586 | G35: =RR!G14/RR!G$9 -> -0.043074324 | H35: =RR!H14/RR!H$9 -> -0.084114981 | I35: =RR!I14/RR!I$9 -> -0.081173121 | J35: =RR!J14/RR!J$9 -> -0.07990507 | K35: =RR!K14/RR!K$9 -> -0.071602272
B36: =RR!B15 -> Totale lasten | E36: =RR!E15/RR!E$9 -> -0.86363636 | F36: =RR!F15/RR!F$9 -> -0.86551724 | G36: =RR!G15/RR!G$9 -> -0.90227638 | H36: =RR!H15/RR!H$9 -> -0.95222814 | I36: =RR!I15/RR!I$9 -> -0.89128634 | J36: =RR!J15/RR!J$9 -> -0.84047283 | K36: =RR!K15/RR!K$9 -> -0.90646322
B38: =RR!B17 -> Operationeel resultaat (EBIT) | E38: =RR!E17/RR!E$9 -> 0.13636364 | F38: =RR!F17/RR!F$9 -> 0.13448276 | G38: =RR!G17/RR!G$9 -> 0.097723616 | H38: =RR!H17/RR!H$9 -> 0.047771861 | I38: =RR!I17/RR!I$9 -> 0.10871366 | J38: =RR!J17/RR!J$9 -> 0.15952717 | K38: =RR!K17/RR!K$9 -> 0.093536782
B40: =RR!B19 -> Niet-operationele baten/lasten | E40: =RR!E19/RR!E$9 -> 0 | F40: =RR!F19/RR!F$9 -> -0.017241379 | G40: =RR!G19/RR!G$9 -> 0 | H40: =RR!H19/RR!H$9 -> 0.061638078 | I40: =RR!I19/RR!I$9 -> 0 | J40: =RR!J19/RR!J$9 -> 0 | K40: =RR!K19/RR!K$9 -> 0
B41: =RR!B20 -> Verkoopresultaat vaste activa | E41: =RR!E20/RR!E$9 -> 0 | F41: =RR!F20/RR!F$9 -> 0.024137931 | G41: =RR!G20/RR!G$9 -> 0.0032175032 | H41: =RR!H20/RR!H$9 -> 0.0030819039 | I41: =RR!I20/RR!I$9 -> 0.0028234377 | J41: =RR!J20/RR!J$9 -> 0.0025978079 | K41: =RR!K20/RR!K$9 -> 0.0025468705
B42: =RR!B21 -> Financiële baten | E42: =RR!E21/RR!E$9 -> 0.0018181818 | F42: =RR!F21/RR!F$9 -> 0.0034482759 | G42: =RR!G21/RR!G$9 -> 0.0032175032 | H42: =RR!H21/RR!H$9 -> 0.0030819039 | I42: =RR!I21/RR!I$9 -> 0.0028234377 | J42: =RR!J21/RR!J$9 -> 0.0025978079 | K42: =RR!K21/RR!K$9 -> 0.0025468705
B43: =RR!B22 -> Financiële lasten | E43: =RR!E22/RR!E$9 -> -0.0090909091 | F43: =RR!F22/RR!F$9 -> -0.010344828 | G43: =RR!G22/RR!G$9 -> -0.016087516 | H43: =RR!H22/RR!H$9 -> -0.049310463 | I43: =RR!I22/RR!I$9 -> -0.045175003 | J43: =RR!J22/RR!J$9 -> -0.04286383 | K43: =RR!K22/RR!K$9 -> -0.034382751
B44: =RR!B23 -> Resultaat voor belastingen | E44: =RR!E23/RR!E$9 -> 0.12909091 | F44: =RR!F23/RR!F$9 -> 0.13448276 | G44: =RR!G23/RR!G$9 -> 0.088071107 | H44: =RR!H23/RR!H$9 -> 0.066263284 | I44: =RR!I23/RR!I$9 -> 0.069185536 | J44: =RR!J23/RR!J$9 -> 0.12185896 | K44: =RR!K23/RR!K$9 -> 0.064247772
... B47: =RR!B26 -> Netto resultaat | E47: =RR!E26/RR!E$9 -> 0.11454545 | F47: =RR!F26/RR!F$9 -> 0.09137931 | G47: =RR!G26/RR!G$9 -> 0.06605333 | H47: =RR!H26/RR!H$9 -> 0.049697463 | I47: =RR!I26/RR!I$9 -> 0.051889152 | J47: =RR!J26/RR!J$9 -> 0.091394219 | K47: =RR!K26/RR!K$9 -> 0.048185829

Sheet INVOER->

Sheet 1. Realisatie RR
K1: KnowYourFinance©
B2: 1. Realisatie RR | F2: Master check | H2: =ErrorChecks!$B$5 -> 0
B4: Bedragen in EUR x 1.000
B5: Startjaar
B7: Invoer eerste prognosejaar | E7: 2026 | M7: Het model gaat uit van 2 historische jaren
B9: Resultatenrekening realisatie | E9: ="R "&E7-2 -> R 2024 | F9: ="R "&RIGHT(E9,4)+1 -> R 2025 | G9: ="P "&RIGHT(F9,4)+1 -> P 2026 | H9: ="P "&RIGHT(G9,4)+1 -> P 2027 | I9: ="P "&RIGHT(H9,4)+1 -> P 2028 | J9: ="P "&RIGHT(I9,4)+1 -> P 2029 | K9: ="P "&RIGHT(J9,4)+1 -> P 2030 | M9: Vul in deze sectie de gerealiseerde resultaten in voor de 2 realisatiejaren
B11: =RR!B7 -> Opbrengsten p*q | E11: 500 | F11: 525
B12: =RR!B8 -> Overige opbrengsten | E12: 50 | F12: 55
B13: =RR!B9 -> Totale opbrengsten | E13: =SUM(E11:E12) -> 550 | F13: =SUM(F11:F12) -> 580
B15: =RR!B11 -> Personeelskosten | E15: -300 | F15: -315
B16: =RR!B12 -> Afschrijvingen | E16: -10 | F16: -11
B17: =RR!B13 -> Huisvestingslasten | E17: -140 | F17: -150
B18: =RR!B14 -> Overige kosten | E18: -25 | F18: -26
B19: =RR!B15 -> Totale lasten | E19: =SUM(E15:E18) -> -475 | F19: =SUM(F15:F18) -> -502
B21: =RR!B17 -> Operationeel resultaat (EBIT) | E21: =E13+E19 -> 75 | F21: =F13+F19 -> 78
B23: =RR!B19 -> Niet-operationele baten/lasten | E23: 0 | F23: -10
B24: =RR!B20 -> Verkoopresultaat vaste activa | E24: 0 | F24: 14
B25: =RR!B21 -> Financiële baten | E25: 1 | F25: 2
B26: Financiële lasten langkopende schulden | E26: -4 | F26: -4 | M26: Fin lasten langlopende en kortlopende schulden gesplitst
B27: Financiële lasten kortlopende schulden | E27: -1 | F27: -2
B28: =RR!B23 -> Resultaat voor belastingen | E28: =SUM(E21:E27) -> 71 | F28: =SUM(F21:F27) -> 78
B30: =RR!B25 -> Belastingen | E30: =-8 -> -8 | F30: -25
B31: =RR!B26 -> Netto resultaat | E31: =SUM(E28:E30) -> 63 | F31: =SUM(F28:F30) -> 53
B33: =RR!B28 -> Dividend uitkering | E33: 10 | F33: 11

Sheet 2. Prognose RR
K1: KnowYourFinance©
B2: 2. Prognose Resultatenrekening (RR) invoer | F2: Master check | H2: =ErrorChecks!$B$5 -> 0
B4: Bedragen in EUR x 1.000 (tenzij anders vermeld) | E4: =IF(E81=0,"OK","CHECK") -> OK | F4: =IF(F81=0,"OK","CHECK") -> OK | G4: =IF(G81=0,"OK","CHECK") -> OK | H4: =IF(H81=0,"OK","CHECK") -> OK | I4: =IF(I81=0,"OK","CHECK") -> OK | J4: =IF(J81=0,"OK","CHECK") -> OK | K4: =IF(K81=0,"OK","CHECK") -> OK
B5: Opbrengsten | E5: =RR!E5 -> R 2024 | F5: =RR!F5 -> R 2025 | G5: =RR!G5 -> P 2026 | H5: =RR!H5 -> P 2027 | I5: =RR!I5 -> P 2028 | J5: =RR!J5 -> P 2029 | K5: =RR!K5 -> P 2030
B7: Opbrengsten (p*q) productgroep 1 | M7: Opbrengsten kan uitgebreid worden naar meerdere productgroepen
B8: Aantal producten/diensten (p) | E8: 1200 | F8: 1200 | G8: 1200 | H8: 1300 | I8: 1400 | J8: 1500 | K8: 1500 | M8: Invoer per jaar
B9: Gemiddelde prijs (q) (in €) | E9: =(E11*1000)/E8 -> 416.66667 | F9: =(F11*1000)/F8 -> 437.5 | G9: =F9*(1+G10) -> 446.25 | H9: =G9*(1+H10) -> 455.175 | I9: =H9*(1+I10) -> 464.2785 | J9: =I9*(1+J10) -> 473.56407 | K9: =J9*(1+K10) -> 483.03535 | M9: Gemiddelde prijs in euro
B10: Gemiddelde prijsstijging | C10: 0.02 | F10: =(F9-E9)/E9 -> 0.05 | G10: =$C10 -> 0.02 | H10: =$C10 -> 0.02 | I10: =$C10 -> 0.02 | J10: =$C10 -> 0.02 | K10: =$C10 -> 0.02 | M10: Gemiddelde prijsstijging per prognosejaar
B11: Opbrengsten (p*q) productgroep 1 | E11: ='1. Realisatie RR'!E11 -> 500 | F11: ='1. Realisatie RR'!F11 -> 525 | G11: =G8*G9/1000 -> 535.5 | H11: =H8*H9/1000 -> 591.7275 | I11: =I8*I9/1000 -> 649.9899 | J11: =J8*J9/1000 -> 710.3461 | K11: =K8*K9/1000 -> 724.55303 | M11: Naar RR
B13: Overige opbrengsten
B14: Jaarlijkse stijging overige opbrengsten | C14: 0.02 | F14: =(F15-E15)/E15 -> 0.1 | G14: =$C14 -> 0.02 | H14: =$C14 -> 0.02 | I14: =$C14 -> 0.02 | J14: =$C14 -> 0.02 | K14: =$C14 -> 0.02 | M14: Gemiddelde stijging structurele overige opbrengsten per prognosejaar
B15: Structurele/jaarlijkse overige opbrengsten | E15: =E17-E16 -> 50 | F15: =F17-F16 -> 55 | G15: =F15+(F15*G14) -> 56.1 | H15: =G15+(G15*H14) -> 57.222 | I15: =H15+(H15*I14) -> 58.36644 | J15: =I15+(I15*J14) -> 59.533769 | K15: =J15+(J15*K14) -> 60.724444
B16: Incidentele overige opbrengsten | E16: 0 | F16: 0 | G16: 30 | H16: 0 | I16: 0 | J16: 0 | K16: 0 | M16: Invoer per jaar
B17: =RR!B8 -> Overige opbrengsten | E17: ='1. Realisatie RR'!E12 -> 50 | F17: ='1. Realisatie RR'!F12 -> 55 | G17: =SUM(G15:G16) -> 86.1 | H17: =SUM(H15:H16) -> 57.222 | I17: =SUM(I15:I16) -> 58.36644 | J17: =SUM(J15:J16) -> 59.533769 | K17: =SUM(K15:K16) -> 60.724444 | M17: Naar RR
B19: Totale opbrengsten | E19: =E11+E17 -> 550 | F19: =F11+F17 -> 580 | G19: =G11+G17 -> 621.6 | H19: =H11+H17 -> 648.9495 | I19: =I11+I17 -> 708.35634 | J19: =J11+J17 -> 769.87987 | K19: =K11+K17 -> 785.27747
B21: Personeelskosten | E21: =E5 -> R 2024 | F21: =F5 -> R 2025 | G21: =G5 -> P 2026 | H21: =H5 -> P 2027 | I21: =I5 -> P 2028 | J21: =J5 -> P 2029 | K21: =K5 -> P 2030
B23: Personeelskosten functiegroep 1 | M23: Meerdere functiegroepen (intern/extern/niveaus) toe te voegen indien relevant
B24: Aantal fte | E24: 5 | F24: 5 | G24: 6 | H24: 6 | I24: 6 | J24: 6 | K24: 7 | M24: Totaal aantal fte (gemiddeld per jaar!)
B25: Gemiddelde prijsstijging personeelskosten | C25: 0.02 | F25: =F26/E26-100% -> 0 | G25: =$C25 -> 0.02 | H25: =$C25 -> 0.02 | I25: =$C25 -> 0.02 | J25: =$C25 -> 0.02 | K25: =$C25 -> 0.02 | M25: Aanname: vaste jaarlijkse % stijging
B26: Gemiddelde pers kosten per fte per jaar | E26: =E27/E24 -> -59 | F26: =F27/F24 -> -59 | G26: =F26*(1+G25) -> -60.18 | H26: =G26*(1+H25) -> -61.3836 | I26: =H26*(1+I25) -> -62.611272 | J26: =I26*(1+J25) -> -63.863497 | K26: =J26*(1+K25) -> -65.140767 | M26: Alle fte gerelateerde personeelskosten inclusief sociale lasten/pensioen/etc
B27: Fte gerelateerde personeelskosten | E27: =E30-E29 -> -295 | F27: =F30-F29 -> -295 | G27: =G24*G26 -> -361.08 | H27: =H24*H26 -> -368.3016 | I27: =I24*I26 -> -375.66763 | J27: =J24*J26 -> -383.18098 | K27: =K24*K26 -> -455.98537 | M27: Totale fte gerelateerde personeelskosten
B29: Overige personeelskosten | E29: -5 | F29: -20 | G29: -10 | H29: -7 | I29: -7 | J29: -7 | K29: -7 | M29: Overige personeelskosten niet fte gerelateerd
B30: =RR!B11 -> Personeelskosten | E30: ='1. Realisatie RR'!E15 -> -300 | F30: ='1. Realisatie RR'!F15 -> -315 | G30: =SUM(G27:G29) -> -371.08 | H30: =SUM(H27:H29) -> -375.3016 | I30: =SUM(I27:I29) -> -382.66763 | J30: =SUM(J27:J29) -> -390.18098 | K30: =SUM(K27:K29) -> -462.98537 | M30: Naar RR
B32: Materiële kosten | E32: =E5 -> R 2024 | F32: =F5 -> R 2025 | G32: =G5 -> P 2026 | H32: =H5 -> P 2027 | I32: =I5 -> P 2028 | J32: =J5 -> P 2029 | K32: =K5 -> P 2030
B34: Afschrijvingslasten | E34: ='1. Realisatie RR'!E16 -> -10 | F34: ='1. Realisatie RR'!F16 -> -11 | G34: -10 | H34: -7 | I34: -7 | J34: -7 | K34: -7 | M34: Naar RR; kan gespecificeerd worden mbv investeringsplanning
M35: Voor kleinere bedragen: kan gerelateerd worden aan ontwikkeling opbrengsten
B36: Huisvestingslasten (berekend) | E36: ='1. Realisatie RR'!E17 -> -140 | F36: ='1. Realisatie RR'!F17 -> -150 | G36: =F36+(F36*G37) -> -153 | H36: =G36+(G36*H37) -> -156.06 | I36: =H36+(H36*I37) -> -159.1812 | J36: =I36+(I36*J37) -> -162.36482 | K36: =J36+(J36*K37) -> -165.61212
B37: Gemiddelde jaarlijkse stijging | C37: 0.02 | F37: =(F36-E36)/E36 -> 0.071428571 | G37: =$C37 -> 0.02 | H37: =$C37 -> 0.02 | I37: =$C37 -> 0.02 | J37: =$C37 -> 0.02 | K37: =$C37 -> 0.02
B38: Incidentele huisvestingslasten (handmatig) | H38: -25 | I38: -25 | J38: -26 | K38: -20
B39: Huisvestingslasten | E39: =E36+E38 -> -140 | F39: =F36+F38 -> -150 | G39: =G36+G38 -> -153 | H39: =H36+H38 -> -181.06 | I39: =I36+I38 -> -184.1812 | J39: =J36+J38 -> -188.36482 | K39: =K36+K38 -> -185.61212 | M39: Naar RR
B41: Overige kosten (berekend) | E41: ='1. Realisatie RR'!E18 -> -25 | F41: ='1. Realisatie RR'!F18 -> -26 | G41: =G42*G11 -> -26.775 | H41: =H42*H11 -> -29.586375 | I41: =I42*I11 -> -32.499495 | J41: =J42*J11 -> -35.517305 | K41: =K42*K11 -> -36.227651 | M41: Naar RR
B42: Variabele kosten % van opbrengsten | C42: -0.05 | E42: =E41/E11 -> -0.05 | F42: =F41/F11 -> -0.04952381 | G42: =$C42 -> -0.05 | H42: =$C42 -> -0.05 | I42: =$C42 -> -0.05 | J42: =$C42 -> -0.05 | K42: =$C42 -> -0.05 | M42: Als % van opbrengsten (p*q) productgroep 1
B43: Incidentele overige kosten (handmatig) | H43: -25 | I43: -25 | J43: -26 | K43: -20
B44: Overige kosten | E44: =E41+E43 -> -25 | F44: =F41+F43 -> -26 | G44: =G41+G43 -> -26.775 | H44: =H41+H43 -> -54.586375 | I44: =I41+I43 -> -57.499495 | J44: =J41+J43 -> -61.517305 | K44: =K41+K43 -> -56.227651 | M44: Naar RR
B46: Materiële kosten | E46: =E34+E39+E44 -> -175 | F46: =F34+F39+F44 -> -187 | G46: =G34+G39+G44 -> -189.775 | H46: =H34+H39+H44 -> -242.64638 | I46: =I34+I39+I44 -> -248.68069 | J46: =J34+J39+J44 -> -256.88213 | K46: =K34+K39+K44 -> -248.83977
B47: Totale lasten incl personeelslasten | E47: =E30+E46 -> -475 | F47: =F30+F46 -> -502 | G47: =G30+G46 -> -560.855 | H47: =H30+H46 -> -617.94798 | I47: =I30+I46 -> -631.34833 | J47: =J30+J46 -> -647.06311 | K47: =K30+K46 -> -711.82514
B49: Operationeel resultaat (EBIT) | E49: =E19+E47 -> 75 | F49: =F19+F47 -> 78 | G49: =G19+G47 -> 60.745 | H49: =H19+H47 -> 31.001525 | I49: =I19+I47 -> 77.008013 | J49: =J19+J47 -> 122.81676 | K49: =K19+K47 -> 73.452328 | M49: Earnings before interest & tax
B51: Financieel + Niet-operationeel resultaat | E51: =E5 -> R 2024 | F51: =F5 -> R 2025 | G51: =G5 -> P 2026 | H51: =H5 -> P 2027 | I51: =I5 -> P 2028 | J51: =J5 -> P 2029 | K51: =K5 -> P 2030
B53: ='1. Realisatie RR'!B23 -> Niet-operationele baten/lasten | E53: ='1. Realisatie RR'!E23 -> 0 | F53: ='1. Realisatie RR'!F23 -> -10 | G53: 0 | H53: 40 | I53: 0 | J53: 0 | K53: 0 | M53: Indien van toepassing (bijvoorbeeld eenmalige substantiële dotatie/vrijval voorzieningen)
B55: =RR!B20 -> Verkoopresultaat vaste activa | E55: ='1. Realisatie RR'!E24 -> 0 | F55: ='1. Realisatie RR'!F24 -> 14 | G55: 2 | H55: 2 | I55: 2 | J55: 2 | K55: 2 | M55: Naar RR
...
