Workbook

Sheet Bepalingen voor gebruik
B2: Bepalingen voor gebruik
B4: Het model is generiek van opzet, dat als voorbeeld kan dienen voor de financiële planning van organisaties en ondernemingen. Het model is niet zondermeer standaard toepasbaar in uw organisatie en/of uw situatie. Mogelijk moeten aanpassingen gedaan worden om het model te laten aansluiten op uw specifieke omstandigheden, eisen en wensen. Voldoende kennis van excel en financieel modelleren is noodzakelijk voor het aanpassen van het model, het geschikt maken voor een specifieke bedrijfssituatie en het gebruik van het model. Vraag advies van KYF over de geschiktheid, de benodigde aanpassingen en het gebruik van het model.
B5: Het model kan vrij gebruikt worden als aanzet voor eigen gebruik en ten behoeve van ontwikkeling van de eigen kennis.
B6: Het model kan gebruikt voor onderwijskundige doeleinden in klassikale onderwijsvormen en voor praktijkgerichte case studies na toestemming van KYF en onder de voorwaarde dat copyright en intellectuele eigendom van het model worden gerespecteerd.
B7: KnowYourFinance en/of de auteur kunnen niet verantwoordelijk worden gehouden voor een juiste werking van het model in uw specifieke organisatie/onderneming. Ook kunnen KnowYourFinance en/of de auteur niet aansprakelijk worden gesteld voor onjuistheden in het model. KnowYourFinance hecht veel waarde aan kwaliteit en een zinvol gebruik van het model. In het geval van gesignaleerde onjuistheden of onvolkomenheden, zal KnowYourFinance deze zo spoedig mogelijk oplossen, in afstemming met de gebruiker(s) van het model.
B8: KnowYourFinance en de auteur zijn niet verantwoordelijk voor besluitvorming (of achterwege blijven hiervan) op basis van het model, zowel niet in de oorspronkelijke vorm als in aangepaste vorm.
B9: KnowYourFinance is intellectueel eigenaar van het model. Het is niet toegestaan in welke vorm dan ook het model of gedeelten ervan (in oorspronkelijke of aangepaste vorm) te verspreiden of te delen met derden (tegen een vergoeding noch kosteloos), met uitzondering van deling van het model ten behoeve van gebruik en kennisdeling binnen de eigen organisatie/onderneming. In alle gevallen worden de copyright en het intellectuele eigendom van het model gerespecteerd.

Sheet Modeltoelichting
B2: Toelichtingen bij model
B4: KnowYourFinance
B6: KnowYourFinance heeft als doel organisaties te ondersteunen bij de financiële planning, analyse en besluitvorming en de kennis over financiële analyse, planning en modelleren praktisch beschikbaar te stellen.
B7: U kunt contact opnemen met KnowYourFinance bij vragen over het model, of indien u klant-specifieke wensen en toepassingen heeft. We waarderen uw feedback over het model en het delen van uw gebruikservaringen. Wij nodigen u uit een email te sturen of onze webstite te bezoeken via onderstaande links.
B8: info@knowyourfinance.nl
B9: https://knowyourfinance.nl
B11: Kenmerken
B13: Type model: Investeringsbeoordeling
B14: Geschikt voor: Potentieel geschikt voor vele type investeringensbeoordelingen met een investering in startjaar 0 en een potentiële restwaarde per einde van de looptijd, ter vervanning van een bestaande investering (inclusief verkoopopbrengst en de incrementele belastingeffecten).
B15: Minder geschikt voor: Voor investeringsbeoordelingen zonder verkoop of vervanging van een bestaande investering, wordt geadviseerd het eenvoudigere model Investeringsbeoordeling te gebruiken, zoals beschikbaar op de site van KnowYourFinance
B17: Uitgangspunten van het model
B19: De invoer vindt plaats op basis van incrementele opbrengsten, kosten en kasstromen.
... B78: - Pas de grafiek "Cumulatieve Contante Waarde" aan voor de extra jaren

Sheet Afkortingen
B2: Afkortingen
B4: CW | C4: Contante Waarde
B5: IRR | C5: Internal Rate of Return
B6: NCW | C6: Netto Contante Waarde
B7: NPV | C7: Net Present Value ( = NCW)
B8: TVT | C8: Terugverdientijd
B9: TVT CW | C9: Terugverdientijd tegen Contante Waarde

Sheet OUTPUT->

Sheet Dashboard
B2: Dashboard Investeringsbeoordeling met vervanging | T2: KnowYourFinance © | AB2: Brondata-> | AF2: Brondata | AS2: Sensitivity analysis-> | AV2: Disc voet | AY2: Investering | BB2: Restwaarde | BE2: Opbrengsten | BH2: Kostprijs
B3: Bedragen x € 1.000 | AI3: ='Invoer Scenario Basis'!E19 -> 2026 | AJ3: ='Invoer Scenario Basis'!F19 -> 2027 | AK3: ='Invoer Scenario Basis'!G19 -> 2028 | AL3: ='Invoer Scenario Basis'!H19 -> 2029 | AM3: ='Invoer Scenario Basis'!I19 -> 2030 | AN3: ='Invoer Scenario Basis'!J19 -> 2031 | AV3: Change | AW3: NCW | AY3: Change | AZ3: NCW | BB3: Change | BC3: NCW | BE3: Change | BF3: NCW | BH3: Change | BI3: NCW
AV4: 0 | AW4: ='Scenario Sensivity'!E62 -> 1320.4542 | AY4: 0 | AZ4: ='Scenario Sensivity'!E62 -> 1320.4542 | BB4: 0 | BC4: ='Scenario Sensivity'!E62 -> 1320.4542 | BE4: 0 | BF4: ='Scenario Sensivity'!E62 -> 1320.4542 | BH4: 0 | BI4: ='Scenario Sensivity'!E62 -> 1320.4542
C5: Scenario invoer Hoog en Laag in lichtgele cellen | AV5: -0.1 | AW5: 1398.4938 | AY5: -0.1 | AZ5: 1442.0233 | BB5: -0.1 | BC5: 1307.5127 | BE5: -0.1 | BF5: 1076.6592 | BH5: -0.1 | BI5: 1407.5238
C6: Scenario | E6: Disc. voet | F6: Investering | G6: Restwaarde | H6: Opbrengsten | I6: Kostprijs% | K6: NCW | L6: TVT | M6: TVT CW | N6: IRR | AF6: Cumulatieve CW | AV6: 0.1 | AW6: 1245.6779 | AY6: 0.1 | AZ6: 1198.8851 | BB6: 0.1 | BC6: 1333.3956 | BE6: 0.1 | BF6: 1564.2492 | BH6: 0.1 | BI6: 1233.3845
AF7: Hoog | AI7: ='Calc Scenario Hoog'!E60 -> -1602.5 | AJ7: ='Calc Scenario Hoog'!F60 -> -876.62281 | AK7: ='Calc Scenario Hoog'!G60 -> -220.65174 | AL7: ='Calc Scenario Hoog'!H60 -> 344.63691 | AM7: ='Calc Scenario Hoog'!I60 -> 840.50414 | AN7: ='Calc Scenario Hoog'!J60 -> 1452.0607
C8: Hoog | E8: 0.14 | F8: -1600 | G8: 300 | H8: 7500 | I8: -0.25 | K8: ='Calc Scenario Hoog'!E62 -> 1452.0607 | L8: ='Calc Scenario Hoog'!E63 -> 1.9090909 | M8: ='Calc Scenario Hoog'!E64 -> 2.3903346 | N8: ='Calc Scenario Hoog'!E65 -> 0.45813807 | AF8: Basis | AI8: ='Invoer Scenario Basis'!E60 -> -1502.5 | AJ8: ='Invoer Scenario Basis'!F60 -> -886.02273 | AK8: ='Invoer Scenario Basis'!G60 -> -304.92769 | AL8: ='Invoer Scenario Basis'!H60 -> 212.07081 | AM8: ='Invoer Scenario Basis'!I60 -> 682.06945 | AN8: ='Invoer Scenario Basis'!J60 -> 1320.4542 | AV8: Driver | AX8: -10% | AY8: +10% | AZ8: ABS -/- | BA8: ABS + | BB8: Ranking | BC8: Output | BD8: Driver | BF8: Δ +10% | BG8: Δ -10%
C9: Basis | E9: ='Invoer Scenario Basis'!E8 -> 0.1 | F9: ='Invoer Scenario Basis'!E51 -> -1500 | G9: ='Invoer Scenario Basis'!J52 -> 300 | H9: =SUM('Invoer Scenario Basis'!F21:J21) -> 6125 | I9: ='Invoer Scenario Basis'!C23 -> -0.25 | K9: ='Invoer Scenario Basis'!E62 -> 1320.4542 | L9: ='Invoer Scenario Basis'!E63 -> 2.1762035 | M9: ='Invoer Scenario Basis'!E64 -> 2.5898038 | N9: ='Invoer Scenario Basis'!E65 -> 0.38552967 | AF9: Laag | AI9: ='Calc Scenario Laag'!E60 -> -1502.5 | AJ9: ='Calc Scenario Laag'!F60 -> -1023.8675 | AK9: ='Calc Scenario Laag'!G60 -> -596.51709 | AL9: ='Calc Scenario Laag'!H60 -> -240.62588 | AM9: ='Calc Scenario Laag'!I60 -> 63.554651 | AN9: ='Calc Scenario Laag'!J60 -> 478.6158 | AV9: Disc voet | AX9: =AW5/$AW$4-100% -> 0.059100615 | AY9: =AW6/AW4-1 -> -0.056629202 | AZ9: =ABS(AX9) -> 0.059100615 | BA9: =ABS(AY9) -> 0.056629202 | BB9: 1 | BC9: =SMALL($BA$9:$BA$13,BB9) -> 0.0098007638 | BD9: =INDEX($AV$9:$AV$13,MATCH(BC9,$BA$9:$BA$13,0)) -> Restwaarde | BF9: =INDEX($AY$9:$AY$13,MATCH(BD9,$AV$9:$AV$13,0)) -> 0.0098007638 | BG9: =INDEX($AX$9:$AX$13,MATCH(BD9,$AV$9:$AV$13,0)) -> -0.0098007638
C10: Laag | E10: 0.17 | F10: -1500 | G10: 300 | H10: 5000 | I10: -0.25 | K10: ='Calc Scenario Laag'!E62 -> 478.6158 | L10: ='Calc Scenario Laag'!E63 -> 2.627193 | M10: ='Calc Scenario Laag'!E64 -> 3.7910627 | N10: ='Calc Scenario Laag'!E65 -> 0.29297425 | AF10: Flex | AI10: ='Invoer Scenario Flex'!E60 -> -1677.5 | AJ10: ='Invoer Scenario Flex'!F60 -> -1090 | AK10: ='Invoer Scenario Flex'!G60 -> -560.22684 | AL10: ='Invoer Scenario Flex'!H60 -> -109.41728 | AM10: ='Invoer Scenario Flex'!I60 -> 282.59104 | AN10: ='Invoer Scenario Flex'!J60 -> 867.08444 | AV10: Investering | AX10: =AZ5/AZ4-1 -> 0.092066125 | AY10: =AZ6/AZ4-1 -> -0.092066125 | AZ10: =ABS(AX10) -> 0.092066125 | BA10: =ABS(AY10) -> 0.092066125 | BB10: 2 | BC10: =SMALL($BA$9:$BA$13,BB10) -> 0.056629202 | BD10: =INDEX($AV$9:$AV$13,MATCH(BC10,$BA$9:$BA$13,0)) -> Disc voet | BF10: =INDEX($AY$9:$AY$13,MATCH(BD10,$AV$9:$AV$13,0)) -> -0.056629202 | BG10: =INDEX($AX$9:$AX$13,MATCH(BD10,$AV$9:$AV$13,0)) -> 0.059100615
C11: Flex | E11: ='Invoer Scenario Flex'!E8 -> 0.15 | F11: ='Invoer Scenario Flex'!E51 -> -1600 | G11: ='Invoer Scenario Flex'!J52 -> 450 | H11: =SUM('Invoer Scenario Flex'!F21:J21) -> 6125 | I11: ='Invoer Scenario Flex'!C23 -> -0.25 | K11: ='Invoer Scenario Flex'!E62 -> 867.08444 | L11: ='Invoer Scenario Flex'!E63 -> 2.4393801 | M11: ='Invoer Scenario Flex'!E64 -> 3.2791198 | N11: ='Invoer Scenario Flex'!E65 -> 0.33590094 | AV11: Restwaarde | AX11: =BC5/BC4-1 -> -0.0098007638 | AY11: =BC6/BC4-1 -> 0.0098007638 | AZ11: =ABS(AX11) -> 0.0098007638 | BA11: =ABS(AY11) -> 0.0098007638 | BB11: 3 | BC11: =SMALL($BA$9:$BA$13,BB11) -> 0.065939156 | BD11: =INDEX($AV$9:$AV$13,MATCH(BC11,$BA$9:$BA$13,0)) -> Kostprijs | BF11: =INDEX($AY$9:$AY$13,MATCH(BD11,$AV$9:$AV$13,0)) -> -0.065939156 | BG11: =INDEX($AX$9:$AX$13,MATCH(BD11,$AV$9:$AV$13,0)) -> 0.065939156
AF12: Scenario's | AH12: NCW | AV12: Opbrengsten | AX12: =BF5/BF4-1 -> -0.18462964 | AY12: =BF6/BF4-1 -> 0.18462964 | AZ12: =ABS(AX12) -> 0.18462964 | BA12: =ABS(AY12) -> 0.18462964 | BB12: 4 | BC12: =SMALL($BA$9:$BA$13,BB12) -> 0.092066125 | BD12: =INDEX($AV$9:$AV$13,MATCH(BC12,$BA$9:$BA$13,0)) -> Investering | BF12: =INDEX($AY$9:$AY$13,MATCH(BD12,$AV$9:$AV$13,0)) -> -0.092066125 | BG12: =INDEX($AX$9:$AX$13,MATCH(BD12,$AV$9:$AV$13,0)) -> 0.092066125
AF13: Hoog | AH13: =Dashboard!K8-0.001 -> 1452.0597 | AV13: Kostprijs | AX13: =BI5/BI4-1 -> 0.065939156 | AY13: =BI6/BI4-1 -> -0.065939156 | AZ13: =ABS(AX13) -> 0.065939156 | BA13: =ABS(AY13) -> 0.065939156 | BB13: 5 | BC13: =SMALL($BA$9:$BA$13,BB13) -> 0.18462964 | BD13: =INDEX($AV$9:$AV$13,MATCH(BC13,$BA$9:$BA$13,0)) -> Opbrengsten | BF13: =INDEX($AY$9:$AY$13,MATCH(BD13,$AV$9:$AV$13,0)) -> 0.18462964 | BG13: =INDEX($AX$9:$AX$13,MATCH(BD13,$AV$9:$AV$13,0)) -> -0.18462964
AF14: Basis | AH14: =Dashboard!K9 -> 1320.4542
AF15: Laag | AH15: =Dashboard!K10+0.002 -> 478.6178
AF16: Flex | AH16: =Dashboard!K11+0.001 -> 867.08544
AF18: =INDEX($AF$13:$AH$16,MATCH(AH18,$AH$13:$AH$16,0),1) -> Laag | AG18: 1 | AH18: =SMALL($AH$13:$AH$16,AG18) -> 478.6178
AF19: =INDEX($AF$13:$AH$16,MATCH(AH19,$AH$13:$AH$16,0),1) -> Flex | AG19: 2 | AH19: =SMALL($AH$13:$AH$16,AG19) -> 867.08544
AF20: =INDEX($AF$13:$AH$16,MATCH(AH20,$AH$13:$AH$16,0),1) -> Basis | AG20: 3 | AH20: =SMALL($AH$13:$AH$16,AG20) -> 1320.4542
AF21: =INDEX($AF$13:$AH$16,MATCH(AH21,$AH$13:$AH$16,0),1) -> Hoog | AG21: 4 | AH21: =SMALL($AH$13:$AH$16,AG21) -> 1452.0597

Sheet INVOER->

Sheet Invoer Scenario Basis
B2: Invoer Scenario Basis Incrementele kasstromen | J2: KnowYourFinance ©
B4: Bedragen in EUR x 1.000
B5: Invoer algemeen
B7: Startjaar; jaarnummer = 0 (einde jaar startinvestering) | E7: 2026 | L7: Alle kasstromen worden verondersteld te worden gerealiseerd aan het einde van het jaar
B8: Disconteringsvoet | E8: 0.1 | I8: Kopie en invoegen extra jaren
B9: Aantal afschrijvingsjaren | E9: =J11-E11 -> 5 | L9: Aanname: laatste afschrijvingsjaar = laatste jaar in invoertabel; zonodig jaren invoegen met kopie kolom en inplakken kolom
B11: Invoer oude investering | E11: =E19 -> 2026 | F11: =F19 -> 2027 | G11: =G19 -> 2028 | H11: =H19 -> 2029 | I11: =I19 -> 2030 | J11: =J19 -> 2031 | L11: Invoer in deze sectie betreft oude investering die vervangen gaat worden. Invoer betreft oorspronkelijke bedragen voorafgaand aan scenario van vervanging.
B13: Afschrijvingslasten oude investering | F13: -60 | G13: -60 | H13: -60 | I13: -60 | J13: -60 | L13: Afschrijvingslasten oorspronkelijke investering die vervangen gaat worden met nieuwe investering. Invoer met min teken
B14: Verkoopopbrengst laatste jaar | J14: 50 | L14: Inschatting oorspronkelijke verkoopopbrengst einde projecttijd (laatste jaar), indien van toepassing. Invoer + voor positieve opbrengst; -/- voor negatieve opbrengst
B15: Verkoopresultaat laatste jaar | J15: 10 | L15: Inschatting verkoopresultaat (=verkoopopbrengst -/- boekwaarde) einde projecttijd, indien van toepassing. Invoer + voor positief resultaat; -/- voor negatief resultaat
B16: Verkoopopbrengst jaar nul | E16: 450 | L16: Inschatting verkoopopbrengst jaar 0; = investeringsjaar nieuwe investering (scenario dat investering vervangen wordt). Invoer + voor positieve opbrengst
B17: Verkoopresultaat jaar nul | E17: 150 | L17: Inschatting verkoopresultaat jaar 0; Invoer + voor positief resultaat; -/- voor negatief resultaat
B19: Invoer incrementele opbrengsten en kosten | E19: =E7 -> 2026 | F19: =$E19+COLUMN()-COLUMN($E19) -> 2027 | G19: =$E19+COLUMN()-COLUMN($E19) -> 2028 | H19: =$E19+COLUMN()-COLUMN($E19) -> 2029 | I19: =$E19+COLUMN()-COLUMN($E19) -> 2030 | J19: =$E19+COLUMN()-COLUMN($E19) -> 2031
B21: Incrementele opbrengsten | F21: 1225 | G21: 1225 | H21: 1225 | I21: 1225 | J21: 1225 | L21: Alleen incrementele/extra opbrengsten opnemen, voor zover van toepassing
B23: Kostprijs verkopen % | C23: =-25% -> -0.25 | F23: =$C23*F21 -> -306.25 | G23: =$C23*G21 -> -306.25 | H23: =$C23*H21 -> -306.25 | I23: =$C23*I21 -> -306.25 | J23: =$C23*J21 -> -306.25 | L23: Invoer als negatief percentage, gerelateerd aan de incrementele opbrengsten
B24: Kostprijs handmatig/incidenteel | J24: 50 | L24: + = kostenbesparing
B25: Incrementele kostprijs | F25: =SUM(F23:F24) -> -306.25 | G25: =SUM(G23:G24) -> -306.25 | H25: =SUM(H23:H24) -> -306.25 | I25: =SUM(I23:I24) -> -306.25 | J25: =SUM(J23:J24) -> -256.25
B27: Variabele overige bedrijfskosten | C27: -0.05 | F27: =$C27*F21 -> -61.25 | G27: =$C27*G21 -> -61.25 | H27: =$C27*H21 -> -61.25 | I27: =$C27*I21 -> -61.25 | J27: =$C27*J21 -> -61.25 | L27: Invoer als negatief percentage, gerelateerd aan de incrementele opbrengsten
B28: Bedrijfskn handmatig/incidenteel | G28: 20 | L28: + = kostenbesparing
B29: Initiële projectkosten (niet activeerbaar) | E29: -500 | L29: Invoer als negatief bedrag
B30: Afschrijvingskosten nieuwe investering | F30: =F96 -> -240 | G30: =G96 -> -240 | H30: =H96 -> -240 | I30: =I96 -> -240 | J30: =J96 -> -240 | L30: Afschrijvingslasten gerelateerd aan nieuwe investeringsuitgaven en restwaarde. Kan handmatig overschreven worden
B31: Afschrijvingskosten oude investering (+) | F31: =-F13 -> 60 | G31: =-G13 -> 60 | H31: =-H13 -> 60 | I31: =-I13 -> 60 | J31: =-J13 -> 60 | L31: ="Kopie regel "&ROW(L13)&". Positieve niet gerealiseserde afschrijvingslasten oude investering" -> Kopie regel 13. Positieve niet gerealiseserde afschrijvingslasten oude investering
B32: Incrementele overige bedrijfskosten | E32: =SUM(E27:E31) -> -500 | F32: =SUM(F27:F31) -> -241.25 | G32: =SUM(G27:G31) -> -221.25 | H32: =SUM(H27:H31) -> -241.25 | I32: =SUM(I27:I31) -> -241.25 | J32: =SUM(J27:J31) -> -241.25
B34: Verkoopresultaat nieuwe investering | J34: =J106 -> 0 | L34: Verkoopresultaat nieuwe investering einde looptijd ( = restwaarde -/- boekwaarde), relevant voor belastingvoor-/nadeel = kasstroom
B35: Verkoopresultaat oude investering jaar 0 | E35: =E17 -> 150 | L35: ="Kopie regel "&ROW(L17)&". Verkoopresultaat oude investering jaat 0 (= inschatting verkoopopbrengst -/- boekwaarde jaar 0)" -> Kopie regel 17. Verkoopresultaat oude investering jaat 0 (= inschatting verkoopopbrengst -/- boekwaarde jaar 0)
B36: Verkoopresultaat oude investering laatste jaar | J36: =-J15 -> -10 | L36: ="Kopie regel "&ROW(L15)&". Verkoopresultaat oude investering laatste jaar (= inschatting verkoopopbrengst -/- boekwaarde)" -> Kopie regel 15. Verkoopresultaat oude investering laatste jaar (= inschatting verkoopopbrengst -/- boekwaarde)
B38: Resultaat voor belastingen | E38: =E21+E25+SUM(E32:E37) -> -350 | F38: =F21+F25+SUM(F32:F37) -> 677.5 | G38: =G21+G25+SUM(G32:G37) -> 697.5 | H38: =H21+H25+SUM(H32:H37) -> 677.5 | I38: =I21+I25+SUM(I32:I37) -> 677.5 | J38: =J21+J25+SUM(J32:J37) -> 717.5
B40: Belastingen | C40: -0.25 | E40: =$C40*E38 -> 87.5 | F40: =$C40*F38 -> -169.375 | G40: =$C40*G38 -> -174.375 | H40: =$C40*H38 -> -169.375 | I40: =$C40*I38 -> -169.375 | J40: =$C40*J38 -> -179.375 | L40: Invoer als negatief percentage
B41: Nettoresultaat | E41: =SUM(E38:E40) -> -262.5 | F41: =SUM(F38:F40) -> 508.125 | G41: =SUM(G38:G40) -> 523.125 | H41: =SUM(H38:H40) -> 508.125 | I41: =SUM(I38:I40) -> 508.125 | J41: =SUM(J38:J40) -> 538.125
B43: Invoer incrementele kasstromen | E43: =E19 -> 2026 | F43: =F19 -> 2027 | G43: =G19 -> 2028 | H43: =H19 -> 2029 | I43: =I19 -> 2030 | J43: =J19 -> 2031
B45: Nettoresultaat | E45: =E41 -> -262.5 | F45: =F41 -> 508.125 | G45: =G41 -> 523.125 | H45: =H41 -> 508.125 | I45: =I41 -> 508.125 | J45: =J41 -> 538.125
B47: Correctie afschrijvingskosten | F47: =-F30-F31 -> 180 | G47: =-G30-G31 -> 180 | H47: =-H30-H31 -> 180 | I47: =-I30-I31 -> 180 | J47: =-J30-J31 -> 180 | L47: Correctie afschrijvingskosten, want geen kasstroom
B48: Correctie verkoopresultaat | E48: =-SUM(E34:E36) -> -150 | F48: =-SUM(F34:F36) -> 0 | G48: =-SUM(G34:G36) -> 0 | H48: =-SUM(H34:H36) -> 0 | I48: =-SUM(I34:I36) -> 0 | J48: =-SUM(J34:J36) -> 10 | L48: Correctie verkoopresultaat, want geen kasstroom
B49: Toe/afname werkapitaal | E49: -40 | F49: -10 | J49: 50 | L49: Betreft voorraden + debiteuren -/- crediteuren. Toename werkkapitaal = -/-; noot: alleen toe-afname opnemen ten opzichte van het voorgaande jaar.
L50: Toename werkkapitaal start looptijd betekent vaak afname werkkapitaal einde looptijd (aanname zonder verkoopresultaat)
B51: Nieuwe investeringsuitgaven | E51: -1500 | L51: Activeerbare uitgaven; standaardberekening: timing startinvestering aan het einde van het eerste jaar t=0
B52: Restwaarde/verkoopopbrengst nieuwe investering | J52: 300 | L52: Kasstroom einde project investeringen (geen werkkapitaal)
B53: Verkoopopbrengst oude investering jaar 0 | E53: =E16 -> 450 | L53: ="Kopie regel "&ROW(L16)&". Verkoopopbrengst oude investering jaar 0 als gevolg van nieuwe investering" -> Kopie regel 16. Verkoopopbrengst oude investering jaar 0 als gevolg van nieuwe investering
B54: Verkoopopbrengst oude investering laatste jaar | J54: =-J14 -> -50 | L54: ="Kopie regel "&ROW(L14)&". Restwaarde/verkoopopbrengst van oude investering die niet gerealiseerd wordt als gevolg van aanschaf nieuwe investering (en verkoop oude investering op tijdstip 0)" -> Kopie regel 14. Restwaarde/verkoopopbrengst van oude investering die niet gerealiseerd wordt als gevolg van aanschaf nieuwe investering (en verkoop oude investering op tijdstip 0)
B56: Totaal incrementele kasstromen | E56: =SUM(E45:E55) -> -1502.5 | F56: =SUM(F45:F55) -> 678.125 | G56: =SUM(G45:G55) -> 703.125 | H56: =SUM(H45:H55) -> 688.125 | I56: =SUM(I45:I55) -> 688.125 | J56: =SUM(J45:J55) -> 1028.125
B58: Cumulatieve incementele kasstromen | E58: =E56 -> -1502.5 | F58: =F56+OFFSET(F58,0,-1) -> -824.375 | G58: =G56+OFFSET(G58,0,-1) -> -121.25 | H58: =H56+OFFSET(H58,0,-1) -> 566.875 | I58: =I56+OFFSET(I58,0,-1) -> 1255 | J58: =J56+OFFSET(J58,0,-1) -> 2283.125
B59: Contante waarde per jaar | E59: =E56*E70 -> -1502.5 | F59: =F56*F70 -> 616.47727 | G59: =G56*G70 -> 581.09504 | H59: =H56*H70 -> 516.9985 | I59: =I56*I70 -> 469.99863 | J59: =J56*J70 -> 638.38474
B60: Cumulatieve CW | E60: =E59 -> -1502.5 | F60: =F59+OFFSET(F60,0,-1) -> -886.02273 | G60: =G59+OFFSET(G60,0,-1) -> -304.92769 | H60: =H59+OFFSET(H60,0,-1) -> 212.07081 | I60: =I59+OFFSET(I60,0,-1) -> 682.06945 | J60: =J59+OFFSET(J60,0,-1) -> 1320.4542
B62: Netto Contante Waarde (NCW) | E62: =SUM(E59:J59) -> 1320.4542
B63: Terugverdientijd (TVT) | E63: =E77 -> 2.1762035 | L63: In jaren; aanname dat kasstromen gelijkmatig over het jaar gerealiseerd worden
B64: Terugverdientijd contante waarde (CW) | E64: =E84 -> 2.5898038 | L64: TVT op basis van contante waarde van kasstromen; aanname dat kasstromen gelijkmatig over het jaar gerealiseerd worden
B65: IRR | E65: =IRR(E56:J56) -> 0.38552967 | L65: Disconteringsvoet waarbij NCW = 0
B67: Hulpberekeningen indicatoren | E67: =E19 -> 2026 | F67: =F19 -> 2027 | G67: =G19 -> 2028 | H67: =H19 -> 2029 | I67: =I19 -> 2030 | J67: =J19 -> 2031
B69: Jaarnummer | E69: =E67-$E67 -> 0 | F69: =F67-$E67 -> 1 | G69: =G67-$E67 -> 2 | H69: =H67-$E67 -> 3 | I69: =I67-$E67 -> 4 | J69: =J67-$E67 -> 5
B70: Contante waarde factor | E70: =1/(1+$E$8)^E69 -> 1 | F70: =1/(1+$E$8)^F69 -> 0.90909091 | G70: =1/(1+$E$8)^G69 -> 0.82644628 | H70: =1/(1+$E$8)^H69 -> 0.7513148 | I70: =1/(1+$E$8)^I69 -> 0.68301346 | J70: =1/(1+$E$8)^J69 -> 0.62092132
B72: =B58 -> Cumulatieve incementele kasstromen | E72: =E58 -> -1502.5 | F72: =F58 -> -824.375 | G72: =G58 -> -121.25 | H72: =H58 -> 566.875 | I72: =I58 -> 1255 | J72: =J58 -> 2283.125
B73: Jaar-deel in TVT jaar | F73: =IF(AND(SIGN(OFFSET(F72,0,-1))=-1,SIGN(F72)>-1),-OFFSET(F72,0,-1)/(-OFFSET(F72,0,-1)+F72),0) -> 0 | G73: =IF(AND(SIGN(OFFSET(G72,0,-1))=-1,SIGN(G72)>-1),-OFFSET(G72,0,-1)/(-OFFSET(G72,0,-1)+G72),0) -> 0 | H73: =IF(AND(SIGN(OFFSET(H72,0,-1))=-1,SIGN(H72)>-1),-OFFSET(H72,0,-1)/(-OFFSET(H72,0,-1)+H72),0) -> 0.17620345 | I73: =IF(AND(SIGN(OFFSET(I72,0,-1))=-1,SIGN(I72)>-1),-OFFSET(I72,0,-1)/(-OFFSET(I72,0,-1)+I72),0) -> 0 | J73: =IF(AND(SIGN(OFFSET(J72,0,-1))=-1,SIGN(J72)>-1),-OFFSET(J72,0,-1)/(-OFFSET(J72,0,-1)+J72),0) -> 0
B74: Totale positieve kasstroom? | E74: =IF(J72<0,"nee","ja") -> ja
B75: TVT gehele jaren | E75: =IF(E74="ja",COUNTIF(E72:J72,"<0"),"nvt") -> 3
B76: Jaar-deel in TVT jaar | E76: =INDEX(F73:J73,E75) -> 0.17620345
B77: TVT | E77: =IFERROR(E75-1+E76,"nvt") -> 2.1762035
B79: =B60 -> Cumulatieve CW | E79: =E60 -> -1502.5 | F79: =F60 -> -886.02273 | G79: =G60 -> -304.92769 | H79: =H60 -> 212.07081 | I79: =I60 -> 682.06945 | J79: =J60 -> 1320.4542
B80: Jaar-deel in TVT jaar | F80: =IF(AND(SIGN(OFFSET(F79,0,-1))=-1,SIGN(F79)>-1),-OFFSET(F79,0,-1)/(-OFFSET(F79,0,-1)+F79),0) -> 0 | G80: =IF(AND(SIGN(OFFSET(G79,0,-1))=-1,SIGN(G79)>-1),-OFFSET(G79,0,-1)/(-OFFSET(G79,0,-1)+G79),0) -> 0 | H80: =IF(AND(SIGN(OFFSET(H79,0,-1))=-1,SIGN(H79)>-1),-OFFSET(H79,0,-1)/(-OFFSET(H79,0,-1)+H79),0) -> 0.58980381 | I80: =IF(AND(SIGN(OFFSET(I79,0,-1))=-1,SIGN(I79)>-1),-OFFSET(I79,0,-1)/(-OFFSET(I79,0,-1)+I79),0) -> 0 | J80: =IF(AND(SIGN(OFFSET(J79,0,-1))=-1,SIGN(J79)>-1),-OFFSET(J79,0,-1)/(-OFFSET(J79,0,-1)+J79),0) -> 0
B81: Totale positieve kasstroom? | E81: =IF(J79<0,"nee","ja") -> ja
B82: TVT gehele jaren | E82: =IF(E81="ja",COUNTIF(E79:J79,"<0"),"nvt") -> 3
B83: Jaar-deel in TVT jaar | E83: =INDEX(F80:J80,E82) -> 0.58980381
B84: TVT CW | E84: =IFERROR(E82-1+E83,"nvt") -> 2.5898038
B86: Check NPV formuler excel
B87: NPV formule | E87: =NPV(E8,F56:J56)+E56 -> 1320.4542
B88: NPV berekend | E88: =E62 -> 1320.4542
B89: Check NPV berekend = NPV formule | E89: =ROUND(E87,2)=ROUND(E88,2) -> TRUE
B92: Hulpberekeningen afschrijvingen | E92: =E19 -> 2026 | F92: =F19 -> 2027 | G92: =G19 -> 2028 | H92: =H19 -> 2029 | I92: =I19 -> 2030 | J92: =J19 -> 2031
B94: Investering en restwaarde | C94: =SUM(E94:J94) -> -1200 | E94: =E51 -> -1500 | J94: =J52 -> 300
B95: Aantal afschrijvingsjaren | C95: =J92-E92 -> 5 | L95: Aanname: investering wordt gelijkmatig over lopende jaren afgeschreven
B96: Afschrijving per jaar | C96: =C94/C95 -> -240 | F96: =$C96 -> -240 | G96: =$C96 -> -240 | H96: =$C96 -> -240 | I96: =$C96 -> -240 | J96: =$C96 -> -240
B97: Cumulatieve afschrijvingen | F97: =F96 -> -240 | G97: =G96+OFFSET(G97,0,-1) -> -480 | H97: =H96+OFFSET(H97,0,-1) -> -720 | I97: =I96+OFFSET(I97,0,-1) -> -960 | J97: =J96+OFFSET(J97,0,-1) -> -1200
B98: Boekwaarde investering | F98: =$E94-F97 -> -1260 | G98: =$E94-G97 -> -1020 | H98: =$E94-H97 -> -780 | I98: =$E94-I97 -> -540 | J98: =$E94-J97 -> -300
B99: Boekwaarde -/- restwaarde | F99: =$C94-F97 -> -960 | G99: =$C94-G97 -> -720 | H99: =$C94-H97 -> -480 | I99: =$C94-I97 -> -240 | J99: =$C94-J97 -> 0
B100: Check | J100: =J99 -> 0 | L100: Boekwaarde -/- restwaarde moet nul zijn aan einde looptijd
B102: Werkelijke afschrijvingen | F102: =F30 -> -240 | G102: =G30 -> -240 | H102: =H30 -> -240 | I102: =I30 -> -240 | J102: =J30 -> -240 | L102: Relevant voor indien afschrijvingen handmatig zijn overschreven, om belasting effect op verkoopresultaat te berekenen
B103: Werkelijke cum afschrijvingen | F103: =F102 -> -240 | G103: =G102+OFFSET(G103,0,-1) -> -480 | H103: =H102+OFFSET(H103,0,-1) -> -720 | I103: =I102+OFFSET(I103,0,-1) -> -960 | J103: =J102+OFFSET(J103,0,-1) -> -1200
B104: Werkelijke boekwaarde | F104: =$E94-F103 -> -1260 | G104: =$E94-G103 -> -1020 | H104: =$E94-H103 -> -780 | I104: =$E94-I103 -> -540 | J104: =$E94-J103 -> -300
B105: Restwaarde/verkoopwaarde | J105: =J94 -> 300
B106: Verkoopresultaat | J106: =SUM(J104:J105) -> 0

Sheet Invoer Scenario Flex
B2: Invoer Scenario Flex Incrementele kasstromen | J2: KnowYourFinance ©
B4: Bedragen in EUR x 1.000
B5: Invoer algemeen
B7: Startjaar; jaarnummer = 0 (einde jaar startinvestering) | E7: ='Invoer Scenario Basis'!E7 -> 2026 | L7: Kopie Scenario Basis
B8: Disconteringsvoet | E8: 0.15 | I8: Kopie en invoegen extra jaren
B9: Aantal afschrijvingsjaren | E9: =J11-E11 -> 5 | L9: Aanname: laatste afschrijvingsjaar = laatste jaar in invoertabel; zonodig jaren invoegen met kopie kolom en inplakken kolom
B11: Invoer oude investering (vervanging) | E11: =E19 -> 2026 | F11: =F19 -> 2027 | G11: =G19 -> 2028 | H11: =H19 -> 2029 | I11: =I19 -> 2030 | J11: =J19 -> 2031
B13: Afschrijvingslasten vervangde investering | F13: -60 | G13: -60 | H13: -60 | I13: -60 | J13: -60 | L13: Afschrijvingslasten oorspronkelijke investering die vervangen gaat worden met nieuwe investering. Invoer met min teken
B14: Verkoopopbrengst laatste jaar | J14: 50 | L14: Inschatting verkoopopbrengst einde projecttijd (laatste jaar), indien van toepassing (scenario dat investering niet vervangen wordt). Invoer + voor positieve opbrengst; -/- voor negatieve opbrengst
B15: Verkoopresultaat laatste jaar | J15: 10 | L15: Inschatting verkoopresultaat (=verkoopopbrengst -/- boekwaarde) einde projecttijd, indien van toepassing. Invoer + voor positief resultaat; -/- voor negatief resultaat
B16: Verkoopopbrengst jaar nul | E16: 450 | L16: Inschatting verkoopopbrengst jaar 0; = investeringsjaar nieuwe investering (scenario dat investering vervangen wordt). Invoer + voor positieve opbrengst
B17: Verkoopresultaat jaar nul | E17: 150 | L17: Inschatting verkoopresultaat jaar 0; Invoer + voor positief resultaat; -/- voor negatief resultaat
B19: Invoer incrementele opbrengsten en kosten | E19: =E7 -> 2026 | F19: =$E19+COLUMN()-COLUMN($E19) -> 2027 | G19: =$E19+COLUMN()-COLUMN($E19) -> 2028 | H19: =$E19+COLUMN()-COLUMN($E19) -> 2029 | I19: =$E19+COLUMN()-COLUMN($E19) -> 2030 | J19: =$E19+COLUMN()-COLUMN($E19) -> 2031
B21: Incrementele opbrengsten | F21: 1225 | G21: 1225 | H21: 1225 | I21: 1225 | J21: 1225 | L21: Alleen incrementele/extra opbrengsten opnemen, voor zover van toepassing
B23: Kostprijs verkopen % | C23: -0.25 | F23: =$C23*F21 -> -306.25 | G23: =$C23*G21 -> -306.25 | H23: =$C23*H21 -> -306.25 | I23: =$C23*I21 -> -306.25 | J23: =$C23*J21 -> -306.25 | L23: Invoer als negatief percentage, gerelateerd aan de incrementele opbrengsten
B24: Kostprijs handmatig/incidenteel | J24: 50 | L24: + = kostenbesparing
B25: Incrementele kostprijs | F25: =SUM(F23:F24) -> -306.25 | G25: =SUM(G23:G24) -> -306.25 | H25: =SUM(H23:H24) -> -306.25 | I25: =SUM(I23:I24) -> -306.25 | J25: =SUM(J23:J24) -> -256.25
B27: Variabele overige bedrijfskosten | C27: -0.05 | F27: =$C27*F21 -> -61.25 | G27: =$C27*G21 -> -61.25 | H27: =$C27*H21 -> -61.25 | I27: =$C27*I21 -> -61.25 | J27: =$C27*J21 -> -61.25 | L27: Invoer als negatief percentage, gerelateerd aan de incrementele opbrengsten
B28: Bedrijfskn handmatig/incidenteel | G28: 20 | L28: + = kostenbesparing
B29: Initiële projectkosten (niet activeerbaar) | E29: -600 | L29: Invoer als negatief bedrag
B30: Afschrijvingskosten nieuwe investering | F30: =F96 -> -230 | G30: =G96 -> -230 | H30: =H96 -> -230 | I30: =I96 -> -230 | J30: =J96 -> -230 | L30: Afschrijvingslasten gerelateerd aan nieuwe investeringsuitgaven en restwaarde. Kan handmatig overschreven worden
B31: Afschrijvingskosten oude investering (+) | F31: =-F13 -> 60 | G31: =-G13 -> 60 | H31: =-H13 -> 60 | I31: =-I13 -> 60 | J31: =-J13 -> 60 | L31: ="Kopie regel "&ROW(L13)&". Positieve niet gerealiseserde afschrijvingslasten oude investering" -> Kopie regel 13. Positieve niet gerealiseserde afschrijvingslasten oude investering
B32: Incrementele overige bedrijfskosten | E32: =SUM(E27:E31) -> -600 | F32: =SUM(F27:F31) -> -231.25 | G32: =SUM(G27:G31) -> -211.25 | H32: =SUM(H27:H31) -> -231.25 | I32: =SUM(I27:I31) -> -231.25 | J32: =SUM(J27:J31) -> -231.25
B34: Verkoopresultaat nieuwe investering | J34: =J106 -> 0 | L34: Verkoopresultaat nieuwe investering einde looptijd ( = restwaarde -/- boekwaarde), relevant voor belastingvoor-/nadeel = kasstroom
B35: Verkoopresultaat oude investering jaar 0 | E35: =E17 -> 150 | L35: ="Kopie regel "&ROW(L17)&". Verkoopresultaat oude investering jaat 0 (= inschatting verkoopopbrengst -/- boekwaarde jaar 0)" -> Kopie regel 17. Verkoopresultaat oude investering jaat 0 (= inschatting verkoopopbrengst -/- boekwaarde jaar 0)
B36: Verkoopresultaat oude investering laatste jaar | J36: =-J15 -> -10 | L36: ="Kopie regel "&ROW(L15)&". Verkoopresultaat oude investering laatste jaar (= inschatting verkoopopbrengst -/- boekwaarde)" -> Kopie regel 15. Verkoopresultaat oude investering laatste jaar (= inschatting verkoopopbrengst -/- boekwaarde)
B38: Resultaat voor belastingen | E38: =E21+E25+SUM(E32:E37) -> -450 | F38: =F21+F25+SUM(F32:F37) -> 687.5 | G38: =G21+G25+SUM(G32:G37) -> 707.5 | H38: =H21+H25+SUM(H32:H37) -> 687.5 | I38: =I21+I25+SUM(I32:I37) -> 687.5 | J38: =J21+J25+SUM(J32:J37) -> 727.5
B40: Belastingen | C40: -0.25 | E40: =$C40*E38 -> 112.5 | F40: =$C40*F38 -> -171.875 | G40: =$C40*G38 -> -176.875 | H40: =$C40*H38 -> -171.875 | I40: =$C40*I38 -> -171.875 | J40: =$C40*J38 -> -181.875 | L40: Invoer als negatief percentage
B41: Nettoresultaat | E41: =SUM(E38:E40) -> -337.5 | F41: =SUM(F38:F40) -> 515.625 | G41: =SUM(G38:G40) -> 530.625 | H41: =SUM(H38:H40) -> 515.625 | I41: =SUM(I38:I40) -> 515.625 | J41: =SUM(J38:J40) -> 545.625
B43: Invoer incrementele kasstromen | E43: =E19 -> 2026 | F43: =F19 -> 2027 | G43: =G19 -> 2028 | H43: =H19 -> 2029 | I43: =I19 -> 2030 | J43: =J19 -> 2031
B45: Nettoresultaat | E45: =E41 -> -337.5 | F45: =F41 -> 515.625 | G45: =G41 -> 530.625 | H45: =H41 -> 515.625 | I45: =I41 -> 515.625 | J45: =J41 -> 545.625
B47: Correctie afschrijvingskosten | F47: =-F30-F31 -> 170 | G47: =-G30-G31 -> 170 | H47: =-H30-H31 -> 170 | I47: =-I30-I31 -> 170 | J47: =-J30-J31 -> 170 | L47: Correctie afschrijvingskosten, want geen kasstroom
B48: Correctie verkoopresultaat | E48: =-SUM(E34:E36) -> -150 | F48: =-SUM(F34:F36) -> 0 | G48: =-SUM(G34:G36) -> 0 | H48: =-SUM(H34:H36) -> 0 | I48: =-SUM(I34:I36) -> 0 | J48: =-SUM(J34:J36) -> 10 | L48: Correctie verkoopresultaat, want geen kasstroom
B49: Toe/afname werkapitaal | E49: -40 | F49: -10 | J49: 50 | L49: Betreft voorraden + debiteuren -/- crediteuren. Toename werkkapitaal = -/-; noot: alleen toe-afname opnemen ten opzichte van het voorgaande jaar.
L50: Toename werkkapitaal start looptijd betekent vaak afname werkkapitaal einde looptijd (aanname zonder verkoopresultaat)
B51: Nieuwe investeringsuitgaven | E51: -1600 | L51: Activeerbare uitgaven (geen werkkapitaalmutatie); standaardberekening: timing startinvestering aan het einde van het eerste jaar t=0
B52: Restwaarde/verkoopopbrengst nieuwe investering | J52: 450 | L52: Kasstroom einde project nieuwe investeringen (geen werkkapitaal)
B53: Verkoopopbrengst oude investering jaar 0 | E53: =E16 -> 450 | L53: ="Kopie regel "&ROW(L16)&". Verkoopopbrengst oude investering jaar 0 als gevolg van nieuwe investering" -> Kopie regel 16. Verkoopopbrengst oude investering jaar 0 als gevolg van nieuwe investering
B54: Verkoopopbrengst oude investering laatste jaar | J54: =-J14 -> -50 | L54: ="Kopie regel "&ROW(L14)&". Restwaarde/verkoopopbrengst van oude investering die niet gerealiseerd wordt als gevolg van aanschaf nieuwe investering (en verkoop oude investering op tijdstip 0)" -> Kopie regel 14. Restwaarde/verkoopopbrengst van oude investering die niet gerealiseerd wordt als gevolg van aanschaf nieuwe investering (en verkoop oude investering op tijdstip 0)
B56: Totaal incrementele kasstromen | E56: =SUM(E45:E55) -> -1677.5 | F56: =SUM(F45:F55) -> 675.625 | G56: =SUM(G45:G55) -> 700.625 | H56: =SUM(H45:H55) -> 685.625 | I56: =SUM(I45:I55) -> 685.625 | J56: =SUM(J45:J55) -> 1175.625
B58: Cumulatieve incementele kasstromen | E58: =E56 -> -1677.5 | F58: =F56+OFFSET(F58,0,-1) -> -1001.875 | G58: =G56+OFFSET(G58,0,-1) -> -301.25 | H58: =H56+OFFSET(H58,0,-1) -> 384.375 | I58: =I56+OFFSET(I58,0,-1) -> 1070 | J58: =J56+OFFSET(J58,0,-1) -> 2245.625
B59: Contante waarde per jaar | E59: =E56*E70 -> -1677.5 | F59: =F56*F70 -> 587.5 | G59: =G56*G70 -> 529.77316 | H59: =H56*H70 -> 450.80957 | I59: =I56*I70 -> 392.00832 | J59: =J56*J70 -> 584.4934
B60: Cumulatieve CW | E60: =E59 -> -1677.5 | F60: =F59+OFFSET(F60,0,-1) -> -1090 | G60: =G59+OFFSET(G60,0,-1) -> -560.22684 | H60: =H59+OFFSET(H60,0,-1) -> -109.41728 | I60: =I59+OFFSET(I60,0,-1) -> 282.59104 | J60: =J59+OFFSET(J60,0,-1) -> 867.08444
B62: Netto Contante Waarde (NCW) | E62: =SUM(E59:J59) -> 867.08444
B63: Terugverdientijd (TVT) | E63: =E77 -> 2.4393801 | L63: In jaren; aanname dat kasstromen gelijkmatig over het jaar gerealiseerd worden
B64: Terugverdientijd CW | E64: =E84 -> 3.2791198 | L64: TVT op basis van contante waarde van kasstromen; aanname dat kasstromen gelijkmatig over het jaar gerealiseerd worden
B65: IRR | E65: =IRR(E56:J56) -> 0.33590094 | L65: Disconteringsvoet waarbij NCW = 0
B67: Hulpberekeningen indicatoren | E67: =E19 -> 2026 | F67: =F19 -> 2027 | G67: =G19 -> 2028 | H67: =H19 -> 2029 | I67: =I19 -> 2030 | J67: =J19 -> 2031
B69: Jaarnummer | E69: =E67-$E67 -> 0 | F69: =F67-$E67 -> 1 | G69: =G67-$E67 -> 2 | H69: =H67-$E67 -> 3 | I69: =I67-$E67 -> 4 | J69: =J67-$E67 -> 5
B70: Contante waarde factor | E70: =1/(1+$E$8)^E69 -> 1 | F70: =1/(1+$E$8)^F69 -> 0.86956522 | G70: =1/(1+$E$8)^G69 -> 0.75614367 | H70: =1/(1+$E$8)^H69 -> 0.65751623 | I70: =1/(1+$E$8)^I69 -> 0.57175325 | J70: =1/(1+$E$8)^J69 -> 0.49717674
B72: =B58 -> Cumulatieve incementele kasstromen | E72: =E58 -> -1677.5 | F72: =F58 -> -1001.875 | G72: =G58 -> -301.25 | H72: =H58 -> 384.375 | I72: =I58 -> 1070 | J72: =J58 -> 2245.625
B73: Jaar-deel in TVT jaar | F73: =IF(AND(SIGN(OFFSET(F72,0,-1))=-1,SIGN(F72)>-1),-OFFSET(F72,0,-1)/(-OFFSET(F72,0,-1)+F72),0) -> 0 | G73: =IF(AND(SIGN(OFFSET(G72,0,-1))=-1,SIGN(G72)>-1),-OFFSET(G72,0,-1)/(-OFFSET(G72,0,-1)+G72),0) -> 0 | H73: =IF(AND(SIGN(OFFSET(H72,0,-1))=-1,SIGN(H72)>-1),-OFFSET(H72,0,-1)/(-OFFSET(H72,0,-1)+H72),0) -> 0.43938013 | I73: =IF(AND(SIGN(OFFSET(I72,0,-1))=-1,SIGN(I72)>-1),-OFFSET(I72,0,-1)/(-OFFSET(I72,0,-1)+I72),0) -> 0 | J73: =IF(AND(SIGN(OFFSET(J72,0,-1))=-1,SIGN(J72)>-1),-OFFSET(J72,0,-1)/(-OFFSET(J72,0,-1)+J72),0) -> 0
B74: Totale positieve kasstroom? | E74: =IF(J72<0,"nee","ja") -> ja
B75: TVT gehele jaren | E75: =IF(E74="ja",COUNTIF(E72:J72,"<0"),"nvt") -> 3
B76: Jaar-deel in TVT jaar | E76: =INDEX(F73:J73,E75) -> 0.43938013
B77: TVT | E77: =IFERROR(E75-1+E76,"nvt") -> 2.4393801
B79: =B60 -> Cumulatieve CW | E79: =E60 -> -1677.5 | F79: =F60 -> -1090 | G79: =G60 -> -560.22684 | H79: =H60 -> -109.41728 | I79: =I60 -> 282.59104 | J79: =J60 -> 867.08444
B80: Jaar-deel in TVT jaar | F80: =IF(AND(SIGN(OFFSET(F79,0,-1))=-1,SIGN(F79)>-1),-OFFSET(F79,0,-1)/(-OFFSET(F79,0,-1)+F79),0) -> 0 | G80: =IF(AND(SIGN(OFFSET(G79,0,-1))=-1,SIGN(G79)>-1),-OFFSET(G79,0,-1)/(-OFFSET(G79,0,-1)+G79),0) -> 0 | H80: =IF(AND(SIGN(OFFSET(H79,0,-1))=-1,SIGN(H79)>-1),-OFFSET(H79,0,-1)/(-OFFSET(H79,0,-1)+H79),0) -> 0 | I80: =IF(AND(SIGN(OFFSET(I79,0,-1))=-1,SIGN(I79)>-1),-OFFSET(I79,0,-1)/(-OFFSET(I79,0,-1)+I79),0) -> 0.27911978 | J80: =IF(AND(SIGN(OFFSET(J79,0,-1))=-1,SIGN(J79)>-1),-OFFSET(J79,0,-1)/(-OFFSET(J79,0,-1)+J79),0) -> 0
B81: Totale positieve kasstroom? | E81: =IF(J79<0,"nee","ja") -> ja
B82: TVT gehele jaren | E82: =IF(E81="ja",COUNTIF(E79:J79,"<0"),"nvt") -> 4
B83: Jaar-deel in TVT jaar | E83: =INDEX(F80:J80,E82) -> 0.27911978
B84: TVT CW | E84: =IFERROR(E82-1+E83,"nvt") -> 3.2791198
B86: Check NPV formuler excel
B87: NPV formule | E87: =NPV(E8,F56:J56)+E56 -> 867.08444
B88: NPV berekend | E88: =E62 -> 867.08444
B89: Check NPV berekend = NPV formule | E89: =ROUND(E87,2)=ROUND(E88,2) -> TRUE
B92: Hulpberekeningen afschrijvingen | E92: =E19 -> 2026 | F92: =F19 -> 2027 | G92: =G19 -> 2028 | H92: =H19 -> 2029 | I92: =I19 -> 2030 | J92: =J19 -> 2031
B94: Investering en restwaarde | C94: =SUM(E94:J94) -> -1150 | E94: =E51 -> -1600 | J94: =J52 -> 450
B95: Aantal afschrijvingsjaren | C95: =J92-E92 -> 5 | L95: Aanname: investering wordt gelijkmatig over lopende jaren afgeschreven
B96: Afschrijving per jaar | C96: =C94/C95 -> -230 | F96: =$C96 -> -230 | G96: =$C96 -> -230 | H96: =$C96 -> -230 | I96: =$C96 -> -230 | J96: =$C96 -> -230
B97: Cumulatieve afschrijvingen | F97: =F96 -> -230 | G97: =G96+OFFSET(G97,0,-1) -> -460 | H97: =H96+OFFSET(H97,0,-1) -> -690 | I97: =I96+OFFSET(I97,0,-1) -> -920 | J97: =J96+OFFSET(J97,0,-1) -> -1150
B98: Boekwaarde investering | F98: =$E94-F97 -> -1370 | G98: =$E94-G97 -> -1140 | H98: =$E94-H97 -> -910 | I98: =$E94-I97 -> -680 | J98: =$E94-J97 -> -450
B99: Boekwaarde -/- restwaarde | F99: =$C94-F97 -> -920 | G99: =$C94-G97 -> -690 | H99: =$C94-H97 -> -460 | I99: =$C94-I97 -> -230 | J99: =$C94-J97 -> 0
B100: Check | J100: =J99 -> 0 | L100: Boekwaarde -/- restwaarde moet nul zijn aan einde looptijd
B102: Werkelijke afschrijvingen | F102: =F30 -> -230 | G102: =G30 -> -230 | H102: =H30 -> -230 | I102: =I30 -> -230 | J102: =J30 -> -230 | L102: Relevant voor indien afschrijvingen handmatig zijn overschreven, om belasting effect op verkoopresultaat te berekenen
B103: Werkelijke cum afschrijvingen | F103: =F102 -> -230 | G103: =G102+OFFSET(G103,0,-1) -> -460 | H103: =H102+OFFSET(H103,0,-1) -> -690 | I103: =I102+OFFSET(I103,0,-1) -> -920 | J103: =J102+OFFSET(J103,0,-1) -> -1150
B104: Werkelijke boekwaarde | F104: =$E94-F103 -> -1370 | G104: =$E94-G103 -> -1140 | H104: =$E94-H103 -> -910 | I104: =$E94-I103 -> -680 | J104: =$E94-J103 -> -450
B105: Restwaarde/verkoopwaarde | J105: =J94 -> 450
B106: Verkoopresultaat | J106: =SUM(J104:J105) -> 0

Sheet SCENARIOS CALC->

Sheet Calc Scenario Hoog
B2: Scenario Hoog Incrementele kasstromen - geen invoer | J2: KnowYourFinance ©
B4: Bedragen in EUR x 1.000
B5: Algemeen
B7: Startjaar; jaarnummer = 0 (einde jaar startinvestering) | E7: ='Invoer Scenario Basis'!E7 -> 2026 | L7: Kopie Scenario Basis
B8: Disconteringsvoet | E8: =Dashboard!E8 -> 0.14 | I8: Kopie en invoegen extra jaren | L8: Kopie Dashboard
B9: Aantal afschrijvingsjaren | E9: =J11-E11 -> 5
B11: Oude investering (vervanging) | E11: =E19 -> 2026 | F11: =F19 -> 2027 | G11: =G19 -> 2028 | H11: =H19 -> 2029 | I11: =I19 -> 2030 | J11: =J19 -> 2031
B13: Afschrijvingslasten vervangde investering | F13: ='Invoer Scenario Basis'!F13 -> -60 | G13: ='Invoer Scenario Basis'!G13 -> -60 | H13: ='Invoer Scenario Basis'!H13 -> -60 | I13: ='Invoer Scenario Basis'!I13 -> -60 | J13: ='Invoer Scenario Basis'!J13 -> -60 | L13: Afschrijvingslasten oorspronkelijke investering die vervangen gaat worden met nieuwe investering. Invoer met min teken
B14: Verkoopopbrengst laatste jaar | J14: ='Invoer Scenario Basis'!J14 -> 50 | L14: Inschatting verkoopopbrengst einde projecttijd (laatste jaar), indien van toepassing (scenario dat investering niet vervangen wordt). Invoer + voor positieve opbrengst; -/- voor negatieve opbrengst
B15: Verkoopresultaat laatste jaar | J15: ='Invoer Scenario Basis'!J15 -> 10 | L15: Inschatting verkoopresultaat (=verkoopopbrengst -/- boekwaarde) einde projecttijd, indien van toepassing. Invoer + voor positief resultaat; -/- voor negatief resultaat
B16: Verkoopopbrengst jaar nul | E16: ='Invoer Scenario Basis'!E16 -> 450 | L16: Inschatting verkoopopbrengst jaar 0; = investeringsjaar nieuwe investering (scenario dat investering vervangen wordt). Invoer + voor positieve opbrengst
B17: Verkoopresultaat jaar nul | E17: ='Invoer Scenario Basis'!E17 -> 150 | L17: Inschatting verkoopresultaat jaar 0; Invoer + voor positief resultaat; -/- voor negatief resultaat
B19: Incrementele opbrengsten en kosten | E19: =E7 -> 2026 | F19: =$E19+COLUMN()-COLUMN($E19) -> 2027 | G19: =$E19+COLUMN()-COLUMN($E19) -> 2028 | H19: =$E19+COLUMN()-COLUMN($E19) -> 2029 | I19: =$E19+COLUMN()-COLUMN($E19) -> 2030 | J19: =$E19+COLUMN()-COLUMN($E19) -> 2031
B21: Incrementele opbrengsten | F21: =F112 -> 1500 | G21: =G112 -> 1500 | H21: =H112 -> 1500 | I21: =I112 -> 1500 | J21: =J112 -> 1500 | L21: Kopie hulpberekening
B23: Kostprijs verkopen % | C23: =Dashboard!I8 -> -0.25 | F23: =$C23*F21 -> -375 | G23: =$C23*G21 -> -375 | H23: =$C23*H21 -> -375 | I23: =$C23*I21 -> -375 | J23: =$C23*J21 -> -375 | L23: Kopie Dashboard
B24: Kostprijs handmatig/incidenteel | F24: ='Invoer Scenario Basis'!F24 -> 0 | G24: ='Invoer Scenario Basis'!G24 -> 0 | H24: ='Invoer Scenario Basis'!H24 -> 0 | I24: ='Invoer Scenario Basis'!I24 -> 0 | J24: ='Invoer Scenario Basis'!J24 -> 50 | L24: Kopie Scenario Basis
B25: Incrementele kostprijs | F25: =SUM(F23:F24) -> -375 | G25: =SUM(G23:G24) -> -375 | H25: =SUM(H23:H24) -> -375 | I25: =SUM(I23:I24) -> -375 | J25: =SUM(J23:J24) -> -325
B27: Variabele overige bedrijfskosten | C27: ='Invoer Scenario Basis'!C27 -> -0.05 | F27: =$C27*F21 -> -75 | G27: =$C27*G21 -> -75 | H27: =$C27*H21 -> -75 | I27: =$C27*I21 -> -75 | J27: =$C27*J21 -> -75 | L27: Kopie Scenario Basis
B28: Bedrijfskn handmatig/incidenteel | F28: ='Invoer Scenario Basis'!F28 -> 0 | G28: ='Invoer Scenario Basis'!G28 -> 20 | H28: ='Invoer Scenario Basis'!H28 -> 0 | I28: ='Invoer Scenario Basis'!I28 -> 0 | J28: ='Invoer Scenario Basis'!J28 -> 0 | L28: Kopie Scenario Basis
B29: Initiële projectkosten (niet activeerbaar) | E29: ='Invoer Scenario Basis'!E29 -> -500 | F29: ='Invoer Scenario Basis'!F29 -> 0 | G29: ='Invoer Scenario Basis'!G29 -> 0 | H29: ='Invoer Scenario Basis'!H29 -> 0 | I29: ='Invoer Scenario Basis'!I29 -> 0 | J29: ='Invoer Scenario Basis'!J29 -> 0 | L29: Kopie Scenario Basis
B30: Afschrijvingskosten nieuwe investering | F30: =F96 -> -260 | G30: =G96 -> -260 | H30: =H96 -> -260 | I30: =I96 -> -260 | J30: =J96 -> -260 | L30: Afschrijvingslasten gerelateerd aan nieuwe investeringsuitgaven en restwaarde. Kan handmatig overschreven worden
B31: Afschrijvingskosten oude investering (+) | F31: =-F13 -> 60 | G31: =-G13 -> 60 | H31: =-H13 -> 60 | I31: =-I13 -> 60 | J31: =-J13 -> 60 | L31: ="Kopie regel "&ROW(L13)&". Positieve niet gerealiseserde afschrijvingslasten oude investering" -> Kopie regel 13. Positieve niet gerealiseserde afschrijvingslasten oude investering
B32: Incrementele overige bedrijfskosten | E32: =SUM(E27:E31) -> -500 | F32: =SUM(F27:F31) -> -275 | G32: =SUM(G27:G31) -> -255 | H32: =SUM(H27:H31) -> -275 | I32: =SUM(I27:I31) -> -275 | J32: =SUM(J27:J31) -> -275
B34: Verkoopresultaat nieuwe investering | J34: =J106 -> 0
B35: Verkoopresultaat oude investering jaar 0 | E35: =E17 -> 150 | L35: ="Kopie regel "&ROW(L17)&". Verkoopresultaat oude investering jaat 0 (= inschatting verkoopopbrengst -/- boekwaarde jaar 0)" -> Kopie regel 17. Verkoopresultaat oude investering jaat 0 (= inschatting verkoopopbrengst -/- boekwaarde jaar 0)
B36: Verkoopresultaat oude investering laatste jaar | J36: =-J15 -> -10 | L36: ="Kopie regel "&ROW(L15)&". Verkoopresultaat oude investering laatste jaar (= inschatting verkoopopbrengst -/- boekwaarde)" -> Kopie regel 15. Verkoopresultaat oude investering laatste jaar (= inschatting verkoopopbrengst -/- boekwaarde)
B38: Operationeel resultaat | E38: =E21+E25+SUM(E32:E37) -> -350 | F38: =F21+F25+SUM(F32:F37) -> 850 | G38: =G21+G25+SUM(G32:G37) -> 870 | H38: =H21+H25+SUM(H32:H37) -> 850 | I38: =I21+I25+SUM(I32:I37) -> 850 | J38: =J21+J25+SUM(J32:J37) -> 890
B40: Belastingen | C40: ='Invoer Scenario Basis'!C40 -> -0.25 | E40: =$C40*E38 -> 87.5 | F40: =$C40*F38 -> -212.5 | G40: =$C40*G38 -> -217.5 | H40: =$C40*H38 -> -212.5 | I40: =$C40*I38 -> -212.5 | J40: =$C40*J38 -> -222.5 | L40: Kopie Scenario Basis
B41: Nettoresultaat | E41: =SUM(E38:E40) -> -262.5 | F41: =SUM(F38:F40) -> 637.5 | G41: =SUM(G38:G40) -> 652.5 | H41: =SUM(H38:H40) -> 637.5 | I41: =SUM(I38:I40) -> 637.5 | J41: =SUM(J38:J40) -> 667.5
B43: Incrementele kasstromen | E43: =E19 -> 2026 | F43: =F19 -> 2027 | G43: =G19 -> 2028 | H43: =H19 -> 2029 | I43: =I19 -> 2030 | J43: =J19 -> 2031
B45: Nettoresultaat | E45: =E41 -> -262.5 | F45: =F41 -> 637.5 | G45: =G41 -> 652.5 | H45: =H41 -> 637.5 | I45: =I41 -> 637.5 | J45: =J41 -> 667.5
B47: Correctie afschrijvingskosten | F47: =-F30-F31 -> 200 | G47: =-G30-G31 -> 200 | H47: =-H30-H31 -> 200 | I47: =-I30-I31 -> 200 | J47: =-J30-J31 -> 200 | L47: Correctie afschrijvingskosten, want geen kasstroom
B48: Correctie verkoopresultaat | E48: =-SUM(E34:E36) -> -150 | F48: =-SUM(F34:F36) -> 0 | G48: =-SUM(G34:G36) -> 0 | H48: =-SUM(H34:H36) -> 0 | I48: =-SUM(I34:I36) -> 0 | J48: =-SUM(J34:J36) -> 10 | L48: Correctie verkoopresultaat, want geen kasstroom
B49: Toe/afname werkapitaal | E49: ='Invoer Scenario Basis'!E49 -> -40 | F49: ='Invoer Scenario Basis'!F49 -> -10 | G49: ='Invoer Scenario Basis'!G49 -> 0 | H49: ='Invoer Scenario Basis'!H49 -> 0 | I49: ='Invoer Scenario Basis'!I49 -> 0 | J49: ='Invoer Scenario Basis'!J49 -> 50 | L49: Kopie Scenario Basis
B51: Nieuwe investeringsuitgaven | E51: =Dashboard!F8 -> -1600 | L51: Kopie Dashboard
B52: Restwaarde/verkoopopbrengst nieuwe investering | J52: =Dashboard!G8 -> 300 | L52: Kopie Dashboard
B53: Verkoopopbrengst oude investering jaar 0 | E53: =E16 -> 450 | L53: ="Kopie regel "&ROW(L16)&". Verkoopopbrengst oude investering jaar 0 als gevolg van nieuwe investering" -> Kopie regel 16. Verkoopopbrengst oude investering jaar 0 als gevolg van nieuwe investering
B54: Verkoopopbrengst oude investering laatste jaar | J54: =-J14 -> -50 | L54: ="Kopie regel "&ROW(L14)&". Restwaarde/verkoopopbrengst van oude investering die niet gerealiseerd wordt als gevolg van aanschaf nieuwe investering (en verkoop oude investering op tijdstip 0)" -> Kopie regel 14. Restwaarde/verkoopopbrengst van oude investering die niet gerealiseerd wordt als gevolg van aanschaf nieuwe investering (en verkoop oude investering op tijdstip 0)
B56: Totaal incrementele kasstromen | E56: =SUM(E45:E55) -> -1602.5 | F56: =SUM(F45:F55) -> 827.5 | G56: =SUM(G45:G55) -> 852.5 | H56: =SUM(H45:H55) -> 837.5 | I56: =SUM(I45:I55) -> 837.5 | J56: =SUM(J45:J55) -> 1177.5
B58: Cumulatieve incementele kasstromen | E58: =E56 -> -1602.5 | F58: =F56+OFFSET(F58,0,-1) -> -775 | G58: =G56+OFFSET(G58,0,-1) -> 77.5 | H58: =H56+OFFSET(H58,0,-1) -> 915 | I58: =I56+OFFSET(I58,0,-1) -> 1752.5 | J58: =J56+OFFSET(J58,0,-1) -> 2930
B59: Contante waarde per jaar | E59: =E56*E70 -> -1602.5 | F59: =F56*F70 -> 725.87719 | G59: =G56*G70 -> 655.97107 | H59: =H56*H70 -> 565.28864 | I59: =I56*I70 -> 495.86723 | J59: =J56*J70 -> 611.5566
B60: Cumulatieve CW | E60: =E59 -> -1602.5 | F60: =F59+OFFSET(F60,0,-1) -> -876.62281 | G60: =G59+OFFSET(G60,0,-1) -> -220.65174 | H60: =H59+OFFSET(H60,0,-1) -> 344.63691 | I60: =I59+OFFSET(I60,0,-1) -> 840.50414 | J60: =J59+OFFSET(J60,0,-1) -> 1452.0607
B62: Netto Contante Waarde (NCW) | E62: =SUM(E59:J59) -> 1452.0607
B63: Terugverdientijd (TVT) | E63: =E77 -> 1.9090909 | L63: In jaren; aanname dat kasstromen gelijkmatig over het jaar gerealiseerd worden
B64: Terugverdientijd CW | E64: =E84 -> 2.3903346 | L64: TVT op basis van contante waarde van kasstromen; aanname dat kasstromen gelijkmatig over het jaar gerealiseerd worden
B65: IRR | E65: =IRR(E56:J56) -> 0.45813807 | L65: Disconteringsvoet waarbij NCW = 0
B67: Hulpberekeningen indicatoren | E67: =E19 -> 2026 | F67: =F19 -> 2027 | G67: =G19 -> 2028 | H67: =H19 -> 2029 | I67: =I19 -> 2030 | J67: =J19 -> 2031
B69: Jaarnummer | E69: =E67-$E67 -> 0 | F69: =F67-$E67 -> 1 | G69: =G67-$E67 -> 2 | H69: =H67-$E67 -> 3 | I69: =I67-$E67 -> 4 | J69: =J67-$E67 -> 5
B70: Contante waarde factor | E70: =1/(1+$E$8)^E69 -> 1 | F70: =1/(1+$E$8)^F69 -> 0.87719298 | G70: =1/(1+$E$8)^G69 -> 0.76946753 | H70: =1/(1+$E$8)^H69 -> 0.67497152 | I70: =1/(1+$E$8)^I69 -> 0.59208028 | J70: =1/(1+$E$8)^J69 -> 0.51936866
B72: =B58 -> Cumulatieve incementele kasstromen | E72: =E58 -> -1602.5 | F72: =F58 -> -775 | G72: =G58 -> 77.5 | H72: =H58 -> 915 | I72: =I58 -> 1752.5 | J72: =J58 -> 2930
B73: Jaar-deel in TVT jaar | F73: =IF(AND(SIGN(OFFSET(F72,0,-1))=-1,SIGN(F72)>-1),-OFFSET(F72,0,-1)/(-OFFSET(F72,0,-1)+F72),0) -> 0 | G73: =IF(AND(SIGN(OFFSET(G72,0,-1))=-1,SIGN(G72)>-1),-OFFSET(G72,0,-1)/(-OFFSET(G72,0,-1)+G72),0) -> 0.90909091 | H73: =IF(AND(SIGN(OFFSET(H72,0,-1))=-1,SIGN(H72)>-1),-OFFSET(H72,0,-1)/(-OFFSET(H72,0,-1)+H72),0) -> 0 | I73: =IF(AND(SIGN(OFFSET(I72,0,-1))=-1,SIGN(I72)>-1),-OFFSET(I72,0,-1)/(-OFFSET(I72,0,-1)+I72),0) -> 0 | J73: =IF(AND(SIGN(OFFSET(J72,0,-1))=-1,SIGN(J72)>-1),-OFFSET(J72,0,-1)/(-OFFSET(J72,0,-1)+J72),0) -> 0
B74: Totale positieve kasstroom? | E74: =IF(J72<0,"nee","ja") -> ja
B75: TVT gehele jaren | E75: =IF(E74="ja",COUNTIF(E72:J72,"<0"),"nvt") -> 2
B76: Jaar-deel in TVT jaar | E76: =INDEX(F73:J73,E75) -> 0.90909091
B77: TVT | E77: =IFERROR(E75-1+E76,"nvt") -> 1.9090909
B79: =B60 -> Cumulatieve CW | E79: =E60 -> -1602.5 | F79: =F60 -> -876.62281 | G79: =G60 -> -220.65174 | H79: =H60 -> 344.63691 | I79: =I60 -> 840.50414 | J79: =J60 -> 1452.0607
B80: Jaar-deel in TVT jaar | F80: =IF(AND(SIGN(OFFSET(F79,0,-1))=-1,SIGN(F79)>-1),-OFFSET(F79,0,-1)/(-OFFSET(F79,0,-1)+F79),0) -> 0 | G80: =IF(AND(SIGN(OFFSET(G79,0,-1))=-1,SIGN(G79)>-1),-OFFSET(G79,0,-1)/(-OFFSET(G79,0,-1)+G79),0) -> 0 | H80: =IF(AND(SIGN(OFFSET(H79,0,-1))=-1,SIGN(H79)>-1),-OFFSET(H79,0,-1)/(-OFFSET(H79,0,-1)+H79),0) -> 0.39033464 | I80: =IF(AND(SIGN(OFFSET(I79,0,-1))=-1,SIGN(I79)>-1),-OFFSET(I79,0,-1)/(-OFFSET(I79,0,-1)+I79),0) -> 0 | J80: =IF(AND(SIGN(OFFSET(J79,0,-1))=-1,SIGN(J79)>-1),-OFFSET(J79,0,-1)/(-OFFSET(J79,0,-1)+J79),0) -> 0
B81: Totale positieve kasstroom? | E81: =IF(J79<0,"nee","ja") -> ja
B82: TVT gehele jaren | E82: =IF(E81="ja",COUNTIF(E79:J79,"<0"),"nvt") -> 3
B83: Jaar-deel in TVT jaar | E83: =INDEX(F80:J80,E82) -> 0.39033464
B84: TVT CW | E84: =IFERROR(E82-1+E83,"nvt") -> 2.3903346
B86: Check NPV formuler excel
B87: NPV formule | E87: =NPV(E8,F56:J56)+E56 -> 1452.0607
B88: NPV berekend | E88: =E62 -> 1452.0607
B89: Check NPV berekend = NPV formule | E89: =ROUND(E87,2)=ROUND(E88,2) -> TRUE
B92: Hulpberekeningen afschrijvingen | E92: =E19 -> 2026 | F92: =F19 -> 2027 | G92: =G19 -> 2028 | H92: =H19 -> 2029 | I92: =I19 -> 2030 | J92: =J19 -> 2031
B94: Investering en restwaarde | C94: =SUM(E94:J94) -> -1300 | E94: =E51 -> -1600 | J94: =J52 -> 300
B95: Aantal afschrijvingsjaren | C95: =J92-E92 -> 5 | L95: Aanname: investering wordt gelijkmatig over lopende jaren afgeschreven
B96: Afschrijving per jaar | C96: =C94/C95 -> -260 | F96: =$C96 -> -260 | G96: =$C96 -> -260 | H96: =$C96 -> -260 | I96: =$C96 -> -260 | J96: =$C96 -> -260
B97: Cumulatieve afschrijvingen | F97: =F96 -> -260 | G97: =G96+OFFSET(G97,0,-1) -> -520 | H97: =H96+OFFSET(H97,0,-1) -> -780 | I97: =I96+OFFSET(I97,0,-1) -> -1040 | J97: =J96+OFFSET(J97,0,-1) -> -1300
B98: Boekwaarde investering | F98: =$E94-F97 -> -1340 | G98: =$E94-G97 -> -1080 | H98: =$E94-H97 -> -820 | I98: =$E94-I97 -> -560 | J98: =$E94-J97 -> -300
B99: Boekwaarde -/- restwaarde | F99: =$C94-F97 -> -1040 | G99: =$C94-G97 -> -780 | H99: =$C94-H97 -> -520 | I99: =$C94-I97 -> -260 | J99: =$C94-J97 -> 0
B100: Check | J100: =J99 -> 0 | L100: Boekwaarde -/- restwaarde moet nul zijn aan einde looptijd
B102: Werkelijke afschrijvingen | F102: =F30 -> -260 | G102: =G30 -> -260 | H102: =H30 -> -260 | I102: =I30 -> -260 | J102: =J30 -> -260 | L102: Relevant voor indien afschrijvingen handmatig zijn overschreven, om belasting effect op verkoopresultaat te berekenen
B103: Werkelijke cum afschrijvingen | F103: =F102 -> -260 | G103: =G102+OFFSET(G103,0,-1) -> -520 | H103: =H102+OFFSET(H103,0,-1) -> -780 | I103: =I102+OFFSET(I103,0,-1) -> -1040 | J103: =J102+OFFSET(J103,0,-1) -> -1300
B104: Werkelijke boekwaarde | F104: =$E94-F103 -> -1340 | G104: =$E94-G103 -> -1080 | H104: =$E94-H103 -> -820 | I104: =$E94-I103 -> -560 | J104: =$E94-J103 -> -300
B105: Restwaarde/verkoopwaarde | J105: =J94 -> 300
B106: Verkoopresultaat | J106: =SUM(J104:J105) -> 0
B108: Hulpberekeningen Scenario | E108: =E19 -> 2026 | F108: =F19 -> 2027 | G108: =G19 -> 2028 | H108: =H19 -> 2029 | I108: =I19 -> 2030 | J108: =J19 -> 2031
B110: Totale opbrengsten scenario | C110: =Dashboard!H8 -> 7500 | L110: Kopie dashboard
B111: Aantal jaren | C111: =COUNT(E108:J108)-1 -> 5
B112: Opbrenst scenario per jaar | C112: =C110/C111 -> 1500 | F112: =$C112 -> 1500 | G112: =$C112 -> 1500 | H112: =$C112 -> 1500 | I112: =$C112 -> 1500 | J112: =$C112 -> 1500

Sheet Calc Scenario Laag
B2: Scenario Laag Incrementele kasstromen - geen invoer | J2: KnowYourFinance ©
B4: Bedragen in EUR x 1.000
B5: Algemeen
B7: Startjaar; jaarnummer = 0 (einde jaar startinvestering) | E7: ='Invoer Scenario Basis'!E7 -> 2026 | L7: Kopie Scenario Basis
B8: Disconteringsvoet | E8: =Dashboard!E10 -> 0.17 | I8: Kopie en invoegen extra jaren | L8: Kopie Dashboard
B9: Aantal afschrijvingsjaren | E9: =J11-E11 -> 5
B11: Oude investering (vervanging) | E11: =E19 -> 2026 | F11: =F19 -> 2027 | G11: =G19 -> 2028 | H11: =H19 -> 2029 | I11: =I19 -> 2030 | J11: =J19 -> 2031
B13: Afschrijvingslasten vervangde investering | F13: ='Invoer Scenario Basis'!F13 -> -60 | G13: ='Invoer Scenario Basis'!G13 -> -60 | H13: ='Invoer Scenario Basis'!H13 -> -60 | I13: ='Invoer Scenario Basis'!I13 -> -60 | J13: ='Invoer Scenario Basis'!J13 -> -60 | L13: Afschrijvingslasten oorspronkelijke investering die vervangen gaat worden met nieuwe investering. Invoer met min teken
B14: Verkoopopbrengst laatste jaar | J14: ='Invoer Scenario Basis'!J14 -> 50 | L14: Inschatting verkoopopbrengst einde projecttijd (laatste jaar), indien van toepassing (scenario dat investering niet vervangen wordt). Invoer + voor positieve opbrengst; -/- voor negatieve opbrengst
B15: Verkoopresultaat laatste jaar | J15: ='Invoer Scenario Basis'!J15 -> 10 | L15: Inschatting verkoopresultaat (=verkoopopbrengst -/- boekwaarde) einde projecttijd, indien van toepassing. Invoer + voor positief resultaat; -/- voor negatief resultaat
B16: Verkoopopbrengst jaar nul | E16: ='Invoer Scenario Basis'!E16 -> 450 | L16: Inschatting verkoopopbrengst jaar 0; = investeringsjaar nieuwe investering (scenario dat investering vervangen wordt). Invoer + voor positieve opbrengst
B17: Verkoopresultaat jaar nul | E17: ='Invoer Scenario Basis'!E17 -> 150 | L17: Inschatting verkoopresultaat jaar 0; Invoer + voor positief resultaat; -/- voor negatief resultaat
B19: Incrementele opbrengsten en kosten | E19: =E7 -> 2026 | F19: =$E19+COLUMN()-COLUMN($E19) -> 2027 | G19: =$E19+COLUMN()-COLUMN($E19) -> 2028 | H19: =$E19+COLUMN()-COLUMN($E19) -> 2029 | I19: =$E19+COLUMN()-COLUMN($E19) -> 2030 | J19: =$E19+COLUMN()-COLUMN($E19) -> 2031
B21: Incrementele opbrengsten | F21: =F112 -> 1000 | G21: =G112 -> 1000 | H21: =H112 -> 1000 | I21: =I112 -> 1000 | J21: =J112 -> 1000 | L21: Kopie hulpberekening
B23: Kostprijs verkopen % | C23: =Dashboard!I10 -> -0.25 | F23: =$C23*F21 -> -250 | G23: =$C23*G21 -> -250 | H23: =$C23*H21 -> -250 | I23: =$C23*I21 -> -250 | J23: =$C23*J21 -> -250 | L23: Kopie Dashboard
B24: Kostprijs handmatig/incidenteel | F24: ='Invoer Scenario Basis'!F24 -> 0 | G24: ='Invoer Scenario Basis'!G24 -> 0 | H24: ='Invoer Scenario Basis'!H24 -> 0 | I24: ='Invoer Scenario Basis'!I24 -> 0 | J24: ='Invoer Scenario Basis'!J24 -> 50 | L24: Kopie Scenario Basis
B25: Incrementele kostprijs | F25: =SUM(F23:F24) -> -250 | G25: =SUM(G23:G24) -> -250 | H25: =SUM(H23:H24) -> -250 | I25: =SUM(I23:I24) -> -250 | J25: =SUM(J23:J24) -> -200
B27: Variabele overige bedrijfskosten | C27: ='Invoer Scenario Basis'!C27 -> -0.05 | F27: =$C27*F21 -> -50 | G27: =$C27*G21 -> -50 | H27: =$C27*H21 -> -50 | I27: =$C27*I21 -> -50 | J27: =$C27*J21 -> -50 | L27: Kopie Scenario Basis
B28: Bedrijfskn handmatig/incidenteel | F28: ='Invoer Scenario Basis'!F28 -> 0 | G28: ='Invoer Scenario Basis'!G28 -> 20 | H28: ='Invoer Scenario Basis'!H28 -> 0 | I28: ='Invoer Scenario Basis'!I28 -> 0 | J28: ='Invoer Scenario Basis'!J28 -> 0 | L28: Kopie Scenario Basis
B29: Initiële projectkosten (niet activeerbaar) | E29: ='Invoer Scenario Basis'!E29 -> -500 | F29: ='Invoer Scenario Basis'!F29 -> 0 | G29: ='Invoer Scenario Basis'!G29 -> 0 | H29: ='Invoer Scenario Basis'!H29 -> 0 | I29: ='Invoer Scenario Basis'!I29 -> 0 | J29: ='Invoer Scenario Basis'!J29 -> 0 | L29: Kopie Scenario Basis
B30: Afschrijvingskosten nieuwe investering | F30: =F96 -> -240 | G30: =G96 -> -240 | H30: =H96 -> -240 | I30: =I96 -> -240 | J30: =J96 -> -240 | L30: Afschrijvingslasten gerelateerd aan nieuwe investeringsuitgaven en restwaarde. Kan handmatig overschreven worden
B31: Afschrijvingskosten oude investering (+) | F31: =-F13 -> 60 | G31: =-G13 -> 60 | H31: =-H13 -> 60 | I31: =-I13 -> 60 | J31: =-J13 -> 60 | L31: ="Kopie regel "&ROW(L13)&". Positieve niet gerealiseserde afschrijvingslasten oude investering" -> Kopie regel 13. Positieve niet gerealiseserde afschrijvingslasten oude investering
B32: Incrementele overige bedrijfskosten | E32: =SUM(E27:E31) -> -500 | F32: =SUM(F27:F31) -> -230 | G32: =SUM(G27:G31) -> -210 | H32: =SUM(H27:H31) -> -230 | I32: =SUM(I27:I31) -> -230 | J32: =SUM(J27:J31) -> -230
B34: Verkoopresultaat nieuwe investering | J34: =J106 -> 0
B35: Verkoopresultaat oude investering jaar 0 | E35: =E17 -> 150 | L35: ="Kopie regel "&ROW(L17)&". Verkoopresultaat oude investering jaat 0 (= inschatting verkoopopbrengst -/- boekwaarde jaar 0)" -> Kopie regel 17. Verkoopresultaat oude investering jaat 0 (= inschatting verkoopopbrengst -/- boekwaarde jaar 0)
B36: Verkoopresultaat oude investering laatste jaar | J36: =-J15 -> -10 | L36: ="Kopie regel "&ROW(L15)&". Verkoopresultaat oude investering laatste jaar (= inschatting verkoopopbrengst -/- boekwaarde)" -> Kopie regel 15. Verkoopresultaat oude investering laatste jaar (= inschatting verkoopopbrengst -/- boekwaarde)
B38: Operationeel resultaat | E38: =E21+E25+SUM(E32:E37) -> -350 | F38: =F21+F25+SUM(F32:F37) -> 520 | G38: =G21+G25+SUM(G32:G37) -> 540 | H38: =H21+H25+SUM(H32:H37) -> 520 | I38: =I21+I25+SUM(I32:I37) -> 520 | J38: =J21+J25+SUM(J32:J37) -> 560
B40: Belastingen | C40: ='Invoer Scenario Basis'!C40 -> -0.25 | E40: =$C40*E38 -> 87.5 | F40: =$C40*F38 -> -130 | G40: =$C40*G38 -> -135 | H40: =$C40*H38 -> -130 | I40: =$C40*I38 -> -130 | J40: =$C40*J38 -> -140 | L40: Kopie Scenario Basis
B41: Nettoresultaat | E41: =SUM(E38:E40) -> -262.5 | F41: =SUM(F38:F40) -> 390 | G41: =SUM(G38:G40) -> 405 | H41: =SUM(H38:H40) -> 390 | I41: =SUM(I38:I40) -> 390 | J41: =SUM(J38:J40) -> 420
B43: Incrementele kasstromen | E43: =E19 -> 2026 | F43: =F19 -> 2027 | G43: =G19 -> 2028 | H43: =H19 -> 2029 | I43: =I19 -> 2030 | J43: =J19 -> 2031
B45: Nettoresultaat | E45: =E41 -> -262.5 | F45: =F41 -> 390 | G45: =G41 -> 405 | H45: =H41 -> 390 | I45: =I41 -> 390 | J45: =J41 -> 420
B47: Correctie afschrijvingskosten | F47: =-F30-F31 -> 180 | G47: =-G30-G31 -> 180 | H47: =-H30-H31 -> 180 | I47: =-I30-I31 -> 180 | J47: =-J30-J31 -> 180 | L47: Correctie afschrijvingskosten, want geen kasstroom
B48: Correctie verkoopresultaat | E48: =-SUM(E34:E36) -> -150 | F48: =-SUM(F34:F36) -> 0 | G48: =-SUM(G34:G36) -> 0 | H48: =-SUM(H34:H36) -> 0 | I48: =-SUM(I34:I36) -> 0 | J48: =-SUM(J34:J36) -> 10 | L48: Correctie verkoopresultaat, want geen kasstroom
B49: Toe/afname werkapitaal | E49: ='Invoer Scenario Basis'!E49 -> -40 | F49: ='Invoer Scenario Basis'!F49 -> -10 | G49: ='Invoer Scenario Basis'!G49 -> 0 | H49: ='Invoer Scenario Basis'!H49 -> 0 | I49: ='Invoer Scenario Basis'!I49 -> 0 | J49: ='Invoer Scenario Basis'!J49 -> 50 | L49: Kopie Scenario Basis
B51: Nieuwe investeringsuitgaven | E51: =Dashboard!F10 -> -1500 | L51: Kopie Dashboard
B52: Restwaarde/verkoopopbrengst nieuwe investering | J52: =Dashboard!G10 -> 300 | L52: Kopie Dashboard
B53: Verkoopopbrengst oude investering jaar 0 | E53: =E16 -> 450 | L53: ="Kopie regel "&ROW(L16)&". Verkoopopbrengst oude investering jaar 0 als gevolg van nieuwe investering" -> Kopie regel 16. Verkoopopbrengst oude investering jaar 0 als gevolg van nieuwe investering
B54: Verkoopopbrengst oude investering laatste jaar | J54: =-J14 -> -50 | L54: ="Kopie regel "&ROW(L14)&". Restwaarde/verkoopopbrengst van oude investering die niet gerealiseerd wordt als gevolg van aanschaf nieuwe investering (en verkoop oude investering op tijdstip 0)" -> Kopie regel 14. Restwaarde/verkoopopbrengst van oude investering die niet gerealiseerd wordt als gevolg van aanschaf nieuwe investering (en verkoop oude investering op tijdstip 0)
B56: Totaal incrementele kasstromen | E56: =SUM(E45:E55) -> -1502.5 | F56: =SUM(F45:F55) -> 560 | G56: =SUM(G45:G55) -> 585 | H56: =SUM(H45:H55) -> 570 | I56: =SUM(I45:I55) -> 570 | J56: =SUM(J45:J55) -> 910
B58: Cumulatieve incementele kasstromen | E58: =E56 -> -1502.5 | F58: =F56+OFFSET(F58,0,-1) -> -942.5 | G58: =G56+OFFSET(G58,0,-1) -> -357.5 | H58: =H56+OFFSET(H58,0,-1) -> 212.5 | I58: =I56+OFFSET(I58,0,-1) -> 782.5 | J58: =J56+OFFSET(J58,0,-1) -> 1692.5
B59: Contante waarde per jaar | E59: =E56*E70 -> -1502.5 | F59: =F56*F70 -> 478.63248 | G59: =G56*G70 -> 427.35043 | H59: =H56*H70 -> 355.89122 | I59: =I56*I70 -> 304.18053 | J59: =J56*J70 -> 415.06115
B60: Cumulatieve CW | E60: =E59 -> -1502.5 | F60: =F59+OFFSET(F60,0,-1) -> -1023.8675 | G60: =G59+OFFSET(G60,0,-1) -> -596.51709 | H60: =H59+OFFSET(H60,0,-1) -> -240.62588 | I60: =I59+OFFSET(I60,0,-1) -> 63.554651 | J60: =J59+OFFSET(J60,0,-1) -> 478.6158
B62: Netto Contante Waarde (NCW) | E62: =SUM(E59:J59) -> 478.6158
B63: Terugverdientijd (TVT) | E63: =E77 -> 2.627193 | L63: In jaren; aanname dat kasstromen gelijkmatig over het jaar gerealiseerd worden
B64: Terugverdientijd CW | E64: =E84 -> 3.7910627 | L64: TVT op basis van contante waarde van kasstromen; aanname dat kasstromen gelijkmatig over het jaar gerealiseerd worden
B65: IRR | E65: =IRR(E56:J56) -> 0.29297425 | L65: Disconteringsvoet waarbij NCW = 0
B67: Hulpberekeningen indicatoren | E67: =E19 -> 2026 | F67: =F19 -> 2027 | G67: =G19 -> 2028 | H67: =H19 -> 2029 | I67: =I19 -> 2030 | J67: =J19 -> 2031
B69: Jaarnummer | E69: =E67-$E67 -> 0 | F69: =F67-$E67 -> 1 | G69: =G67-$E67 -> 2 | H69: =H67-$E67 -> 3 | I69: =I67-$E67 -> 4 | J69: =J67-$E67 -> 5
B70: Contante waarde factor | E70: =1/(1+$E$8)^E69 -> 1 | F70: =1/(1+$E$8)^F69 -> 0.85470085 | G70: =1/(1+$E$8)^G69 -> 0.73051355 | H70: =1/(1+$E$8)^H69 -> 0.62437056 | I70: =1/(1+$E$8)^I69 -> 0.53365005 | J70: =1/(1+$E$8)^J69 -> 0.45611115
B72: =B58 -> Cumulatieve incementele kasstromen | E72: =E58 -> -1502.5 | F72: =F58 -> -942.5 | G72: =G58 -> -357.5 | H72: =H58 -> 212.5 | I72: =I58 -> 782.5 | J72: =J58 -> 1692.5
B73: Jaar-deel in TVT jaar | F73: =IF(AND(SIGN(OFFSET(F72,0,-1))=-1,SIGN(F72)>-1),-OFFSET(F72,0,-1)/(-OFFSET(F72,0,-1)+F72),0) -> 0 | G73: =IF(AND(SIGN(OFFSET(G72,0,-1))=-1,SIGN(G72)>-1),-OFFSET(G72,0,-1)/(-OFFSET(G72,0,-1)+G72),0) -> 0 | H73: =IF(AND(SIGN(OFFSET(H72,0,-1))=-1,SIGN(H72)>-1),-OFFSET(H72,0,-1)/(-OFFSET(H72,0,-1)+H72),0) -> 0.62719298 | I73: =IF(AND(SIGN(OFFSET(I72,0,-1))=-1,SIGN(I72)>-1),-OFFSET(I72,0,-1)/(-OFFSET(I72,0,-1)+I72),0) -> 0 | J73: =IF(AND(SIGN(OFFSET(J72,0,-1))=-1,SIGN(J72)>-1),-OFFSET(J72,0,-1)/(-OFFSET(J72,0,-1)+J72),0) -> 0
B74: Totale positieve kasstroom? | E74: =IF(J72<0,"nee","ja") -> ja
B75: TVT gehele jaren | E75: =IF(E74="ja",COUNTIF(E72:J72,"<0"),"nvt") -> 3
B76: Jaar-deel in TVT jaar | E76: =INDEX(F73:J73,E75) -> 0.62719298
B77: TVT | E77: =IFERROR(E75-1+E76,"nvt") -> 2.627193
B79: =B60 -> Cumulatieve CW | E79: =E60 -> -1502.5 | F79: =F60 -> -1023.8675 | G79: =G60 -> -596.51709 | H79: =H60 -> -240.62588 | I79: =I60 -> 63.554651 | J79: =J60 -> 478.6158
B80: Jaar-deel in TVT jaar | F80: =IF(AND(SIGN(OFFSET(F79,0,-1))=-1,SIGN(F79)>-1),-OFFSET(F79,0,-1)/(-OFFSET(F79,0,-1)+F79),0) -> 0 | G80: =IF(AND(SIGN(OFFSET(G79,0,-1))=-1,SIGN(G79)>-1),-OFFSET(G79,0,-1)/(-OFFSET(G79,0,-1)+G79),0) -> 0 | H80: =IF(AND(SIGN(OFFSET(H79,0,-1))=-1,SIGN(H79)>-1),-OFFSET(H79,0,-1)/(-OFFSET(H79,0,-1)+H79),0) -> 0 | I80: =IF(AND(SIGN(OFFSET(I79,0,-1))=-1,SIGN(I79)>-1),-OFFSET(I79,0,-1)/(-OFFSET(I79,0,-1)+I79),0) -> 0.79106272 | J80: =IF(AND(SIGN(OFFSET(J79,0,-1))=-1,SIGN(J79)>-1),-OFFSET(J79,0,-1)/(-OFFSET(J79,0,-1)+J79),0) -> 0
B81: Totale positieve kasstroom? | E81: =IF(J79<0,"nee","ja") -> ja
B82: TVT gehele jaren | E82: =IF(E81="ja",COUNTIF(E79:J79,"<0"),"nvt") -> 4
B83: Jaar-deel in TVT jaar | E83: =INDEX(F80:J80,E82) -> 0.79106272
B84: TVT CW | E84: =IFERROR(E82-1+E83,"nvt") -> 3.7910627
B86: Check NPV formuler excel
B87: NPV formule | E87: =NPV(E8,F56:J56)+E56 -> 478.6158
B88: NPV berekend | E88: =E62 -> 478.6158
B89: Check NPV berekend = NPV formule | E89: =ROUND(E87,2)=ROUND(E88,2) -> TRUE
B92: Hulpberekeningen afschrijvingen | E92: =E19 -> 2026 | F92: =F19 -> 2027 | G92: =G19 -> 2028 | H92: =H19 -> 2029 | I92: =I19 -> 2030 | J92: =J19 -> 2031
B94: Investering en restwaarde | C94: =SUM(E94:J94) -> -1200 | E94: =E51 -> -1500 | J94: =J52 -> 300
B95: Aantal afschrijvingsjaren | C95: =J92-E92 -> 5 | L95: Aanname: investering wordt gelijkmatig over lopende jaren afgeschreven
B96: Afschrijving per jaar | C96: =C94/C95 -> -240 | F96: =$C96 -> -240 | G96: =$C96 -> -240 | H96: =$C96 -> -240 | I96: =$C96 -> -240 | J96: =$C96 -> -240
B97: Cumulatieve afschrijvingen | F97: =F96 -> -240 | G97: =G96+OFFSET(G97,0,-1) -> -480 | H97: =H96+OFFSET(H97,0,-1) -> -720 | I97: =I96+OFFSET(I97,0,-1) -> -960 | J97: =J96+OFFSET(J97,0,-1) -> -1200
B98: Boekwaarde investering | F98: =$E94-F97 -> -1260 | G98: =$E94-G97 -> -1020 | H98: =$E94-H97 -> -780 | I98: =$E94-I97 -> -540 | J98: =$E94-J97 -> -300
B99: Boekwaarde -/- restwaarde | F99: =$C94-F97 -> -960 | G99: =$C94-G97 -> -720 | H99: =$C94-H97 -> -480 | I99: =$C94-I97 -> -240 | J99: =$C94-J97 -> 0
B100: Check | J100: =J99 -> 0 | L100: Boekwaarde -/- restwaarde moet nul zijn aan einde looptijd
B102: Werkelijke afschrijvingen | F102: =F30 -> -240 | G102: =G30 -> -240 | H102: =H30 -> -240 | I102: =I30 -> -240 | J102: =J30 -> -240 | L102: Relevant voor indien afschrijvingen handmatig zijn overschreven, om belasting effect op verkoopresultaat te berekenen
B103: Werkelijke cum afschrijvingen | F103: =F102 -> -240 | G103: =G102+OFFSET(G103,0,-1) -> -480 | H103: =H102+OFFSET(H103,0,-1) -> -720 | I103: =I102+OFFSET(I103,0,-1) -> -960 | J103: =J102+OFFSET(J103,0,-1) -> -1200
B104: Werkelijke boekwaarde | F104: =$E94-F103 -> -1260 | G104: =$E94-G103 -> -1020 | H104: =$E94-H103 -> -780 | I104: =$E94-I103 -> -540 | J104: =$E94-J103 -> -300
B105: Restwaarde/verkoopwaarde | J105: =J94 -> 300
B106: Verkoopresultaat | J106: =SUM(J104:J105) -> 0
B108: Hulpberekeningen Scenario | E108: =E19 -> 2026 | F108: =F19 -> 2027 | G108: =G19 -> 2028 | H108: =H19 -> 2029 | I108: =I19 -> 2030 | J108: =J19 -> 2031
B110: Totale opbrengsten scenario | C110: =Dashboard!H10 -> 5000 | L110: Kopie dashboard
B111: Aantal jaren | C111: =COUNT(E108:J108)-1 -> 5
B112: Opbrenst scenario per jaar | C112: =C110/C111 -> 1000 | F112: =$C112 -> 1000 | G112: =$C112 -> 1000 | H112: =$C112 -> 1000 | I112: =$C112 -> 1000 | J112: =$C112 -> 1000

Sheet Scenario Sensivity
B2: Scenario Basis Sensitivity - geen invoer | J2: KnowYourFinance ©
B4: Bedragen in EUR x 1.000
B5: Algemeen
B7: Startjaar; jaarnummer = 0 (einde jaar startinvestering) | E7: ='Invoer Scenario Basis'!E7 -> 2026
B8: Disconteringsvoet | E8: ='Invoer Scenario Basis'!E8*(1+$C110) -> 0.1 | I8: Kopie en invoegen extra jaren | L8: Sensitivity analysis berekening
B9: Aantal afschrijvingsjaren | E9: =J11-E11 -> 5
B11: Oude investering (vervanging) | E11: =E19 -> 2026 | F11: =F19 -> 2027 | G11: =G19 -> 2028 | H11: =H19 -> 2029 | I11: =I19 -> 2030 | J11: =J19 -> 2031
B13: Afschrijvingslasten vervangde investering | F13: ='Invoer Scenario Basis'!F13 -> -60 | G13: ='Invoer Scenario Basis'!G13 -> -60 | H13: ='Invoer Scenario Basis'!H13 -> -60 | I13: ='Invoer Scenario Basis'!I13 -> -60 | J13: ='Invoer Scenario Basis'!J13 -> -60 | L13: Afschrijvingslasten oorspronkelijke investering die vervangen gaat worden met nieuwe investering. Invoer met min teken
B14: Verkoopopbrengst laatste jaar | J14: ='Invoer Scenario Basis'!J14 -> 50 | L14: Inschatting verkoopopbrengst einde projecttijd (laatste jaar), indien van toepassing (scenario dat investering niet vervangen wordt). Invoer + voor positieve opbrengst; -/- voor negatieve opbrengst
B15: Verkoopresultaat laatste jaar | J15: ='Invoer Scenario Basis'!J15 -> 10 | L15: Inschatting verkoopresultaat (=verkoopopbrengst -/- boekwaarde) einde projecttijd, indien van toepassing. Invoer + voor positief resultaat; -/- voor negatief resultaat
B16: Verkoopopbrengst jaar nul | E16: ='Invoer Scenario Basis'!E16 -> 450 | L16: Inschatting verkoopopbrengst jaar 0; = investeringsjaar nieuwe investering (scenario dat investering vervangen wordt). Invoer + voor positieve opbrengst
B17: Verkoopresultaat jaar nul | E17: ='Invoer Scenario Basis'!E17 -> 150 | L17: Inschatting verkoopresultaat jaar 0; Invoer + voor positief resultaat; -/- voor negatief resultaat
B19: Incrementele opbrengsten en kosten | E19: =E7 -> 2026 | F19: =$E19+COLUMN()-COLUMN($E19) -> 2027 | G19: =$E19+COLUMN()-COLUMN($E19) -> 2028 | H19: =$E19+COLUMN()-COLUMN($E19) -> 2029 | I19: =$E19+COLUMN()-COLUMN($E19) -> 2030 | J19: =$E19+COLUMN()-COLUMN($E19) -> 2031
B21: Incrementele opbrengsten | F21: ='Invoer Scenario Basis'!F21*(1+$C$113) -> 1225 | G21: ='Invoer Scenario Basis'!G21*(1+$C$113) -> 1225 | H21: ='Invoer Scenario Basis'!H21*(1+$C$113) -> 1225 | I21: ='Invoer Scenario Basis'!I21*(1+$C$113) -> 1225 | J21: ='Invoer Scenario Basis'!J21*(1+$C$113) -> 1225 | L21: Sensitivity analysis berekening
B23: Kostprijs verkopen % | C23: ='Invoer Scenario Basis'!C23*(1+$C114) -> -0.25 | F23: =$C23*F21 -> -306.25 | G23: =$C23*G21 -> -306.25 | H23: =$C23*H21 -> -306.25 | I23: =$C23*I21 -> -306.25 | J23: =$C23*J21 -> -306.25 | L23: Sensitivity analysis berekening
B24: Kostprijs handmatig/incidenteel | F24: ='Invoer Scenario Basis'!F24 -> 0 | G24: ='Invoer Scenario Basis'!G24 -> 0 | H24: ='Invoer Scenario Basis'!H24 -> 0 | I24: ='Invoer Scenario Basis'!I24 -> 0 | J24: ='Invoer Scenario Basis'!J24 -> 50
B25: Incrementele kostprijs | F25: =SUM(F23:F24) -> -306.25 | G25: =SUM(G23:G24) -> -306.25 | H25: =SUM(H23:H24) -> -306.25 | I25: =SUM(I23:I24) -> -306.25 | J25: =SUM(J23:J24) -> -256.25
B27: Variabele overige bedrijfskosten | C27: ='Invoer Scenario Basis'!C27 -> -0.05 | F27: =$C27*F21 -> -61.25 | G27: =$C27*G21 -> -61.25 | H27: =$C27*H21 -> -61.25 | I27: =$C27*I21 -> -61.25 | J27: =$C27*J21 -> -61.25
B28: Bedrijfskn handmatig/incidenteel | F28: ='Invoer Scenario Basis'!F28 -> 0 | G28: ='Invoer Scenario Basis'!G28 -> 20 | H28: ='Invoer Scenario Basis'!H28 -> 0 | I28: ='Invoer Scenario Basis'!I28 -> 0 | J28: ='Invoer Scenario Basis'!J28 -> 0
B29: Initiële projectkosten (niet activeerbaar) | E29: ='Invoer Scenario Basis'!E29 -> -500 | F29: ='Invoer Scenario Basis'!F29 -> 0 | G29: ='Invoer Scenario Basis'!G29 -> 0 | H29: ='Invoer Scenario Basis'!H29 -> 0 | I29: ='Invoer Scenario Basis'!I29 -> 0 | J29: ='Invoer Scenario Basis'!J29 -> 0
B30: Afschrijvingskosten nieuwe investering | F30: =F96 -> -240 | G30: =G96 -> -240 | H30: =H96 -> -240 | I30: =I96 -> -240 | J30: =J96 -> -240 | L30: Afschrijvingslasten gerelateerd aan nieuwe investeringsuitgaven en restwaarde. Kan handmatig overschreven worden
B31: Afschrijvingskosten oude investering (+) | F31: =-F13 -> 60 | G31: =-G13 -> 60 | H31: =-H13 -> 60 | I31: =-I13 -> 60 | J31: =-J13 -> 60 | L31: ="Kopie regel "&ROW(L13)&". Positieve niet gerealiseserde afschrijvingslasten oude investering" -> Kopie regel 13. Positieve niet gerealiseserde afschrijvingslasten oude investering
B32: Incrementele overige bedrijfskosten | E32: =SUM(E27:E31) -> -500 | F32: =SUM(F27:F31) -> -241.25 | G32: =SUM(G27:G31) -> -221.25 | H32: =SUM(H27:H31) -> -241.25 | I32: =SUM(I27:I31) -> -241.25 | J32: =SUM(J27:J31) -> -241.25
B34: Verkoopresultaat nieuwe investering | J34: =J106 -> 0
B35: Verkoopresultaat oude investering jaar 0 | E35: =E17 -> 150 | L35: ="Kopie regel "&ROW(L17)&". Verkoopresultaat oude investering jaat 0 (= inschatting verkoopopbrengst -/- boekwaarde jaar 0)" -> Kopie regel 17. Verkoopresultaat oude investering jaat 0 (= inschatting verkoopopbrengst -/- boekwaarde jaar 0)
B36: Verkoopresultaat oude investering laatste jaar | J36: =-J15 -> -10 | L36: ="Kopie regel "&ROW(L15)&". Verkoopresultaat oude investering laatste jaar (= inschatting verkoopopbrengst -/- boekwaarde)" -> Kopie regel 15. Verkoopresultaat oude investering laatste jaar (= inschatting verkoopopbrengst -/- boekwaarde)
B38: Operationeel resultaat | E38: =E21+E25+SUM(E32:E37) -> -350 | F38: =F21+F25+SUM(F32:F37) -> 677.5 | G38: =G21+G25+SUM(G32:G37) -> 697.5 | H38: =H21+H25+SUM(H32:H37) -> 677.5 | I38: =I21+I25+SUM(I32:I37) -> 677.5 | J38: =J21+J25+SUM(J32:J37) -> 717.5
B40: Belastingen | C40: ='Invoer Scenario Basis'!C40 -> -0.25 | E40: =$C40*E38 -> 87.5 | F40: =$C40*F38 -> -169.375 | G40: =$C40*G38 -> -174.375 | H40: =$C40*H38 -> -169.375 | I40: =$C40*I38 -> -169.375 | J40: =$C40*J38 -> -179.375
B41: Nettoresultaat | E41: =SUM(E38:E40) -> -262.5 | F41: =SUM(F38:F40) -> 508.125 | G41: =SUM(G38:G40) -> 523.125 | H41: =SUM(H38:H40) -> 508.125 | I41: =SUM(I38:I40) -> 508.125 | J41: =SUM(J38:J40) -> 538.125
B43: Incrementele kasstromen | E43: =E19 -> 2026 | F43: =F19 -> 2027 | G43: =G19 -> 2028 | H43: =H19 -> 2029 | I43: =I19 -> 2030 | J43: =J19 -> 2031
B45: Nettoresultaat | E45: =E41 -> -262.5 | F45: =F41 -> 508.125 | G45: =G41 -> 523.125 | H45: =H41 -> 508.125 | I45: =I41 -> 508.125 | J45: =J41 -> 538.125
B47: Correctie afschrijvingskosten | F47: =-F30-F31 -> 180 | G47: =-G30-G31 -> 180 | H47: =-H30-H31 -> 180 | I47: =-I30-I31 -> 180 | J47: =-J30-J31 -> 180 | L47: Correctie afschrijvingskosten, want geen kasstroom
B48: Correctie verkoopresultaat | E48: =-SUM(E34:E36) -> -150 | F48: =-SUM(F34:F36) -> 0 | G48: =-SUM(G34:G36) -> 0 | H48: =-SUM(H34:H36) -> 0 | I48: =-SUM(I34:I36) -> 0 | J48: =-SUM(J34:J36) -> 10 | L48: Correctie verkoopresultaat, want geen kasstroom
B49: Toe/afname werkapitaal | E49: ='Invoer Scenario Basis'!E49 -> -40 | F49: ='Invoer Scenario Basis'!F49 -> -10 | G49: ='Invoer Scenario Basis'!G49 -> 0 | H49: ='Invoer Scenario Basis'!H49 -> 0 | I49: ='Invoer Scenario Basis'!I49 -> 0 | J49: ='Invoer Scenario Basis'!J49 -> 50
B51: Nieuwe investeringsuitgaven | E51: ='Invoer Scenario Basis'!E51*(1+$C111) -> -1500 | L51: Sensitivity analysis berekening
B52: Restwaarde/verkoopopbrengst nieuwe investering | J52: ='Invoer Scenario Basis'!J52*(1+$C112) -> 300 | L52: Sensitivity analysis berekening
B53: Verkoopopbrengst oude investering jaar 0 | E53: =E16 -> 450 | L53: ="Kopie regel "&ROW(L16)&". Verkoopopbrengst oude investering jaar 0 als gevolg van nieuwe investering" -> Kopie regel 16. Verkoopopbrengst oude investering jaar 0 als gevolg van nieuwe investering
B54: Verkoopopbrengst oude investering laatste jaar | J54: =-J14 -> -50 | L54: ="Kopie regel "&ROW(L14)&". Restwaarde/verkoopopbrengst van oude investering die niet gerealiseerd wordt als gevolg van aanschaf nieuwe investering (en verkoop oude investering op tijdstip 0)" -> Kopie regel 14. Restwaarde/verkoopopbrengst van oude investering die niet gerealiseerd wordt als gevolg van aanschaf nieuwe investering (en verkoop oude investering op tijdstip 0)
B56: Totaal incrementele kasstromen | E56: =SUM(E45:E55) -> -1502.5 | F56: =SUM(F45:F55) -> 678.125 | G56: =SUM(G45:G55) -> 703.125 | H56: =SUM(H45:H55) -> 688.125 | I56: =SUM(I45:I55) -> 688.125 | J56: =SUM(J45:J55) -> 1028.125
B58: Cumulatieve incementele kasstromen | E58: =E56 -> -1502.5 | F58: =F56+OFFSET(F58,0,-1) -> -824.375 | G58: =G56+OFFSET(G58,0,-1) -> -121.25 | H58: =H56+OFFSET(H58,0,-1) -> 566.875 | I58: =I56+OFFSET(I58,0,-1) -> 1255 | J58: =J56+OFFSET(J58,0,-1) -> 2283.125
B59: Contante waarde per jaar | E59: =E56*E70 -> -1502.5 | F59: =F56*F70 -> 616.47727 | G59: =G56*G70 -> 581.09504 | H59: =H56*H70 -> 516.9985 | I59: =I56*I70 -> 469.99863 | J59: =J56*J70 -> 638.38474
B60: Cumulatieve CW | E60: =E59 -> -1502.5 | F60: =F59+OFFSET(F60,0,-1) -> -886.02273 | G60: =G59+OFFSET(G60,0,-1) -> -304.92769 | H60: =H59+OFFSET(H60,0,-1) -> 212.07081 | I60: =I59+OFFSET(I60,0,-1) -> 682.06945 | J60: =J59+OFFSET(J60,0,-1) -> 1320.4542
B62: Netto Contante Waarde (NCW) | E62: =SUM(E59:J59) -> 1320.4542
B63: Terugverdientijd (TVT) | E63: =E77 -> 2.1762035
B64: Terugverdientijd CW | E64: =E84 -> 2.5898038
B65: IRR | E65: =IRR(E56:J56) -> 0.38552967
B67: Hulpberekeningen indicatoren | E67: =E19 -> 2026 | F67: =F19 -> 2027 | G67: =G19 -> 2028 | H67: =H19 -> 2029 | I67: =I19 -> 2030 | J67: =J19 -> 2031
B69: Jaarnummer | E69: =E67-$E67 -> 0 | F69: =F67-$E67 -> 1 | G69: =G67-$E67 -> 2 | H69: =H67-$E67 -> 3 | I69: =I67-$E67 -> 4 | J69: =J67-$E67 -> 5
B70: Contante waarde factor | E70: =1/(1+$E$8)^E69 -> 1 | F70: =1/(1+$E$8)^F69 -> 0.90909091 | G70: =1/(1+$E$8)^G69 -> 0.82644628 | H70: =1/(1+$E$8)^H69 -> 0.7513148 | I70: =1/(1+$E$8)^I69 -> 0.68301346 | J70: =1/(1+$E$8)^J69 -> 0.62092132
B72: =B58 -> Cumulatieve incementele kasstromen | E72: =E58 -> -1502.5 | F72: =F58 -> -824.375 | G72: =G58 -> -121.25 | H72: =H58 -> 566.875 | I72: =I58 -> 1255 | J72: =J58 -> 2283.125
B73: Jaar-deel in TVT jaar | F73: =IF(AND(SIGN(OFFSET(F72,0,-1))=-1,SIGN(F72)>-1),-OFFSET(F72,0,-1)/(-OFFSET(F72,0,-1)+F72),0) -> 0 | G73: =IF(AND(SIGN(OFFSET(G72,0,-1))=-1,SIGN(G72)>-1),-OFFSET(G72,0,-1)/(-OFFSET(G72,0,-1)+G72),0) -> 0 | H73: =IF(AND(SIGN(OFFSET(H72,0,-1))=-1,SIGN(H72)>-1),-OFFSET(H72,0,-1)/(-OFFSET(H72,0,-1)+H72),0) -> 0.17620345 | I73: =IF(AND(SIGN(OFFSET(I72,0,-1))=-1,SIGN(I72)>-1),-OFFSET(I72,0,-1)/(-OFFSET(I72,0,-1)+I72),0) -> 0 | J73: =IF(AND(SIGN(OFFSET(J72,0,-1))=-1,SIGN(J72)>-1),-OFFSET(J72,0,-1)/(-OFFSET(J72,0,-1)+J72),0) -> 0
B74: Totale positieve kasstroom? | E74: =IF(J72<0,"nee","ja") -> ja
B75: TVT gehele jaren | E75: =IF(E74="ja",COUNTIF(E72:J72,"<0"),"nvt") -> 3
B76: Jaar-deel in TVT jaar | E76: =INDEX(F73:J73,E75) -> 0.17620345
B77: TVT | E77: =IFERROR(E75-1+E76,"nvt") -> 2.1762035
B79: =B60 -> Cumulatieve CW | E79: =E60 -> -1502.5 | F79: =F60 -> -886.02273 | G79: =G60 -> -304.92769 | H79: =H60 -> 212.07081 | I79: =I60 -> 682.06945 | J79: =J60 -> 1320.4542
B80: Jaar-deel in TVT jaar | F80: =IF(AND(SIGN(OFFSET(F79,0,-1))=-1,SIGN(F79)>-1),-OFFSET(F79,0,-1)/(-OFFSET(F79,0,-1)+F79),0) -> 0 | G80: =IF(AND(SIGN(OFFSET(G79,0,-1))=-1,SIGN(G79)>-1),-OFFSET(G79,0,-1)/(-OFFSET(G79,0,-1)+G79),0) -> 0 | H80: =IF(AND(SIGN(OFFSET(H79,0,-1))=-1,SIGN(H79)>-1),-OFFSET(H79,0,-1)/(-OFFSET(H79,0,-1)+H79),0) -> 0.58980381 | I80: =IF(AND(SIGN(OFFSET(I79,0,-1))=-1,SIGN(I79)>-1),-OFFSET(I79,0,-1)/(-OFFSET(I79,0,-1)+I79),0) -> 0 | J80: =IF(AND(SIGN(OFFSET(J79,0,-1))=-1,SIGN(J79)>-1),-OFFSET(J79,0,-1)/(-OFFSET(J79,0,-1)+J79),0) -> 0
B81: Totale positieve kasstroom? | E81: =IF(J79<0,"nee","ja") -> ja
B82: TVT gehele jaren | E82: =IF(E81="ja",COUNTIF(E79:J79,"<0"),"nvt") -> 3
B83: Jaar-deel in TVT jaar | E83: =INDEX(F80:J80,E82) -> 0.58980381
B84: TVT CW | E84: =IFERROR(E82-1+E83,"nvt") -> 2.5898038
B86: Check NPV formuler excel
B87: NPV formule | E87: =NPV(E8,F56:J56)+E56 -> 1320.4542
B88: NPV berekend | E88: =E62 -> 1320.4542
B89: Check NPV berekend = NPV formule | E89: =ROUND(E87,2)=ROUND(E88,2) -> TRUE
B92: Hulpberekeningen afschrijvingen | E92: =E19 -> 2026 | F92: =F19 -> 2027 | G92: =G19 -> 2028 | H92: =H19 -> 2029 | I92: =I19 -> 2030 | J92: =J19 -> 2031
B94: Investering en restwaarde | C94: =SUM(E94:J94) -> -1200 | E94: =E51 -> -1500 | J94: =J52 -> 300
B95: Aantal afschrijvingsjaren | C95: =J92-E92 -> 5
B96: Afschrijving per jaar | C96: =C94/C95 -> -240 | F96: =$C96 -> -240 | G96: =$C96 -> -240 | H96: =$C96 -> -240 | I96: =$C96 -> -240 | J96: =$C96 -> -240
B97: Cumulatieve afschrijvingen | F97: =F96 -> -240 | G97: =G96+OFFSET(G97,0,-1) -> -480 | H97: =H96+OFFSET(H97,0,-1) -> -720 | I97: =I96+OFFSET(I97,0,-1) -> -960 | J97: =J96+OFFSET(J97,0,-1) -> -1200
B98: Boekwaarde investering | F98: =$E94-F97 -> -1260 | G98: =$E94-G97 -> -1020 | H98: =$E94-H97 -> -780 | I98: =$E94-I97 -> -540 | J98: =$E94-J97 -> -300
B99: Boekwaarde -/- restwaarde | F99: =$C94-F97 -> -960 | G99: =$C94-G97 -> -720 | H99: =$C94-H97 -> -480 | I99: =$C94-I97 -> -240 | J99: =$C94-J97 -> 0
B100: Check | J100: =J99 -> 0 | L100: Boekwaarde -/- restwaarde moet nul zijn aan einde looptijd
B102: Werkelijke afschrijvingen | F102: =F30 -> -240 | G102: =G30 -> -240 | H102: =H30 -> -240 | I102: =I30 -> -240 | J102: =J30 -> -240 | L102: Relevant voor indien afschrijvingen handmatig zijn overschreven, om belasting effect op verkoopresultaat te berekenen
B103: Werkelijke cum afschrijvingen | F103: =F102 -> -240 | G103: =G102+OFFSET(G103,0,-1) -> -480 | H103: =H102+OFFSET(H103,0,-1) -> -720 | I103: =I102+OFFSET(I103,0,-1) -> -960 | J103: =J102+OFFSET(J103,0,-1) -> -1200
B104: Werkelijke boekwaarde | F104: =$E94-F103 -> -1260 | G104: =$E94-G103 -> -1020 | H104: =$E94-H103 -> -780 | I104: =$E94-I103 -> -540 | J104: =$E94-J103 -> -300
B105: Restwaarde/verkoopwaarde | J105: =J94 -> 300
B106: Verkoopresultaat | J106: =SUM(J104:J105) -> 0
B108: Hulp sensitivity %
B110: Disc voet change | C110: =Dashboard!AV4 -> 0
B111: Investering change | C111: =Dashboard!AY4 -> 0
B112: Restwaarde change | C112: =Dashboard!BB4 -> 0
B113: Opbrengsten change | C113: =Dashboard!BE4 -> 0
B114: Kostprijs change | C114: =Dashboard!BH4 -> 0
